BEGIN:VCALENDAR
VERSION:2.0
PRODID:-//Hardloopevenementen - ECPv6.15.14//NONSGML v1.0//EN
CALSCALE:GREGORIAN
METHOD:PUBLISH
X-WR-CALNAME:Hardloopevenementen
X-ORIGINAL-URL:https://hardloopevenementen.com
X-WR-CALDESC:Evenementen voor Hardloopevenementen
REFRESH-INTERVAL;VALUE=DURATION:PT1H
X-Robots-Tag:noindex
X-PUBLISHED-TTL:PT1H
BEGIN:VTIMEZONE
TZID:UTC
BEGIN:STANDARD
TZOFFSETFROM:+0000
TZOFFSETTO:+0000
TZNAME:UTC
DTSTART:20080101T000000
END:STANDARD
END:VTIMEZONE
BEGIN:VEVENT
DTSTART;VALUE=DATE:20191006
DTEND;VALUE=DATE:20191007
DTSTAMP:20260423T141248
CREATED:20171006T130537Z
LAST-MODIFIED:20191114T112428Z
UID:142584-1570320000-1570320000@hardloopevenementen.com
SUMMARY:LAAK RUN 's-Gravenhage\, gemeente Den Haag (ZH)
DESCRIPTION:Doe mee met het hardloopevenement LAAK RUN te ‘s-Gravenhage\, gemeente Den Haag (ZH) op zo 06 okt 2019. De volgende afstanden staan op het programma: 1 km – 3\,4 km – 6\,4 km hardlopen. Wilt u inschrijven voor dit loopevenement?  Raadpleeg hiervoor dan de website van de organisatie\nDe uitslagen van deze hardloopwedstrijd zijn te raadplegen via dezelfde website of via de bekende websites zoals uitslagen.nl\, runtimer en mylaps. Doet u mee met dit evenement\, zorg dan dat u goed voorbereid aan de start staat! Met een goed trainingsschema komt u een heel eind. Train bijvoorbeeld met start to run van Evy Gruyaert. Download de start to run mp3 bestanden en zet ze op uw telefoon. Oortjes in\, hit the play button en en rennen maar! \n\n\n\n\nMeer informatie over LAAK RUN op Hardloopkalender.nl  \n  \n  \n 
URL:https://hardloopevenementen.com/loopagenda/laak-run-s-gravenhage-gemeente-den-haag-zh/
END:VEVENT
BEGIN:VEVENT
DTSTART;VALUE=DATE:20190908
DTEND;VALUE=DATE:20190909
DTSTAMP:20260423T141248
CREATED:20150630T101157Z
LAST-MODIFIED:20191114T112456Z
UID:142404-1567900800-1567900800@hardloopevenementen.com
SUMMARY:Parkrun Den Bosch 's-Hertogenbosch (NB)
DESCRIPTION:Doe mee met het hardloopevenement Parkrun Den Bosch te ‘s-Hertogenbosch (NB) op zo 08 sep 2019. De volgende afstanden staan op het programma: 1\,7 km – 3\,4 km – 5\,1 km – 6\,8 km – 8\,5 km hardlopen. Wilt u inschrijven voor dit loopevenement?  Raadpleeg hiervoor dan de website van de organisatie\nDe uitslagen van deze hardloopwedstrijd zijn te raadplegen via dezelfde website of via de bekende websites zoals uitslagen.nl\, runtimer en mylaps. Doet u mee met dit evenement\, zorg dan dat u goed voorbereid aan de start staat! Met een goed trainingsschema komt u een heel eind. Train bijvoorbeeld met start to run van Evy Gruyaert. Download de start to run mp3 bestanden en zet ze op uw telefoon. Oortjes in\, hit the play button en en rennen maar! \n\n\n\n\nMeer informatie over Parkrun Den Bosch op Hardloopkalender.nl  \nZondag 8 september 2019 is het weer zo ver! Dan organiseren de Running Junkies Den Bosch i.s.m. Run2Day de PARKRUN.    De PARKRUN is een laagdrempelig hardloopevenement voor jong en oud en geschikt voor alle niveaus\, want je bepaalt zelf hoeveel rondjes je loopt. Een rondje rond de IJzeren Vrouw is 1\,7 km en naar keuze kunnen er maximaal 5 rondjes gelopen worden\, 5 rondjes is 8\,5 km. Voor de jongste kinderen (t m 10 jaar) is er een kidsrun van ongeveer 790 m.    Kosten en inschrijven:  PARKRUN voorinschrijving: 3\,-  PARKRUN inschrijving ter plaatse: 4\,-  KIDSRUN (t m 10 jaar): GRATIS  Inschrijven via inschrijven.nl:   https:  inschrijven.nl form 2019090850213-nl    Programma:  Inschrijven vanaf 10.00 uur  Start Kidsrun: 10.30 uur  Start Parkrun: 11.00 uur \n  \n  \n 
URL:https://hardloopevenementen.com/loopagenda/parkrun-den-bosch-s-hertogenbosch-nb/
END:VEVENT
BEGIN:VEVENT
DTSTART;VALUE=DATE:20130915
DTEND;VALUE=DATE:20130916
DTSTAMP:20260423T141248
CREATED:20110704T160212Z
LAST-MODIFIED:20190423T104002Z
UID:31114-1379203200-1379203200@hardloopevenementen.com
SUMMARY:Park Run Den Bosch 's-Hertogenbosch (NB)
DESCRIPTION:Doe mee met het hardloopevenement Park Run Den Bosch te ‘s-Hertogenbosch (NB) op zo 15 sep 2013. De volgende afstanden staan op het programma: 1\,7 km – 3\,4 km – 5\,1 km – 6\,8 km – 8\,5 km hardlopen. Wilt u inschrijven voor dit loopevenement?  Raadpleeg hiervoor dan de website van de organisatie\nDe uitslagen van deze hardloopwedstrijd zijn te raadplegen via dezelfde website of via de bekende websites zoals uitslagen.nl\, runtimer en mylaps. Doet u mee met dit evenement\, zorg dan dat u goed voorbereid aan de start staat! Met een goed trainingsschema komt u een heel eind. Train bijvoorbeeld met start to run van Evy Gruyaert. Download de start to run mp3 bestanden en zet ze op uw telefoon. Oortjes in\, hit the play button en en rennen maar! \n\n\n\n\nMeer informatie over Park Run Den Bosch op Hardloopkalender.nl  \nIn het Prins Hendrik Park\, bij de IJzeren Vrouw\, zijn altijd wel hardlopers te vinden. Van s morgens vroeg tot s avonds laat. Doordeweeks en in het weekend.  Mannen en vrouwen. Jongeren en ouderen. En kinderen die op speelse wijze in het park rennen.  Reden genoeg voor een officiéle run in dit mooie stukje Den Bosch!  De eerste Park Run wordt gehouden op zondag 15 september.  Iedereen is welkom: de Park Run is een toegankelijk evenement\, geschikt voor alle niveaus\, want je bepaalt zelf hoeveel rondes je loopt!   Een rondje rond het water is 1\,7 km. en je loopt naar keuze 1\,2\,3\,4 of 5 rondes. Voor kinderen is er een korte afstand.  Er wordt natuurlijk niet alleen maar gerend. Je kan meedoen aan een workshop van Den Bosch bootcamp\,  de auteurs van Den Bosch Rent verkopen hun boek met hardlooproutes in en rond Den Bosch en kinderen kunnen gratis geschminckt worden.  Park Run wordt georganiseerd door de Running Junkies in samenwerking met Run2Day  Even op een rijtje:  Recreatieve Run  1-2-3-4 of 5 rondes van 1\,7 km  Start: 11:00 uur  Inschrijven (a 3) vanaf 10:00 uur    Kidsrun  Inschrijven (gratis en met goodiebag na afloop) vanaf 10:00 uur  Start: 10:30 uur  Sportdrank en startnummer inbegrepen.  Aansluitend een prijsuitreiking \n  \n  \n 
URL:https://hardloopevenementen.com/loopagenda/park-run-den-bosch-s-hertogenbosch-nb/
END:VEVENT
BEGIN:VEVENT
DTSTART;VALUE=DATE:20101212
DTEND;VALUE=DATE:20101213
DTSTAMP:20260423T141248
CREATED:20180417T082559Z
LAST-MODIFIED:20190423T100552Z
UID:3093-1292112000-1292112000@hardloopevenementen.com
SUMMARY:Engelermeercross 's-Hertogenbosch (NB)
DESCRIPTION:Doe mee met het hardloopevenement Engelermeercross te ‘s-Hertogenbosch (NB) op zo 12 dec 2010. De volgende afstanden staan op het programma: 3\,4 km – 5\,1 km – 6\,9 km – 10\,3 km hardlopen. Wilt u inschrijven voor dit loopevenement?  Raadpleeg hiervoor dan de website van de organisatie\nDe uitslagen van deze hardloopwedstrijd zijn te raadplegen via dezelfde website of via de bekende websites zoals uitslagen.nl\, runtimer en mylaps. Doet u mee met dit evenement\, zorg dan dat u goed voorbereid aan de start staat! Met een goed trainingsschema komt u een heel eind. Train bijvoorbeeld met start to run van Evy Gruyaert. Download de start to run mp3 bestanden en zet ze op uw telefoon. Oortjes in\, hit the play button en en rennen maar! \n\n\n\n\nMeer informatie over Engelermeercross op Hardloopkalender.nl  \nO.S.S.-Volo organiseert op zondag 13 december 2009 de  13e Engelermeercross in het gelijknamige recreatiepark\,  gelegen tussen Vlijmen en s-Hertogenbosch.    Parcours  Het parcours is afwisselend. Het gaat over gras- en verharde paden afgewisseld met heuveltjes en stukken strand rond het Engelermeer.    Programma  – Trimloop 10.30 uur  – Mannen Senioren   Masters en Junioren vanaf 11:30 uur  – Vrouwen Senioren   Masters en Junioren vanaf 12:25 uur  – Pupillen vanaf 13:30 uur    Na-inschrijven tot een half uur voor de start van het desbetreffende programma onderdeel. Na-inschrijfgeld Eur 4\,00    Route  A59 Afslag Engelen\, vervolgens de gele bordjes O.S.S.-Volo volgen. Er is ruime parkeergelegenheid bij  het Engelermeer.    Adres  Meerheuvelweg\, 5221 TP ‘s-Hertogenbosch \n  \n  \n 
URL:https://hardloopevenementen.com/loopagenda/engelermeercross-s-hertogenbosch-nb-2/
END:VEVENT
BEGIN:VEVENT
DTSTART;VALUE=DATE:20091213
DTEND;VALUE=DATE:20091214
DTSTAMP:20260423T141248
CREATED:20120108T120234Z
LAST-MODIFIED:20190423T095635Z
UID:1323-1260662400-1260662400@hardloopevenementen.com
SUMMARY:Engelermeercross 's-Hertogenbosch (NB)
DESCRIPTION:Doe mee met het hardloopevenement Engelermeercross te ‘s-Hertogenbosch (NB) op zo 13 dec 2009. De volgende afstanden staan op het programma: 3\,4 km – 5\,1 km – 6\,9 km – 10\,3 km hardlopen. Wilt u inschrijven voor dit loopevenement?  Raadpleeg hiervoor dan de website van de organisatie\nDe uitslagen van deze hardloopwedstrijd zijn te raadplegen via dezelfde website of via de bekende websites zoals uitslagen.nl\, runtimer en mylaps. Doet u mee met dit evenement\, zorg dan dat u goed voorbereid aan de start staat! Met een goed trainingsschema komt u een heel eind. Train bijvoorbeeld met start to run van Evy Gruyaert. Download de start to run mp3 bestanden en zet ze op uw telefoon. Oortjes in\, hit the play button en en rennen maar! \n\n\n\n\nMeer informatie over Engelermeercross op Hardloopkalender.nl  \nO.S.S.-Volo organiseert op zondag 13 december 2009 de  13e Engelermeercross in het gelijknamige recreatiepark\,  gelegen tussen Vlijmen en s-Hertogenbosch.    Parcours  Het parcours is afwisselend. Het gaat over gras- en verharde paden afgewisseld met heuveltjes en stukken strand rond het Engelermeer.    Programma  – Trimloop 10.30 uur  – Mannen Senioren   Masters en Junioren vanaf 11:30 uur  – Vrouwen Senioren   Masters en Junioren vanaf 12:25 uur  – Pupillen vanaf 13:30 uur    Na-inschrijven tot een half uur voor de start van het desbetreffende programma onderdeel. Na-inschrijfgeld Eur 4\,00    Route  A59 Afslag Engelen\, vervolgens de gele bordjes O.S.S.-Volo volgen. Er is ruime parkeergelegenheid bij  het Engelermeer.    Adres  Meerheuvelweg\, 5221 TP ‘s-Hertogenbosch \n  \n  \n 
URL:https://hardloopevenementen.com/loopagenda/engelermeercross-s-hertogenbosch-nb/
END:VEVENT
END:VCALENDAR