BEGIN:VCALENDAR
VERSION:2.0
PRODID:-//Hardloopevenementen - ECPv6.15.14//NONSGML v1.0//EN
CALSCALE:GREGORIAN
METHOD:PUBLISH
X-WR-CALNAME:Hardloopevenementen
X-ORIGINAL-URL:https://hardloopevenementen.com
X-WR-CALDESC:Evenementen voor Hardloopevenementen
REFRESH-INTERVAL;VALUE=DURATION:PT1H
X-Robots-Tag:noindex
X-PUBLISHED-TTL:PT1H
BEGIN:VTIMEZONE
TZID:UTC
BEGIN:STANDARD
TZOFFSETFROM:+0000
TZOFFSETTO:+0000
TZNAME:UTC
DTSTART:20110101T000000
END:STANDARD
END:VTIMEZONE
BEGIN:VEVENT
DTSTART;VALUE=DATE:20201129
DTEND;VALUE=DATE:20201130
DTSTAMP:20260425T032738
CREATED:20130924T024438Z
LAST-MODIFIED:20200206T111207Z
UID:143445-1606608000-1606608000@hardloopevenementen.com
SUMMARY:37ste Pietenloop Bemmel\, gemeente Lingewaard (GE)
DESCRIPTION:Doe mee met het hardloopevenement 37ste Pietenloop te Bemmel\, gemeente Lingewaard (GE) op zo 29 nov 2020. De volgende afstanden staan op het programma: 0\,7 km – 1\,5 km – 5 km – 10 km hardlopen. Wilt u inschrijven voor dit loopevenement?  Raadpleeg hiervoor dan de website van de organisatie\nDe uitslagen van deze hardloopwedstrijd zijn te raadplegen via dezelfde website of via de bekende websites zoals uitslagen.nl\, runtimer en mylaps. Doet u mee met dit evenement\, zorg dan dat u goed voorbereid aan de start staat! Met een goed trainingsschema komt u een heel eind. Train bijvoorbeeld met start to run van Evy Gruyaert. Download de start to run mp3 bestanden en zet ze op uw telefoon. Oortjes in\, hit the play button en en rennen maar! \n\n\n\n\nMeer informatie over 37ste Pietenloop op Hardloopkalender.nl  \nStart vanaf 10.00 uur  De KidsRun en de 1\,5 km worden op Sportpark De Heister gelopen en de 5 en 10 km over één grote ronde door het buitengebied van Bemmel. Elke km is op het parcours aangegeven.  Inschrijven via www.inschrijven.nl \n  \n  \n 
URL:https://hardloopevenementen.com/loopagenda/37ste-pietenloop-bemmel-gemeente-lingewaard-ge/
END:VEVENT
BEGIN:VEVENT
DTSTART;VALUE=DATE:20161016
DTEND;VALUE=DATE:20161017
DTSTAMP:20260425T032738
CREATED:20140816T081605Z
LAST-MODIFIED:20190423T112123Z
UID:11727-1476576000-1476576000@hardloopevenementen.com
SUMMARY:37ste Decathlon Stadsloop Kerkrade Kerkrade (LI)
DESCRIPTION:Doe mee met het hardloopevenement 37ste Decathlon Stadsloop Kerkrade te Kerkrade (LI) op zo 16 okt 2016. De volgende afstanden staan op het programma: 1 km – 5 km – 10 km hardlopen. Wilt u inschrijven voor dit loopevenement?  Raadpleeg hiervoor dan de website van de organisatie\nDe uitslagen van deze hardloopwedstrijd zijn te raadplegen via dezelfde website of via de bekende websites zoals uitslagen.nl\, runtimer en mylaps. Doet u mee met dit evenement\, zorg dan dat u goed voorbereid aan de start staat! Met een goed trainingsschema komt u een heel eind. Train bijvoorbeeld met start to run van Evy Gruyaert. Download de start to run mp3 bestanden en zet ze op uw telefoon. Oortjes in\, hit the play button en en rennen maar! \n\n\n\n\nMeer informatie over 37ste Decathlon Stadsloop Kerkrade op Hardloopkalender.nl  \nHet loopevenement 37ste Decathlon Stadsloop Kerkrade te Kerkrade vindt plaats op zondag 16 oktober 2016. \n  \n  \n 
URL:https://hardloopevenementen.com/loopagenda/37ste-decathlon-stadsloop-kerkrade-kerkrade-li/
END:VEVENT
BEGIN:VEVENT
DTSTART;VALUE=DATE:20130127
DTEND;VALUE=DATE:20130128
DTSTAMP:20260425T032738
CREATED:20070902T150712Z
LAST-MODIFIED:20190423T104525Z
UID:32349-1359244800-1359244800@hardloopevenementen.com
SUMMARY:37ste Vlakwatercross Venray (LI)
DESCRIPTION:Doe mee met het hardloopevenement 37ste Vlakwatercross te Venray (LI) op zo 27 jan 2013. De volgende afstanden staan op het programma: 1\,1 km – 1\,6 km – 2\,1 km – 3\,2 km – 4\,1 km – 8\,1 km hardlopen. Wilt u inschrijven voor dit loopevenement?  Raadpleeg hiervoor dan de website van de organisatie\nDe uitslagen van deze hardloopwedstrijd zijn te raadplegen via dezelfde website of via de bekende websites zoals uitslagen.nl\, runtimer en mylaps. Doet u mee met dit evenement\, zorg dan dat u goed voorbereid aan de start staat! Met een goed trainingsschema komt u een heel eind. Train bijvoorbeeld met start to run van Evy Gruyaert. Download de start to run mp3 bestanden en zet ze op uw telefoon. Oortjes in\, hit the play button en en rennen maar! \n\n\n\n\nMeer informatie over 37ste Vlakwatercross op Hardloopkalender.nl  \nHet loopevenement 37ste Vlakwatercross te Venray vindt plaats op zondag 27 januari 2013. De loop wordt georganisseerd door ATV Venray. Inschrijven is mogelijk vanaf 24 oktober 2012. Klik hier voor het adres van de start (Google Maps).Er is verkleedaccomodatie met douchemogelijkheid aanwezig. Er is EHBO aanwezig. Voor meer informatie:Mieke Alkiminfo@atvvenray.nl0478631452http:  www.atvvenray.nl \n  \n  \n 
URL:https://hardloopevenementen.com/loopagenda/37ste-vlakwatercross-venray-li/
END:VEVENT
BEGIN:VEVENT
DTSTART;VALUE=DATE:20121231
DTEND;VALUE=DATE:20130101
DTSTAMP:20260425T032738
CREATED:20160911T225850Z
LAST-MODIFIED:20190423T102642Z
UID:7097-1356912000-1356912000@hardloopevenementen.com
SUMMARY:37ste Oudejaarscross Almelo (OV)
DESCRIPTION:Doe mee met het hardloopevenement 37ste Oudejaarscross te Almelo (OV) op ma 31 dec 2012. De volgende afstanden staan op het programma: 2 km – 5 km – 10 km – 15 km hardlopen. Wilt u inschrijven voor dit loopevenement?  Raadpleeg hiervoor dan de website van de organisatie\nDe uitslagen van deze hardloopwedstrijd zijn te raadplegen via dezelfde website of via de bekende websites zoals uitslagen.nl\, runtimer en mylaps. Doet u mee met dit evenement\, zorg dan dat u goed voorbereid aan de start staat! Met een goed trainingsschema komt u een heel eind. Train bijvoorbeeld met start to run van Evy Gruyaert. Download de start to run mp3 bestanden en zet ze op uw telefoon. Oortjes in\, hit the play button en en rennen maar! \n\n\n\n\nMeer informatie over 37ste Oudejaarscross op Hardloopkalender.nl  \nHet loopevenement 37ste Oudejaarscross te Almelo vindt plaats op maandag 31 december 2012. De loop wordt georganiseerd door AAV SISU. Inschrijven is mogelijk vanaf 31 december 2012. Klik hier voor het adres van de start (Google Maps).Er is EHBO aanwezig. Afstand SoortloopInschrijfgeldStarttijdInfo2 km2\,0011:065 km3\,0011:0510 km4\,0011:1015 km4\,0011:00Voor meer informatie:Nanny Karstennanny.karsten@sisu.nl0546861047http:  www.sisu.nl \n  \n  \n 
URL:https://hardloopevenementen.com/loopagenda/37ste-oudejaarscross-almelo-ov/
END:VEVENT
END:VCALENDAR