BEGIN:VCALENDAR
VERSION:2.0
PRODID:-//Hardloopevenementen - ECPv6.15.14//NONSGML v1.0//EN
CALSCALE:GREGORIAN
METHOD:PUBLISH
X-WR-CALNAME:Hardloopevenementen
X-ORIGINAL-URL:https://hardloopevenementen.com
X-WR-CALDESC:Evenementen voor Hardloopevenementen
REFRESH-INTERVAL;VALUE=DURATION:PT1H
X-Robots-Tag:noindex
X-PUBLISHED-TTL:PT1H
BEGIN:VTIMEZONE
TZID:UTC
BEGIN:STANDARD
TZOFFSETFROM:+0000
TZOFFSETTO:+0000
TZNAME:UTC
DTSTART:20090101T000000
END:STANDARD
END:VTIMEZONE
BEGIN:VEVENT
DTSTART;VALUE=DATE:20110327
DTEND;VALUE=DATE:20110328
DTSTAMP:20260422T000053
CREATED:20080827T181650Z
LAST-MODIFIED:20190423T102247Z
UID:26631-1301184000-1301184000@hardloopevenementen.com
SUMMARY:10 Engelse Mijl Oss (NB)
DESCRIPTION:Doe mee met het hardloopevenement 10 Engelse Mijl te Oss (NB) op zo 27 mrt 2011. De volgende afstanden staan op het programma: 4 km – 8 km – 12 km – 10 Engelse mijl hardlopen. Wilt u inschrijven voor dit loopevenement?  Raadpleeg hiervoor dan de website van de organisatie\nDe uitslagen van deze hardloopwedstrijd zijn te raadplegen via dezelfde website of via de bekende websites zoals uitslagen.nl\, runtimer en mylaps. Doet u mee met dit evenement\, zorg dan dat u goed voorbereid aan de start staat! Met een goed trainingsschema komt u een heel eind. Train bijvoorbeeld met start to run van Evy Gruyaert. Download de start to run mp3 bestanden en zet ze op uw telefoon. Oortjes in\, hit the play button en en rennen maar! \n\n\n\n\nMeer informatie over 10 Engelse Mijl op Hardloopkalender.nl  \nHet loopevenement 10 Engelse Mijl te Oss vindt plaats op zondag 27 maart 2011. De loop wordt georganiseerd door AV Oss `78. Inschrijven is mogelijk vanaf 28 februari 2011. Klik hier voor het adres van de start (Google Maps).Er is verkleedaccomodatie met douchemogelijkheid aanwezig. Er is EHBO aanwezig. Afstand(km)Inschrijfgeld(€)Starttijd6\,9en12km€4\,0010uur10Engelsemijl€5\,0010uurVoor meer informatie:H.M.van Oorschotwedstrijden@avoss78.nl0412633163http:  www.avoss78.nl \n  \n  \n 
URL:https://hardloopevenementen.com/loopagenda/10-engelse-mijl-oss-nb-3/
END:VEVENT
BEGIN:VEVENT
DTSTART;VALUE=DATE:20100328
DTEND;VALUE=DATE:20100329
DTSTAMP:20260422T000053
CREATED:20100102T153646Z
LAST-MODIFIED:20190423T101303Z
UID:23737-1269734400-1269734400@hardloopevenementen.com
SUMMARY:10 Engelse Mijl Oss (NB)
DESCRIPTION:Doe mee met het hardloopevenement 10 Engelse Mijl te Oss (NB) op zo 28 mrt 2010. De volgende afstanden staan op het programma: 4 km – 8 km – 12 km – 10 Engelse mijl hardlopen. Wilt u inschrijven voor dit loopevenement?  Raadpleeg hiervoor dan de website van de organisatie\nDe uitslagen van deze hardloopwedstrijd zijn te raadplegen via dezelfde website of via de bekende websites zoals uitslagen.nl\, runtimer en mylaps. Doet u mee met dit evenement\, zorg dan dat u goed voorbereid aan de start staat! Met een goed trainingsschema komt u een heel eind. Train bijvoorbeeld met start to run van Evy Gruyaert. Download de start to run mp3 bestanden en zet ze op uw telefoon. Oortjes in\, hit the play button en en rennen maar! \n\n\n\n\nMeer informatie over 10 Engelse Mijl op Hardloopkalender.nl  \nDit loopevenement wordt georganiseerd door AV Oss `78.De eerste afstand (of onderdeel) start om 10:00.Het adres van de start is Rusheuvelstraat 49 Het adres van de finish is Rusheuvelstraat49Categorie(ën): mannen\, vrouwen\, jeugdVooraf inschrijven is mogelijk vanaf 31 oktober 2009 tot 31 oktober 2009.Inschrijven op de dag van de loop is mogelijk (vanaf onbekend) op dit adres: clubhuis A.V. Oss’78.Meer informatie:Contactpersoon: H.M.van OorschotTel.: 0412633163Email: wedstrijden@avoss78.nlEr is een kleedaccomodatie aanwezig. Douchen is mogelijk.Het parcours is verhard.Overige bijzonderheden:  onderdeel www.zorgenzekerheidcircuit.nl Kinderloop start 10 uur \n  \n  \n 
URL:https://hardloopevenementen.com/loopagenda/10-engelse-mijl-oss-nb-2/
END:VEVENT
END:VCALENDAR