BEGIN:VCALENDAR
VERSION:2.0
PRODID:-//Hardloopevenementen - ECPv6.15.14//NONSGML v1.0//EN
CALSCALE:GREGORIAN
METHOD:PUBLISH
X-WR-CALNAME:Hardloopevenementen
X-ORIGINAL-URL:https://hardloopevenementen.com
X-WR-CALDESC:Evenementen voor Hardloopevenementen
REFRESH-INTERVAL;VALUE=DURATION:PT1H
X-Robots-Tag:noindex
X-PUBLISHED-TTL:PT1H
BEGIN:VTIMEZONE
TZID:UTC
BEGIN:STANDARD
TZOFFSETFROM:+0000
TZOFFSETTO:+0000
TZNAME:UTC
DTSTART:20080101T000000
END:STANDARD
END:VTIMEZONE
BEGIN:VEVENT
DTSTART;VALUE=DATE:20091129
DTEND;VALUE=DATE:20091130
DTSTAMP:20260421T062804
CREATED:20090416T064642Z
LAST-MODIFIED:20190423T095655Z
UID:1390-1259452800-1259452800@hardloopevenementen.com
SUMMARY:PNEM-cross Uden (NB)
DESCRIPTION:Doe mee met het hardloopevenement PNEM-cross te Uden (NB) op zo 29 nov 2009. De volgende afstanden staan op het programma: 0\,9 km – 1\,9 km – 2 km – 4 km – 6 km – 8 km – 10 km – 12 km hardlopen. Wilt u inschrijven voor dit loopevenement?  Raadpleeg hiervoor dan de website van de organisatie\nDe uitslagen van deze hardloopwedstrijd zijn te raadplegen via dezelfde website of via de bekende websites zoals uitslagen.nl\, runtimer en mylaps. Doet u mee met dit evenement\, zorg dan dat u goed voorbereid aan de start staat! Met een goed trainingsschema komt u een heel eind. Train bijvoorbeeld met start to run van Evy Gruyaert. Download de start to run mp3 bestanden en zet ze op uw telefoon. Oortjes in\, hit the play button en en rennen maar! \n\n\n\n\nMeer informatie over PNEM-cross op Hardloopkalender.nl  \n0\,9 km 10:00 uur\, 1\,9 km 10:15 uur\, 2-4-6-8-10-12 km 10:30 uur \n  \n  \n 
URL:https://hardloopevenementen.com/loopagenda/pnem-cross-uden-nb/
END:VEVENT
BEGIN:VEVENT
DTSTART;VALUE=DATE:20090315
DTEND;VALUE=DATE:20090316
DTSTAMP:20260421T062804
CREATED:20100716T141458Z
LAST-MODIFIED:20190423T100242Z
UID:2637-1237075200-1237075200@hardloopevenementen.com
SUMMARY:Stadion-cross Uden (NB)
DESCRIPTION:Doe mee met het hardloopevenement Stadion-cross te Uden (NB) op zo 15 mrt 2009. De volgende afstanden staan op het programma: 1\,2 km – 1\,8 km – 2 km – 4 km – 6 km – 8 km – 10 km hardlopen. Wilt u inschrijven voor dit loopevenement?  Raadpleeg hiervoor dan de website van de organisatie\nDe uitslagen van deze hardloopwedstrijd zijn te raadplegen via dezelfde website of via de bekende websites zoals uitslagen.nl\, runtimer en mylaps. Doet u mee met dit evenement\, zorg dan dat u goed voorbereid aan de start staat! Met een goed trainingsschema komt u een heel eind. Train bijvoorbeeld met start to run van Evy Gruyaert. Download de start to run mp3 bestanden en zet ze op uw telefoon. Oortjes in\, hit the play button en en rennen maar! \n\n\n\n\nMeer informatie over Stadion-cross op Hardloopkalender.nl  \n1\,2 km 10:00 uur\, 1\,8 km 10:15 uur\, 2-4-6-8-10 km 10:30 uur \n  \n  \n 
URL:https://hardloopevenementen.com/loopagenda/stadion-cross-uden-nb/
END:VEVENT
BEGIN:VEVENT
DTSTART;VALUE=DATE:20090301
DTEND;VALUE=DATE:20090302
DTSTAMP:20260421T062804
CREATED:20090315T001053Z
LAST-MODIFIED:20190423T100305Z
UID:2723-1235865600-1235865600@hardloopevenementen.com
SUMMARY:Naat Piek-cross Uden (NB)
DESCRIPTION:Doe mee met het hardloopevenement Naat Piek-cross te Uden (NB) op zo 01 mrt 2009. De volgende afstanden staan op het programma: 1\,4 km – 2\,1 km – 4 km – 6 km – 8 km – 10 km – 12 km hardlopen. Wilt u inschrijven voor dit loopevenement?  Raadpleeg hiervoor dan de website van de organisatie\nDe uitslagen van deze hardloopwedstrijd zijn te raadplegen via dezelfde website of via de bekende websites zoals uitslagen.nl\, runtimer en mylaps. Doet u mee met dit evenement\, zorg dan dat u goed voorbereid aan de start staat! Met een goed trainingsschema komt u een heel eind. Train bijvoorbeeld met start to run van Evy Gruyaert. Download de start to run mp3 bestanden en zet ze op uw telefoon. Oortjes in\, hit the play button en en rennen maar! \n\n\n\n\nMeer informatie over Naat Piek-cross op Hardloopkalender.nl  \n1\,4 km 10:00 uur\, 2\,1 km 10:15 uur\, 4-6-8-10-12 km 10:30 uur \n  \n  \n 
URL:https://hardloopevenementen.com/loopagenda/naat-piek-cross-uden-nb/
END:VEVENT
BEGIN:VEVENT
DTSTART;VALUE=DATE:20090111
DTEND;VALUE=DATE:20090112
DTSTAMP:20260421T062804
CREATED:20140926T051737Z
LAST-MODIFIED:20190423T100404Z
UID:2934-1231632000-1231632000@hardloopevenementen.com
SUMMARY:BEDAF-cross Uden (NB)
DESCRIPTION:Doe mee met het hardloopevenement BEDAF-cross te Uden (NB) op zo 11 jan 2009. De volgende afstanden staan op het programma: 1 km – 2\,1 km – 4 km – 6 km – 8 km – 10 km – 12 km hardlopen. Wilt u inschrijven voor dit loopevenement?  Raadpleeg hiervoor dan de website van de organisatie\nDe uitslagen van deze hardloopwedstrijd zijn te raadplegen via dezelfde website of via de bekende websites zoals uitslagen.nl\, runtimer en mylaps. Doet u mee met dit evenement\, zorg dan dat u goed voorbereid aan de start staat! Met een goed trainingsschema komt u een heel eind. Train bijvoorbeeld met start to run van Evy Gruyaert. Download de start to run mp3 bestanden en zet ze op uw telefoon. Oortjes in\, hit the play button en en rennen maar! \n\n\n\n\nMeer informatie over BEDAF-cross op Hardloopkalender.nl  \n1 km 10:00 uur\, 2\,1-6 km 10:15 uur\, 4-8-10-12 km 10:30 uur \n  \n  \n 
URL:https://hardloopevenementen.com/loopagenda/bedaf-cross-uden-nb/
END:VEVENT
END:VCALENDAR