BEGIN:VCALENDAR
VERSION:2.0
PRODID:-//Hardloopevenementen - ECPv6.15.14//NONSGML v1.0//EN
CALSCALE:GREGORIAN
METHOD:PUBLISH
X-WR-CALNAME:Hardloopevenementen
X-ORIGINAL-URL:https://hardloopevenementen.com
X-WR-CALDESC:Evenementen voor Hardloopevenementen
REFRESH-INTERVAL;VALUE=DURATION:PT1H
X-Robots-Tag:noindex
X-PUBLISHED-TTL:PT1H
BEGIN:VTIMEZONE
TZID:UTC
BEGIN:STANDARD
TZOFFSETFROM:+0000
TZOFFSETTO:+0000
TZNAME:UTC
DTSTART:20120101T000000
END:STANDARD
END:VTIMEZONE
BEGIN:VEVENT
DTSTART;VALUE=DATE:20151213
DTEND;VALUE=DATE:20151214
DTSTAMP:20260426T033749
CREATED:20180329T134424Z
LAST-MODIFIED:20190423T110645Z
UID:9232-1449964800-1449964800@hardloopevenementen.com
SUMMARY:Cees Clement Cross 2015 Sneek (FR)
DESCRIPTION:Doe mee met het hardloopevenement Cees Clement Cross 2015 te Sneek (FR) op zo 13 dec 2015. De volgende afstanden staan op het programma: 0\,8 km – 4\,4 km hardlopen. Wilt u inschrijven voor dit loopevenement?  Raadpleeg hiervoor dan de website van de organisatie\nDe uitslagen van deze hardloopwedstrijd zijn te raadplegen via dezelfde website of via de bekende websites zoals uitslagen.nl\, runtimer en mylaps. Doet u mee met dit evenement\, zorg dan dat u goed voorbereid aan de start staat! Met een goed trainingsschema komt u een heel eind. Train bijvoorbeeld met start to run van Evy Gruyaert. Download de start to run mp3 bestanden en zet ze op uw telefoon. Oortjes in\, hit the play button en en rennen maar! \n\n\n\n\nMeer informatie over Cees Clement Cross 2015 op Hardloopkalender.nl  \nHet loopevenement Cees Clement Cross 2015 te Sneek vindt plaats op zondag 13 december 2015. \n  \n  \n 
URL:https://hardloopevenementen.com/loopagenda/cees-clement-cross-2015-sneek-fr/
END:VEVENT
BEGIN:VEVENT
DTSTART;VALUE=DATE:20130805
DTEND;VALUE=DATE:20130806
DTSTAMP:20260426T033749
CREATED:20150611T011150Z
LAST-MODIFIED:20190423T104104Z
UID:31347-1375660800-1375660800@hardloopevenementen.com
SUMMARY:ColorRain by Night Sneek (FR)
DESCRIPTION:Doe mee met het hardloopevenement ColorRain by Night te Sneek (FR) op ma 05 aug 2013. De volgende afstanden staan op het programma: 4\,4 km hardlopen. Wilt u inschrijven voor dit loopevenement?  Raadpleeg hiervoor dan de website van de organisatie\nDe uitslagen van deze hardloopwedstrijd zijn te raadplegen via dezelfde website of via de bekende websites zoals uitslagen.nl\, runtimer en mylaps. Doet u mee met dit evenement\, zorg dan dat u goed voorbereid aan de start staat! Met een goed trainingsschema komt u een heel eind. Train bijvoorbeeld met start to run van Evy Gruyaert. Download de start to run mp3 bestanden en zet ze op uw telefoon. Oortjes in\, hit the play button en en rennen maar! \n\n\n\n\nMeer informatie over ColorRain by Night op Hardloopkalender.nl  \nLight op the sky tijdens de ColorRain bij night.Tijdens de ColorRain bij night loop je een parcours van 4km. Loop door een kleurenwolk in het donker en luid vervolgens je nacht in met een kleurenspektakel en muziek. \n  \n  \n 
URL:https://hardloopevenementen.com/loopagenda/colorrain-by-night-sneek-fr/
END:VEVENT
END:VCALENDAR