BEGIN:VCALENDAR
VERSION:2.0
PRODID:-//Hardloopevenementen - ECPv6.15.14//NONSGML v1.0//EN
CALSCALE:GREGORIAN
METHOD:PUBLISH
X-ORIGINAL-URL:https://hardloopevenementen.com
X-WR-CALDESC:Evenementen voor Hardloopevenementen
REFRESH-INTERVAL;VALUE=DURATION:PT1H
X-Robots-Tag:noindex
X-PUBLISHED-TTL:PT1H
BEGIN:VTIMEZONE
TZID:UTC
BEGIN:STANDARD
TZOFFSETFROM:+0000
TZOFFSETTO:+0000
TZNAME:UTC
DTSTART:20120101T000000
END:STANDARD
END:VTIMEZONE
BEGIN:VEVENT
DTSTART;VALUE=DATE:20191231
DTEND;VALUE=DATE:20200101
DTSTAMP:20260422T052855
CREATED:20061118T033329Z
LAST-MODIFIED:20191114T112319Z
UID:142511-1577750400-1577750400@hardloopevenementen.com
SUMMARY:Oudejaarsloop Heerlen Heerlen (LI)
DESCRIPTION:Doe mee met het hardloopevenement Oudejaarsloop Heerlen te Heerlen (LI) op di 31 dec 2019. De volgende afstanden staan op het programma: 4\,5 km – 9 km hardlopen. Wilt u inschrijven voor dit loopevenement?  Raadpleeg hiervoor dan de website van de organisatie\nDe uitslagen van deze hardloopwedstrijd zijn te raadplegen via dezelfde website of via de bekende websites zoals uitslagen.nl\, runtimer en mylaps. Doet u mee met dit evenement\, zorg dan dat u goed voorbereid aan de start staat! Met een goed trainingsschema komt u een heel eind. Train bijvoorbeeld met start to run van Evy Gruyaert. Download de start to run mp3 bestanden en zet ze op uw telefoon. Oortjes in\, hit the play button en en rennen maar! \n\n\n\n\nMeer informatie over Oudejaarsloop Heerlen op Hardloopkalender.nl  \nmeer info en inschrijven op www.oudejaarsloopheerlen.nl \n  \n  \n 
URL:https://hardloopevenementen.com/loopagenda/oudejaarsloop-heerlen-heerlen-li-5/
END:VEVENT
BEGIN:VEVENT
DTSTART;VALUE=DATE:20161231
DTEND;VALUE=DATE:20170101
DTSTAMP:20260422T052855
CREATED:20101106T013210Z
LAST-MODIFIED:20190423T111952Z
UID:11322-1483142400-1483142400@hardloopevenementen.com
SUMMARY:oudejaarsloop Heerlen Heerlen (LI)
DESCRIPTION:Doe mee met het hardloopevenement oudejaarsloop Heerlen te Heerlen (LI) op za 31 dec 2016. De volgende afstanden staan op het programma: 4\,5 km – 9 km hardlopen. Wilt u inschrijven voor dit loopevenement?  Raadpleeg hiervoor dan de website van de organisatie\nDe uitslagen van deze hardloopwedstrijd zijn te raadplegen via dezelfde website of via de bekende websites zoals uitslagen.nl\, runtimer en mylaps. Doet u mee met dit evenement\, zorg dan dat u goed voorbereid aan de start staat! Met een goed trainingsschema komt u een heel eind. Train bijvoorbeeld met start to run van Evy Gruyaert. Download de start to run mp3 bestanden en zet ze op uw telefoon. Oortjes in\, hit the play button en en rennen maar! \n\n\n\n\nMeer informatie over oudejaarsloop Heerlen op Hardloopkalender.nl  \nGezellige wedstrijdloop door het groene hart van Heerlen.  Start 15.00 voor bij afstanden.  Meer info op \n  \n  \n 
URL:https://hardloopevenementen.com/loopagenda/oudejaarsloop-heerlen-heerlen-li-4/
END:VEVENT
BEGIN:VEVENT
DTSTART;VALUE=DATE:20151231
DTEND;VALUE=DATE:20160101
DTSTAMP:20260422T052855
CREATED:20170915T104503Z
LAST-MODIFIED:20190423T110617Z
UID:9133-1451520000-1451520000@hardloopevenementen.com
SUMMARY:oudejaarsloop Heerlen Heerlen (LI)
DESCRIPTION:Doe mee met het hardloopevenement oudejaarsloop Heerlen te Heerlen (LI) op do 31 dec 2015. De volgende afstanden staan op het programma: 4\,5 km – 10 km hardlopen. Wilt u inschrijven voor dit loopevenement?  Raadpleeg hiervoor dan de website van de organisatie\nDe uitslagen van deze hardloopwedstrijd zijn te raadplegen via dezelfde website of via de bekende websites zoals uitslagen.nl\, runtimer en mylaps. Doet u mee met dit evenement\, zorg dan dat u goed voorbereid aan de start staat! Met een goed trainingsschema komt u een heel eind. Train bijvoorbeeld met start to run van Evy Gruyaert. Download de start to run mp3 bestanden en zet ze op uw telefoon. Oortjes in\, hit the play button en en rennen maar! \n\n\n\n\nMeer informatie over oudejaarsloop Heerlen op Hardloopkalender.nl  \nVoor meer info ga je naar www.alternatievetelematicaloop.nl \n  \n  \n 
URL:https://hardloopevenementen.com/loopagenda/oudejaarsloop-heerlen-heerlen-li-3/
END:VEVENT
BEGIN:VEVENT
DTSTART;VALUE=DATE:20141218
DTEND;VALUE=DATE:20141219
DTSTAMP:20260422T052855
CREATED:20160510T192703Z
LAST-MODIFIED:20190423T104840Z
UID:8522-1418860800-1418860800@hardloopevenementen.com
SUMMARY:Kerstmannenloop heerlen Heerlen (LI)
DESCRIPTION:Doe mee met het hardloopevenement Kerstmannenloop heerlen te Heerlen (LI) op do 18 dec 2014. De volgende afstanden staan op het programma: 4\,5 km hardlopen. Wilt u inschrijven voor dit loopevenement?  Raadpleeg hiervoor dan de website van de organisatie\nDe uitslagen van deze hardloopwedstrijd zijn te raadplegen via dezelfde website of via de bekende websites zoals uitslagen.nl\, runtimer en mylaps. Doet u mee met dit evenement\, zorg dan dat u goed voorbereid aan de start staat! Met een goed trainingsschema komt u een heel eind. Train bijvoorbeeld met start to run van Evy Gruyaert. Download de start to run mp3 bestanden en zet ze op uw telefoon. Oortjes in\, hit the play button en en rennen maar! \n\n\n\n\nMeer informatie over Kerstmannenloop heerlen op Hardloopkalender.nl  \nLudieke santa run dwars door de verlichte binnenstad van Heerlen. Toegankelijk voor jong en oud\, rennend\, dribbelend of wandelend in kerstmannenpak met onderweg muziek en lekkere verzorgingsposten. Inschrijfgeld gaat naar lokaal goed doel. \n  \n  \n 
URL:https://hardloopevenementen.com/loopagenda/kerstmannenloop-heerlen-heerlen-li/
END:VEVENT
BEGIN:VEVENT
DTSTART;VALUE=DATE:20131231
DTEND;VALUE=DATE:20140101
DTSTAMP:20260422T052855
CREATED:20151202T165729Z
LAST-MODIFIED:20190423T103711Z
UID:7854-1388448000-1388448000@hardloopevenementen.com
SUMMARY:oudejaarsloop heerlen Heerlen (LI)
DESCRIPTION:Doe mee met het hardloopevenement oudejaarsloop heerlen te Heerlen (LI) op di 31 dec 2013. De volgende afstanden staan op het programma: 4\,5 km – 9 km hardlopen. Wilt u inschrijven voor dit loopevenement?  Raadpleeg hiervoor dan de website van de organisatie\nDe uitslagen van deze hardloopwedstrijd zijn te raadplegen via dezelfde website of via de bekende websites zoals uitslagen.nl\, runtimer en mylaps. Doet u mee met dit evenement\, zorg dan dat u goed voorbereid aan de start staat! Met een goed trainingsschema komt u een heel eind. Train bijvoorbeeld met start to run van Evy Gruyaert. Download de start to run mp3 bestanden en zet ze op uw telefoon. Oortjes in\, hit the play button en en rennen maar! \n\n\n\n\nMeer informatie over oudejaarsloop heerlen op Hardloopkalender.nl  \n  \n  \n 
URL:https://hardloopevenementen.com/loopagenda/oudejaarsloop-heerlen-heerlen-li/
END:VEVENT
END:VCALENDAR