BEGIN:VCALENDAR
VERSION:2.0
PRODID:-//Hardloopevenementen - ECPv6.15.14//NONSGML v1.0//EN
CALSCALE:GREGORIAN
METHOD:PUBLISH
X-ORIGINAL-URL:https://hardloopevenementen.com
X-WR-CALDESC:Evenementen voor Hardloopevenementen
REFRESH-INTERVAL;VALUE=DURATION:PT1H
X-Robots-Tag:noindex
X-PUBLISHED-TTL:PT1H
BEGIN:VTIMEZONE
TZID:UTC
BEGIN:STANDARD
TZOFFSETFROM:+0000
TZOFFSETTO:+0000
TZNAME:UTC
DTSTART:20110101T000000
END:STANDARD
END:VTIMEZONE
BEGIN:VEVENT
DTSTART;VALUE=DATE:20120825
DTEND;VALUE=DATE:20120826
DTSTAMP:20260424T194332
CREATED:20120904T205247Z
LAST-MODIFIED:20190423T103011Z
UID:27847-1345852800-1345852800@hardloopevenementen.com
SUMMARY:Prinsenparkloop Rotterdam (ZH)
DESCRIPTION:Doe mee met het hardloopevenement Prinsenparkloop te Rotterdam (ZH) op za 25 aug 2012. De volgende afstanden staan op het programma: 1 km – 1\,6 km – 3\,2 km – 4\,8 km hardlopen. Wilt u inschrijven voor dit loopevenement?  Raadpleeg hiervoor dan de website van de organisatie\nDe uitslagen van deze hardloopwedstrijd zijn te raadplegen via dezelfde website of via de bekende websites zoals uitslagen.nl\, runtimer en mylaps. Doet u mee met dit evenement\, zorg dan dat u goed voorbereid aan de start staat! Met een goed trainingsschema komt u een heel eind. Train bijvoorbeeld met start to run van Evy Gruyaert. Download de start to run mp3 bestanden en zet ze op uw telefoon. Oortjes in\, hit the play button en en rennen maar! \n\n\n\n\nMeer informatie over Prinsenparkloop op Hardloopkalender.nl  \nDe Prinsenparkloop vindt plaats in Rotterdam\, deelgemeente Prins Alexander.    Vanaf 13:00 uur kan men zich inschrijven in het Prinsenpark\, gelegen aan de michelangelostraat te Rotterdam.    14:00 uur start ouder kinderloop 1km (gratis)  14:20 uur kindsrun 1km (gratis)  14:45 uur 1\,2 & 3 mijl (3\,-)    Voor iedere nummer 1\,2 en 3 zijn er prijzen.    voor meer informatie:  Sportstimulering Prins Alexander  010-4550200  www.facebook.com spsalex \n  \n  \n 
URL:https://hardloopevenementen.com/loopagenda/prinsenparkloop-rotterdam-zh/
END:VEVENT
END:VCALENDAR