BEGIN:VCALENDAR
VERSION:2.0
PRODID:-//Hardloopevenementen - ECPv6.15.14//NONSGML v1.0//EN
CALSCALE:GREGORIAN
METHOD:PUBLISH
X-ORIGINAL-URL:https://hardloopevenementen.com
X-WR-CALDESC:Evenementen voor Hardloopevenementen
REFRESH-INTERVAL;VALUE=DURATION:PT1H
X-Robots-Tag:noindex
X-PUBLISHED-TTL:PT1H
BEGIN:VTIMEZONE
TZID:UTC
BEGIN:STANDARD
TZOFFSETFROM:+0000
TZOFFSETTO:+0000
TZNAME:UTC
DTSTART:20070101T000000
END:STANDARD
END:VTIMEZONE
BEGIN:VEVENT
DTSTART;VALUE=DATE:20081005
DTEND;VALUE=DATE:20081006
DTSTAMP:20260423T081355
CREATED:20100206T064709Z
LAST-MODIFIED:20190423T094456Z
UID:19060-1223164800-1223164800@hardloopevenementen.com
SUMMARY:Dem Duinloop Beverwijk
DESCRIPTION:Doe mee met het hardloopevenement Dem Duinloop te Beverwijk op zo 05 okt 2008. De volgende afstanden staan op het programma: 5 km – 10 km hardlopen. Wilt u inschrijven voor dit loopevenement?  Raadpleeg hiervoor dan de website van de organisatie\nDe uitslagen van deze hardloopwedstrijd zijn te raadplegen via dezelfde website of via de bekende websites zoals uitslagen.nl\, runtimer en mylaps. Doet u mee met dit evenement\, zorg dan dat u goed voorbereid aan de start staat! Met een goed trainingsschema komt u een heel eind. Train bijvoorbeeld met start to run van Evy Gruyaert. Download de start to run mp3 bestanden en zet ze op uw telefoon. Oortjes in\, hit the play button en en rennen maar! \n\n\n\n\nMeer informatie over Dem Duinloop op Hardloopkalender.nl  \nstart 5-10 km 10:30 uur \n  \n  \n 
URL:https://hardloopevenementen.com/loopagenda/dem-duinloop-beverwijk/
END:VEVENT
BEGIN:VEVENT
DTSTART;VALUE=DATE:20080406
DTEND;VALUE=DATE:20080407
DTSTAMP:20260423T081355
CREATED:20180217T000606Z
LAST-MODIFIED:20190423T094810Z
UID:19908-1207440000-1207440000@hardloopevenementen.com
SUMMARY:Dem Duinloop Beverwijk
DESCRIPTION:Doe mee met het hardloopevenement Dem Duinloop te Beverwijk op zo 06 apr 2008. De volgende afstanden staan op het programma: 5 km – 10 km hardlopen. Wilt u inschrijven voor dit loopevenement?  Raadpleeg hiervoor dan de website van de organisatie\nDe uitslagen van deze hardloopwedstrijd zijn te raadplegen via dezelfde website of via de bekende websites zoals uitslagen.nl\, runtimer en mylaps. Doet u mee met dit evenement\, zorg dan dat u goed voorbereid aan de start staat! Met een goed trainingsschema komt u een heel eind. Train bijvoorbeeld met start to run van Evy Gruyaert. Download de start to run mp3 bestanden en zet ze op uw telefoon. Oortjes in\, hit the play button en en rennen maar! \n\n\n\n\nMeer informatie over Dem Duinloop op Hardloopkalender.nl  \nDe DEM Duinloop is een wedstrijdloop die 4 keer per seizoen wordt gehouden onder auspicien van atletiekvereniging DEM in Beverwijk.    Voor het seizoen 2007 – 2008 zullen deze wedstrijden worden gehouden op de volgende data:     – 7 oktober  en  2 december 2007  – 3 februari  en  6 april 2008.  Parcoursrecord  Het afgelopen jaar zijn er op ons parcours snelle tijden neergezet op zowel de 5 km als de 10 km\, nl. :       5 km heren 15:52 min Andre Diemeer   5 km dames 18:26 min Marianne van der Linde   10 km heren 32:48 min Gerard van den Berg   10 km dames 38:39 min Monique Arkenbout-Andriessen       Bij verbetering van het parcoursrecord op de 5km en de 10 km wordt een premie gezet van resp.  25 en  50.       Klassement  Er zal een eindklassering worden opgemaakt op basis van 3 van de 4 gelopen wedstrijden.    De uitreiking hiervan vindt plaats aan het eind van de laatste loop op 6 april in de kantine van het Sportfondsenbad in Beverwijk.    Tevens zullen op die dag de herinneringen worden uitgereikt aan die lopers die 3 van de 4 keer heeb deelgenomen. Hier maakt het niet uit als 1 van die 3 lopen een andere afstand betreft.    Na afloop van de 2e loop op 2 december zal op deze website een overzicht verschijnen van het klassement tot dusver.    Kleed- en douchgelegenheid:  Er is gelegenheid om te verkleden en of te douchen na afloop in het Sportfondsenbad aan de Kuikensweg in Beverwijk.    Inlichtingen:  Voor algemene vragen kunt u contact opnemen met Cees van Leenen (tel. 06-42241982). \n  \n  \n 
URL:https://hardloopevenementen.com/loopagenda/dem-duinloop-beverwijk-2/
END:VEVENT
END:VCALENDAR