BEGIN:VCALENDAR
VERSION:2.0
PRODID:-//Hardloopevenementen - ECPv6.15.14//NONSGML v1.0//EN
CALSCALE:GREGORIAN
METHOD:PUBLISH
X-WR-CALNAME:Hardloopevenementen
X-ORIGINAL-URL:https://hardloopevenementen.com
X-WR-CALDESC:Evenementen voor Hardloopevenementen
REFRESH-INTERVAL;VALUE=DURATION:PT1H
X-Robots-Tag:noindex
X-PUBLISHED-TTL:PT1H
BEGIN:VTIMEZONE
TZID:UTC
BEGIN:STANDARD
TZOFFSETFROM:+0000
TZOFFSETTO:+0000
TZNAME:UTC
DTSTART:20100101T000000
END:STANDARD
END:VTIMEZONE
BEGIN:VEVENT
DTSTART;VALUE=DATE:20150816
DTEND;VALUE=DATE:20150817
DTSTAMP:20260424T215425
CREATED:20091101T112959Z
LAST-MODIFIED:20190423T111009Z
UID:9985-1439683200-1439683200@hardloopevenementen.com
SUMMARY:Stratenloop Boekel Boekel (NB)
DESCRIPTION:Doe mee met het hardloopevenement Stratenloop Boekel te Boekel (NB) op zo 16 aug 2015. De volgende afstanden staan op het programma: 0\,7 km – 1\,4 km – 5 km – 10 km hardlopen. Wilt u inschrijven voor dit loopevenement?  Raadpleeg hiervoor dan de website van de organisatie\nDe uitslagen van deze hardloopwedstrijd zijn te raadplegen via dezelfde website of via de bekende websites zoals uitslagen.nl\, runtimer en mylaps. Doet u mee met dit evenement\, zorg dan dat u goed voorbereid aan de start staat! Met een goed trainingsschema komt u een heel eind. Train bijvoorbeeld met start to run van Evy Gruyaert. Download de start to run mp3 bestanden en zet ze op uw telefoon. Oortjes in\, hit the play button en en rennen maar! \n\n\n\n\nMeer informatie over Stratenloop Boekel op Hardloopkalender.nl  \nJaarlijks op de derde zondag van Augustus. \n  \n  \n 
URL:https://hardloopevenementen.com/loopagenda/stratenloop-boekel-boekel-nb-2/
END:VEVENT
BEGIN:VEVENT
DTSTART;VALUE=DATE:20130818
DTEND;VALUE=DATE:20130819
DTSTAMP:20260424T215425
CREATED:20100808T044058Z
LAST-MODIFIED:20190423T104052Z
UID:31300-1376784000-1376784000@hardloopevenementen.com
SUMMARY:Stratenloop Boekel Boekel (NB)
DESCRIPTION:Doe mee met het hardloopevenement Stratenloop Boekel te Boekel (NB) op zo 18 aug 2013. De volgende afstanden staan op het programma: 5 km – 10 km hardlopen. Wilt u inschrijven voor dit loopevenement?  Raadpleeg hiervoor dan de website van de organisatie\nDe uitslagen van deze hardloopwedstrijd zijn te raadplegen via dezelfde website of via de bekende websites zoals uitslagen.nl\, runtimer en mylaps. Doet u mee met dit evenement\, zorg dan dat u goed voorbereid aan de start staat! Met een goed trainingsschema komt u een heel eind. Train bijvoorbeeld met start to run van Evy Gruyaert. Download de start to run mp3 bestanden en zet ze op uw telefoon. Oortjes in\, hit the play button en en rennen maar! \n\n\n\n\nMeer informatie over Stratenloop Boekel op Hardloopkalender.nl  \n  \n  \n 
URL:https://hardloopevenementen.com/loopagenda/stratenloop-boekel-boekel-nb-4/
END:VEVENT
BEGIN:VEVENT
DTSTART;VALUE=DATE:20120819
DTEND;VALUE=DATE:20120820
DTSTAMP:20260424T215425
CREATED:20130218T003248Z
LAST-MODIFIED:20190423T103016Z
UID:27870-1345334400-1345334400@hardloopevenementen.com
SUMMARY:Stratenloop Boekel Boekel (NB)
DESCRIPTION:Doe mee met het hardloopevenement Stratenloop Boekel te Boekel (NB) op zo 19 aug 2012. De volgende afstanden staan op het programma: 5 km – 10 km hardlopen. Wilt u inschrijven voor dit loopevenement?  Raadpleeg hiervoor dan de website van de organisatie\nDe uitslagen van deze hardloopwedstrijd zijn te raadplegen via dezelfde website of via de bekende websites zoals uitslagen.nl\, runtimer en mylaps. Doet u mee met dit evenement\, zorg dan dat u goed voorbereid aan de start staat! Met een goed trainingsschema komt u een heel eind. Train bijvoorbeeld met start to run van Evy Gruyaert. Download de start to run mp3 bestanden en zet ze op uw telefoon. Oortjes in\, hit the play button en en rennen maar! \n\n\n\n\nMeer informatie over Stratenloop Boekel op Hardloopkalender.nl  \n  \n  \n 
URL:https://hardloopevenementen.com/loopagenda/stratenloop-boekel-boekel-nb-3/
END:VEVENT
BEGIN:VEVENT
DTSTART;VALUE=DATE:20110821
DTEND;VALUE=DATE:20110822
DTSTAMP:20260424T215425
CREATED:20170902T144206Z
LAST-MODIFIED:20190423T101928Z
UID:6497-1313884800-1313884800@hardloopevenementen.com
SUMMARY:Stratenloop Boekel Boekel (NB)
DESCRIPTION:Doe mee met het hardloopevenement Stratenloop Boekel te Boekel (NB) op zo 21 aug 2011. De volgende afstanden staan op het programma: 5 km – 10 km hardlopen. Wilt u inschrijven voor dit loopevenement?  Raadpleeg hiervoor dan de website van de organisatie\nDe uitslagen van deze hardloopwedstrijd zijn te raadplegen via dezelfde website of via de bekende websites zoals uitslagen.nl\, runtimer en mylaps. Doet u mee met dit evenement\, zorg dan dat u goed voorbereid aan de start staat! Met een goed trainingsschema komt u een heel eind. Train bijvoorbeeld met start to run van Evy Gruyaert. Download de start to run mp3 bestanden en zet ze op uw telefoon. Oortjes in\, hit the play button en en rennen maar! \n\n\n\n\nMeer informatie over Stratenloop Boekel op Hardloopkalender.nl  \nJaarlijks loopevenement tijdens de wielerronde Boekel.  Goed verzorgde wedstrijd\, waar lokale toppers meelopen. Leuk voor jong en oud.  Wedstrijd bestaat uit 2 (5 km) of 4 (10 km) rondjes door het centrum van Boekel. \n  \n  \n 
URL:https://hardloopevenementen.com/loopagenda/stratenloop-boekel-boekel-nb/
END:VEVENT
END:VCALENDAR