BEGIN:VCALENDAR
VERSION:2.0
PRODID:-//Hardloopevenementen - ECPv6.15.14//NONSGML v1.0//EN
CALSCALE:GREGORIAN
METHOD:PUBLISH
X-ORIGINAL-URL:https://hardloopevenementen.com
X-WR-CALDESC:Evenementen voor Hardloopevenementen
REFRESH-INTERVAL;VALUE=DURATION:PT1H
X-Robots-Tag:noindex
X-PUBLISHED-TTL:PT1H
BEGIN:VTIMEZONE
TZID:UTC
BEGIN:STANDARD
TZOFFSETFROM:+0000
TZOFFSETTO:+0000
TZNAME:UTC
DTSTART:20090101T000000
END:STANDARD
END:VTIMEZONE
BEGIN:VEVENT
DTSTART;VALUE=DATE:20100911
DTEND;VALUE=DATE:20100912
DTSTAMP:20260426T030757
CREATED:20171018T213833Z
LAST-MODIFIED:20190423T100857Z
UID:3646-1284163200-1284163200@hardloopevenementen.com
SUMMARY:Damwaldrin Damwoude\, gemeente Dantumadeel (FR)
DESCRIPTION:Doe mee met het hardloopevenement Damwaldrin te Damwoude\, gemeente Dantumadeel (FR) op za 11 sep 2010. De volgende afstanden staan op het programma: 5 km – 10 km – 10 Engelse mijl hardlopen. Wilt u inschrijven voor dit loopevenement?  Raadpleeg hiervoor dan de website van de organisatie\nDe uitslagen van deze hardloopwedstrijd zijn te raadplegen via dezelfde website of via de bekende websites zoals uitslagen.nl\, runtimer en mylaps. Doet u mee met dit evenement\, zorg dan dat u goed voorbereid aan de start staat! Met een goed trainingsschema komt u een heel eind. Train bijvoorbeeld met start to run van Evy Gruyaert. Download de start to run mp3 bestanden en zet ze op uw telefoon. Oortjes in\, hit the play button en en rennen maar! \n\n\n\n\nMeer informatie over Damwaldrin op Hardloopkalender.nl  \nHet parcours van de Damwâldrin brengt u vanuit het centrum van Damwoude via de mooie landelijke binnenwegen richting Rinsumageest\, afhankelijk van de afstand die u gaat lopen. Het goede doel van 2010:  De opbrengst van Damwâldrin 2010 gaat dit jaar naar de Karunai jeevan. \n  \n  \n 
URL:https://hardloopevenementen.com/loopagenda/damwaldrin-damwoude-gemeente-dantumadeel-fr/
END:VEVENT
END:VCALENDAR