BEGIN:VCALENDAR
VERSION:2.0
PRODID:-//Hardloopevenementen - ECPv6.15.14//NONSGML v1.0//EN
CALSCALE:GREGORIAN
METHOD:PUBLISH
X-WR-CALNAME:Hardloopevenementen
X-ORIGINAL-URL:https://hardloopevenementen.com
X-WR-CALDESC:Evenementen voor Hardloopevenementen
REFRESH-INTERVAL;VALUE=DURATION:PT1H
X-Robots-Tag:noindex
X-PUBLISHED-TTL:PT1H
BEGIN:VTIMEZONE
TZID:UTC
BEGIN:STANDARD
TZOFFSETFROM:+0000
TZOFFSETTO:+0000
TZNAME:UTC
DTSTART:20070101T000000
END:STANDARD
END:VTIMEZONE
BEGIN:VEVENT
DTSTART;VALUE=DATE:20080517
DTEND;VALUE=DATE:20080518
DTSTAMP:20260423T060602
CREATED:20130414T122140Z
LAST-MODIFIED:20190423T094721Z
UID:19694-1210982400-1210982400@hardloopevenementen.com
SUMMARY:Kamerikse Weteringloop Kamerik
DESCRIPTION:Doe mee met het hardloopevenement Kamerikse Weteringloop te Kamerik op za 17 mei 2008. De volgende afstanden staan op het programma: 1\,5 km – 2\,4 km – 5 km – 10 km – 10 Engelse mijl hardlopen. Wilt u inschrijven voor dit loopevenement?  Raadpleeg hiervoor dan de website van de organisatie\nDe uitslagen van deze hardloopwedstrijd zijn te raadplegen via dezelfde website of via de bekende websites zoals uitslagen.nl\, runtimer en mylaps. Doet u mee met dit evenement\, zorg dan dat u goed voorbereid aan de start staat! Met een goed trainingsschema komt u een heel eind. Train bijvoorbeeld met start to run van Evy Gruyaert. Download de start to run mp3 bestanden en zet ze op uw telefoon. Oortjes in\, hit the play button en en rennen maar! \n\n\n\n\nMeer informatie over Kamerikse Weteringloop op Hardloopkalender.nl  \nAdres: Overstek 2 Kamerik Sporthal Schulenburch. Mooie loop door het Groene hart.  Start jeugdloop 11.15 uur  Start 5km. en 10 km. 12.10 uur  Start 16.1 km 12.00 uur  Meer informatie www.weteringloop.nl \n  \n  \n 
URL:https://hardloopevenementen.com/loopagenda/kamerikse-weteringloop-kamerik-2/
END:VEVENT
END:VCALENDAR