BEGIN:VCALENDAR
VERSION:2.0
PRODID:-//Hardloopevenementen - ECPv6.15.14//NONSGML v1.0//EN
CALSCALE:GREGORIAN
METHOD:PUBLISH
X-ORIGINAL-URL:https://hardloopevenementen.com
X-WR-CALDESC:Evenementen voor Hardloopevenementen
REFRESH-INTERVAL;VALUE=DURATION:PT1H
X-Robots-Tag:noindex
X-PUBLISHED-TTL:PT1H
BEGIN:VTIMEZONE
TZID:UTC
BEGIN:STANDARD
TZOFFSETFROM:+0000
TZOFFSETTO:+0000
TZNAME:UTC
DTSTART:20080101T000000
END:STANDARD
END:VTIMEZONE
BEGIN:VEVENT
DTSTART;VALUE=DATE:20090405
DTEND;VALUE=DATE:20090406
DTSTAMP:20260426T030749
CREATED:20151030T051743Z
LAST-MODIFIED:20190423T100219Z
UID:2540-1238889600-1238889600@hardloopevenementen.com
SUMMARY:27e Paasloop Kilder\, gemeente Montferland (GE)
DESCRIPTION:Doe mee met het hardloopevenement 27e Paasloop te Kilder\, gemeente Montferland (GE) op zo 05 apr 2009. De volgende afstanden staan op het programma: 1\,2 km – 2\,5 km – 5 km – 10 km hardlopen. Wilt u inschrijven voor dit loopevenement?  Raadpleeg hiervoor dan de website van de organisatie\nDe uitslagen van deze hardloopwedstrijd zijn te raadplegen via dezelfde website of via de bekende websites zoals uitslagen.nl\, runtimer en mylaps. Doet u mee met dit evenement\, zorg dan dat u goed voorbereid aan de start staat! Met een goed trainingsschema komt u een heel eind. Train bijvoorbeeld met start to run van Evy Gruyaert. Download de start to run mp3 bestanden en zet ze op uw telefoon. Oortjes in\, hit the play button en en rennen maar! \n\n\n\n\nMeer informatie over 27e Paasloop op Hardloopkalender.nl  \nStart en Finish:   Sportpark \’De Tol\’  Zuiderstraat 12  7035 AW Kilder     Starttijden:    9.30 uur: 2\,5 km t m 14 jaar  10.00 uur: 5 km  10.45 uur: 10 km  10.50 uur: 1\,2 km t m 9 jaar    Parcours:   De 5 en 10 kilometer gaan over 1 ronde\, die gedeeltelijk gaat door het mooie\, heuvelachtige Montferlandse bos.   De jeugdafstanden (1\,2 en 2\,5 km) vinden op en rondom het sportpark plaats.         Meer informatie:   Th. Bleumer: 0314-683115  J. Wolbrink: 0314-681925  e-mail: info.paasloopkilder@gmail.com \n  \n  \n 
URL:https://hardloopevenementen.com/loopagenda/27e-paasloop-kilder-gemeente-montferland-ge/
END:VEVENT
END:VCALENDAR