BEGIN:VCALENDAR
VERSION:2.0
PRODID:-//Hardloopevenementen - ECPv6.15.14//NONSGML v1.0//EN
CALSCALE:GREGORIAN
METHOD:PUBLISH
X-WR-CALNAME:Hardloopevenementen
X-ORIGINAL-URL:https://hardloopevenementen.com
X-WR-CALDESC:Evenementen voor Hardloopevenementen
REFRESH-INTERVAL;VALUE=DURATION:PT1H
X-Robots-Tag:noindex
X-PUBLISHED-TTL:PT1H
BEGIN:VTIMEZONE
TZID:UTC
BEGIN:STANDARD
TZOFFSETFROM:+0000
TZOFFSETTO:+0000
TZNAME:UTC
DTSTART:20130101T000000
END:STANDARD
END:VTIMEZONE
BEGIN:VEVENT
DTSTART;VALUE=DATE:20160702
DTEND;VALUE=DATE:20160703
DTSTAMP:20260423T063142
CREATED:20140730T063017Z
LAST-MODIFIED:20190423T112359Z
UID:12405-1467417600-1467417600@hardloopevenementen.com
SUMMARY:Lopster Torenloop Loppersum (GR)
DESCRIPTION:Doe mee met het hardloopevenement Lopster Torenloop te Loppersum (GR) op za 02 jul 2016. De volgende afstanden staan op het programma: 5 km – 10 km hardlopen. Wilt u inschrijven voor dit loopevenement?  Raadpleeg hiervoor dan de website van de organisatie\nDe uitslagen van deze hardloopwedstrijd zijn te raadplegen via dezelfde website of via de bekende websites zoals uitslagen.nl\, runtimer en mylaps. Doet u mee met dit evenement\, zorg dan dat u goed voorbereid aan de start staat! Met een goed trainingsschema komt u een heel eind. Train bijvoorbeeld met start to run van Evy Gruyaert. Download de start to run mp3 bestanden en zet ze op uw telefoon. Oortjes in\, hit the play button en en rennen maar! \n\n\n\n\nMeer informatie over Lopster Torenloop op Hardloopkalender.nl  \nNa afwezigheid van een aantal jaren is door de organisatie van MFAC de Lopster Torenloop weer op de kaart gezet in Loppersum. Een prachtig evenement waar velen goede herinneringen aan hebben. Op 2 juli is het zover. Loppersum zal weer in het teken staan van hard-lopende deelnemers van de Lopster Torenloop. \n  \n  \n 
URL:https://hardloopevenementen.com/loopagenda/lopster-torenloop-loppersum-gr/
END:VEVENT
BEGIN:VEVENT
DTSTART;VALUE=DATE:20140427
DTEND;VALUE=DATE:20140428
DTSTAMP:20260423T063142
CREATED:20141214T183410Z
LAST-MODIFIED:20190423T105558Z
UID:34233-1398556800-1398556800@hardloopevenementen.com
SUMMARY:Huizinga Marathon Loppersum (GR)
DESCRIPTION:Doe mee met het hardloopevenement Huizinga Marathon te Loppersum (GR) op zo 27 apr 2014. De volgende afstanden staan op het programma: 5 km – 10 km – halve marathon – marathon hardlopen. Wilt u inschrijven voor dit loopevenement?  Raadpleeg hiervoor dan de website van de organisatie\nDe uitslagen van deze hardloopwedstrijd zijn te raadplegen via dezelfde website of via de bekende websites zoals uitslagen.nl\, runtimer en mylaps. Doet u mee met dit evenement\, zorg dan dat u goed voorbereid aan de start staat! Met een goed trainingsschema komt u een heel eind. Train bijvoorbeeld met start to run van Evy Gruyaert. Download de start to run mp3 bestanden en zet ze op uw telefoon. Oortjes in\, hit the play button en en rennen maar! \n\n\n\n\nMeer informatie over Huizinga Marathon op Hardloopkalender.nl  \n  \n  \n 
URL:https://hardloopevenementen.com/loopagenda/huizinga-marathon-loppersum-gr/
END:VEVENT
END:VCALENDAR