BEGIN:VCALENDAR
VERSION:2.0
PRODID:-//Hardloopevenementen - ECPv6.15.14//NONSGML v1.0//EN
CALSCALE:GREGORIAN
METHOD:PUBLISH
X-ORIGINAL-URL:https://hardloopevenementen.com
X-WR-CALDESC:Evenementen voor Hardloopevenementen
REFRESH-INTERVAL;VALUE=DURATION:PT1H
X-Robots-Tag:noindex
X-PUBLISHED-TTL:PT1H
BEGIN:VTIMEZONE
TZID:UTC
BEGIN:STANDARD
TZOFFSETFROM:+0000
TZOFFSETTO:+0000
TZNAME:UTC
DTSTART:20130101T000000
END:STANDARD
END:VTIMEZONE
BEGIN:VEVENT
DTSTART;VALUE=DATE:20180601
DTEND;VALUE=DATE:20180602
DTSTAMP:20260426T031551
CREATED:20080329T115504Z
LAST-MODIFIED:20190423T120439Z
UID:16497-1527811200-1527811200@hardloopevenementen.com
SUMMARY:Vunderkeloop Macharen\, gemeente Oss (NB)
DESCRIPTION:Doe mee met het hardloopevenement Vunderkeloop te Macharen\, gemeente Oss (NB) op vr 01 jun 2018. De volgende afstanden staan op het programma: 5 km – 10 km hardlopen. Wilt u inschrijven voor dit loopevenement?  Raadpleeg hiervoor dan de website van de organisatie\nDe uitslagen van deze hardloopwedstrijd zijn te raadplegen via dezelfde website of via de bekende websites zoals uitslagen.nl\, runtimer en mylaps. Doet u mee met dit evenement\, zorg dan dat u goed voorbereid aan de start staat! Met een goed trainingsschema komt u een heel eind. Train bijvoorbeeld met start to run van Evy Gruyaert. Download de start to run mp3 bestanden en zet ze op uw telefoon. Oortjes in\, hit the play button en en rennen maar! \n\n\n\n\nMeer informatie over Vunderkeloop op Hardloopkalender.nl  \nOnderdeel van de MaaslandRunClassic van AV Oss’78. Een circuit van 10 wedstrijden romdom Oss. Wedstrijden van 5 of 10 km.  ’t Vunderke Macharen Jurgen en Loes Verhoeven van Grand Cafe ’t Vunderke in Macharen\, verwelkomt je graag! Je kunt hier terecht voor een lekker kopje koffie of een drankje en een hapje. Het grandcafé heeft een uitgebreide kaart voor zowel lunch\, diner als borrel. De veranda en het terras bieden een heerlijke plek om bij te komen van een … \n  \n  \n 
URL:https://hardloopevenementen.com/loopagenda/vunderkeloop-macharen-gemeente-oss-nb/
END:VEVENT
BEGIN:VEVENT
DTSTART;VALUE=DATE:20140516
DTEND;VALUE=DATE:20140517
DTSTAMP:20260426T031551
CREATED:20080721T125445Z
LAST-MODIFIED:20190423T105526Z
UID:34107-1400198400-1400198400@hardloopevenementen.com
SUMMARY:Vunderkeloop Macharen\, gemeente Oss (NB)
DESCRIPTION:Doe mee met het hardloopevenement Vunderkeloop te Macharen\, gemeente Oss (NB) op vr 16 mei 2014. De volgende afstanden staan op het programma: 5 km – 10 km hardlopen. Wilt u inschrijven voor dit loopevenement?  Raadpleeg hiervoor dan de website van de organisatie\nDe uitslagen van deze hardloopwedstrijd zijn te raadplegen via dezelfde website of via de bekende websites zoals uitslagen.nl\, runtimer en mylaps. Doet u mee met dit evenement\, zorg dan dat u goed voorbereid aan de start staat! Met een goed trainingsschema komt u een heel eind. Train bijvoorbeeld met start to run van Evy Gruyaert. Download de start to run mp3 bestanden en zet ze op uw telefoon. Oortjes in\, hit the play button en en rennen maar! \n\n\n\n\nMeer informatie over Vunderkeloop op Hardloopkalender.nl  \nHet loopevenement Vunderkeloop te Macharen vindt plaats op vrijdag 16 mei 2014. De loop wordt georganisseerd door AV Oss `78. Klik hier voor het adres van de start (Google Maps). \n  \n  \n 
URL:https://hardloopevenementen.com/loopagenda/vunderkeloop-macharen-gemeente-oss-nb-2/
END:VEVENT
END:VCALENDAR