BEGIN:VCALENDAR
VERSION:2.0
PRODID:-//Hardloopevenementen - ECPv6.15.14//NONSGML v1.0//EN
CALSCALE:GREGORIAN
METHOD:PUBLISH
X-WR-CALNAME:Hardloopevenementen
X-ORIGINAL-URL:https://hardloopevenementen.com
X-WR-CALDESC:Evenementen voor Hardloopevenementen
REFRESH-INTERVAL;VALUE=DURATION:PT1H
X-Robots-Tag:noindex
X-PUBLISHED-TTL:PT1H
BEGIN:VTIMEZONE
TZID:UTC
BEGIN:STANDARD
TZOFFSETFROM:+0000
TZOFFSETTO:+0000
TZNAME:UTC
DTSTART:20070101T000000
END:STANDARD
END:VTIMEZONE
BEGIN:VEVENT
DTSTART;VALUE=DATE:20080427
DTEND;VALUE=DATE:20080428
DTSTAMP:20260424T121955
CREATED:20110729T175015Z
LAST-MODIFIED:20190423T094745Z
UID:19803-1209254400-1209254400@hardloopevenementen.com
SUMMARY:Startbaanrun Soesterberg
DESCRIPTION:Doe mee met het hardloopevenement Startbaanrun te Soesterberg op zo 27 apr 2008. De volgende afstanden staan op het programma: 5 km – 10 km hardlopen. Wilt u inschrijven voor dit loopevenement?  Raadpleeg hiervoor dan de website van de organisatie\nDe uitslagen van deze hardloopwedstrijd zijn te raadplegen via dezelfde website of via de bekende websites zoals uitslagen.nl\, runtimer en mylaps. Doet u mee met dit evenement\, zorg dan dat u goed voorbereid aan de start staat! Met een goed trainingsschema komt u een heel eind. Train bijvoorbeeld met start to run van Evy Gruyaert. Download de start to run mp3 bestanden en zet ze op uw telefoon. Oortjes in\, hit the play button en en rennen maar! \n\n\n\n\nMeer informatie over Startbaanrun op Hardloopkalender.nl  \nLET OP – DEZE LOOP GAAT NIET DOOR IN 2008!!      persbericht:  Het initiatief van Stichting Vaarwel Vliegbasis Soesterberg (VVS) om met tal van activiteiten (waaronder de Startbaanrun\, redactie) waardig  afscheid te nemen van het militaire vliegveld Soesterberg is uitgesteld naar een nog nader te bepalen  moment. Dit zijn de burgemeester van de gemeente Soest\, de Commandant van Vliegbasis Soesterberg van  de Koninklijke Luchtmacht en de voorzitter van de Stichting VVS overeengekomen.  De activiteiten kunnen niet\, zoals Stichting VVS graag wilde\, plaatsvinden in het voorjaar van 2008. Eén van  de redenen daarvoor is de verlenging van de missie in Afghanistan\, die grote invloed heeft op de  werkzaamheden op de vliegbasis. Ook de latere fysieke verhuizing van de transporthelikopters van de  Koninklijke Luchtmacht\, gehuisvest op de vliegbasis Soesterberg\, naar de vliegbasis Gilze-Rijen speelt een  belangrijke rol. Beide maken het organiseren van afscheidsactiviteiten op het vliegveld de komende maanden  onmogelijk. Stichting VVS\, gemeente Soest en Vliegbasis Soesterberg hebben nauw overleg over een  nieuwe datum en een gepast programma waarmee omwonenden afscheid kunnen nemen van de vliegfunctie  van Soesterberg.  Vliegen verdwijnt\, Defensie blijft  Hoewel de vliegfunctie van Soesterberg vervalt\, blijft een deel van de basis wel een Defensiecomplex. Circa  1400 medewerkers blijven werkzaam op deze militaire basis in verschillende ondersteunende diensten van  Defensie. Het vervallen van de militaire vliegfunctie is een gedenkwaardig moment voor het dorp  Soesterberg. Soesterberg is wereldwijd bekend als de bakermat van de militaire luchtvaart in Nederland en  de aanwezigheid van het vliegveld heeft in belangrijke mate bijgedragen aan de identiteit van het dorp.  . \n  \n  \n 
URL:https://hardloopevenementen.com/loopagenda/startbaanrun-soesterberg/
END:VEVENT
END:VCALENDAR