BEGIN:VCALENDAR
VERSION:2.0
PRODID:-//Hardloopevenementen - ECPv6.15.14//NONSGML v1.0//EN
CALSCALE:GREGORIAN
METHOD:PUBLISH
X-WR-CALNAME:Hardloopevenementen
X-ORIGINAL-URL:https://hardloopevenementen.com
X-WR-CALDESC:Evenementen voor Hardloopevenementen
REFRESH-INTERVAL;VALUE=DURATION:PT1H
X-Robots-Tag:noindex
X-PUBLISHED-TTL:PT1H
BEGIN:VTIMEZONE
TZID:UTC
BEGIN:STANDARD
TZOFFSETFROM:+0000
TZOFFSETTO:+0000
TZNAME:UTC
DTSTART:20070101T000000
END:STANDARD
END:VTIMEZONE
BEGIN:VEVENT
DTSTART;VALUE=DATE:20081206
DTEND;VALUE=DATE:20081207
DTSTAMP:20260424T083308
CREATED:20130517T151300Z
LAST-MODIFIED:20190423T094350Z
UID:976-1228521600-1228521600@hardloopevenementen.com
SUMMARY:Vijfhoekparkloop Zaandam
DESCRIPTION:Doe mee met het hardloopevenement Vijfhoekparkloop te Zaandam op za 06 dec 2008. De volgende afstanden staan op het programma: 1\,8 km – 5 km – 10 km hardlopen. Wilt u inschrijven voor dit loopevenement?  Raadpleeg hiervoor dan de website van de organisatie\nDe uitslagen van deze hardloopwedstrijd zijn te raadplegen via dezelfde website of via de bekende websites zoals uitslagen.nl\, runtimer en mylaps. Doet u mee met dit evenement\, zorg dan dat u goed voorbereid aan de start staat! Met een goed trainingsschema komt u een heel eind. Train bijvoorbeeld met start to run van Evy Gruyaert. Download de start to run mp3 bestanden en zet ze op uw telefoon. Oortjes in\, hit the play button en en rennen maar! \n\n\n\n\nMeer informatie over Vijfhoekparkloop op Hardloopkalender.nl  \n1\,8-5-10 km 11:00 uur \n  \n  \n 
URL:https://hardloopevenementen.com/loopagenda/vijfhoekparkloop-zaandam/
END:VEVENT
BEGIN:VEVENT
DTSTART;VALUE=DATE:20081122
DTEND;VALUE=DATE:20081123
DTSTAMP:20260424T083308
CREATED:20071230T171516Z
LAST-MODIFIED:20190423T094406Z
UID:1043-1227312000-1227312000@hardloopevenementen.com
SUMMARY:Vijfhoekparkloop Zaandam
DESCRIPTION:Doe mee met het hardloopevenement Vijfhoekparkloop te Zaandam op za 22 nov 2008. De volgende afstanden staan op het programma: 1\,8 km – 5 km – 10 km hardlopen. Wilt u inschrijven voor dit loopevenement?  Raadpleeg hiervoor dan de website van de organisatie\nDe uitslagen van deze hardloopwedstrijd zijn te raadplegen via dezelfde website of via de bekende websites zoals uitslagen.nl\, runtimer en mylaps. Doet u mee met dit evenement\, zorg dan dat u goed voorbereid aan de start staat! Met een goed trainingsschema komt u een heel eind. Train bijvoorbeeld met start to run van Evy Gruyaert. Download de start to run mp3 bestanden en zet ze op uw telefoon. Oortjes in\, hit the play button en en rennen maar! \n\n\n\n\nMeer informatie over Vijfhoekparkloop op Hardloopkalender.nl  \nstart 1\,8-5-10 km 11:00 uur \n  \n  \n 
URL:https://hardloopevenementen.com/loopagenda/vijfhoekparkloop-zaandam-2/
END:VEVENT
BEGIN:VEVENT
DTSTART;VALUE=DATE:20081108
DTEND;VALUE=DATE:20081109
DTSTAMP:20260424T083308
CREATED:20090325T160905Z
LAST-MODIFIED:20190423T094419Z
UID:1103-1226102400-1226102400@hardloopevenementen.com
SUMMARY:Vijfhoekparkloop Zaandam
DESCRIPTION:Doe mee met het hardloopevenement Vijfhoekparkloop te Zaandam op za 08 nov 2008. De volgende afstanden staan op het programma: 1\,8 km – 5 km – 10 km hardlopen. Wilt u inschrijven voor dit loopevenement?  Raadpleeg hiervoor dan de website van de organisatie\nDe uitslagen van deze hardloopwedstrijd zijn te raadplegen via dezelfde website of via de bekende websites zoals uitslagen.nl\, runtimer en mylaps. Doet u mee met dit evenement\, zorg dan dat u goed voorbereid aan de start staat! Met een goed trainingsschema komt u een heel eind. Train bijvoorbeeld met start to run van Evy Gruyaert. Download de start to run mp3 bestanden en zet ze op uw telefoon. Oortjes in\, hit the play button en en rennen maar! \n\n\n\n\nMeer informatie over Vijfhoekparkloop op Hardloopkalender.nl  \nstart 1\,8-5-10 km 11:00 uur  Startadres: Sportpark Poelenburg  Postcode: 1504NW  Kleedgelegenheid en EHBO  Info: P. de Zeeuw (075-6312536) \n  \n  \n 
URL:https://hardloopevenementen.com/loopagenda/vijfhoekparkloop-zaandam-3/
END:VEVENT
BEGIN:VEVENT
DTSTART;VALUE=DATE:20081025
DTEND;VALUE=DATE:20081026
DTSTAMP:20260424T083308
CREATED:20140112T203642Z
LAST-MODIFIED:20190423T094438Z
UID:1183-1224892800-1224892800@hardloopevenementen.com
SUMMARY:Vijfhoekparkloop Zaandam
DESCRIPTION:Doe mee met het hardloopevenement Vijfhoekparkloop te Zaandam op za 25 okt 2008. De volgende afstanden staan op het programma: 1\,8 km – 5 km – 10 km hardlopen. Wilt u inschrijven voor dit loopevenement?  Raadpleeg hiervoor dan de website van de organisatie\nDe uitslagen van deze hardloopwedstrijd zijn te raadplegen via dezelfde website of via de bekende websites zoals uitslagen.nl\, runtimer en mylaps. Doet u mee met dit evenement\, zorg dan dat u goed voorbereid aan de start staat! Met een goed trainingsschema komt u een heel eind. Train bijvoorbeeld met start to run van Evy Gruyaert. Download de start to run mp3 bestanden en zet ze op uw telefoon. Oortjes in\, hit the play button en en rennen maar! \n\n\n\n\nMeer informatie over Vijfhoekparkloop op Hardloopkalender.nl  \n1\,8-5-10 km 11:00 uur \n  \n  \n 
URL:https://hardloopevenementen.com/loopagenda/vijfhoekparkloop-zaandam-4/
END:VEVENT
BEGIN:VEVENT
DTSTART;VALUE=DATE:20080913
DTEND;VALUE=DATE:20080914
DTSTAMP:20260424T083308
CREATED:20110407T223328Z
LAST-MODIFIED:20190423T094529Z
UID:19197-1221264000-1221264000@hardloopevenementen.com
SUMMARY:Zaankanterloop Zaandam
DESCRIPTION:Doe mee met het hardloopevenement Zaankanterloop te Zaandam op za 13 sep 2008. De volgende afstanden staan op het programma: 5 km – 10 km hardlopen. Wilt u inschrijven voor dit loopevenement?  Raadpleeg hiervoor dan de website van de organisatie\nDe uitslagen van deze hardloopwedstrijd zijn te raadplegen via dezelfde website of via de bekende websites zoals uitslagen.nl\, runtimer en mylaps. Doet u mee met dit evenement\, zorg dan dat u goed voorbereid aan de start staat! Met een goed trainingsschema komt u een heel eind. Train bijvoorbeeld met start to run van Evy Gruyaert. Download de start to run mp3 bestanden en zet ze op uw telefoon. Oortjes in\, hit the play button en en rennen maar! \n\n\n\n\nMeer informatie over Zaankanterloop op Hardloopkalender.nl  \n5-10 km 19:00 uur \n  \n  \n 
URL:https://hardloopevenementen.com/loopagenda/zaankanterloop-zaandam/
END:VEVENT
END:VCALENDAR