BEGIN:VCALENDAR
VERSION:2.0
PRODID:-//Hardloopevenementen - ECPv6.15.14//NONSGML v1.0//EN
CALSCALE:GREGORIAN
METHOD:PUBLISH
X-WR-CALNAME:Hardloopevenementen
X-ORIGINAL-URL:https://hardloopevenementen.com
X-WR-CALDESC:Evenementen voor Hardloopevenementen
REFRESH-INTERVAL;VALUE=DURATION:PT1H
X-Robots-Tag:noindex
X-PUBLISHED-TTL:PT1H
BEGIN:VTIMEZONE
TZID:UTC
BEGIN:STANDARD
TZOFFSETFROM:+0000
TZOFFSETTO:+0000
TZNAME:UTC
DTSTART:20070101T000000
END:STANDARD
END:VTIMEZONE
BEGIN:VEVENT
DTSTART;VALUE=DATE:20091226
DTEND;VALUE=DATE:20091227
DTSTAMP:20260421T012345
CREATED:20130624T110149Z
LAST-MODIFIED:20190423T095619Z
UID:1265-1261785600-1261785600@hardloopevenementen.com
SUMMARY:Meerburg Kerstloop Zoeterwoude-Rijndijk\, gemeente Zoeterwoude (ZH)
DESCRIPTION:Doe mee met het hardloopevenement Meerburg Kerstloop te Zoeterwoude-Rijndijk\, gemeente Zoeterwoude (ZH) op za 26 dec 2009. De volgende afstanden staan op het programma: 2\,5 km – 5 km – 10 km hardlopen. Wilt u inschrijven voor dit loopevenement?  Raadpleeg hiervoor dan de website van de organisatie\nDe uitslagen van deze hardloopwedstrijd zijn te raadplegen via dezelfde website of via de bekende websites zoals uitslagen.nl\, runtimer en mylaps. Doet u mee met dit evenement\, zorg dan dat u goed voorbereid aan de start staat! Met een goed trainingsschema komt u een heel eind. Train bijvoorbeeld met start to run van Evy Gruyaert. Download de start to run mp3 bestanden en zet ze op uw telefoon. Oortjes in\, hit the play button en en rennen maar! \n\n\n\n\nMeer informatie over Meerburg Kerstloop op Hardloopkalender.nl  \nDit loopevenement wordt georganiseerd door VV Meerburg.De eerste afstand (of onderdeel) start om 13:00.Het adres van de start is Hans Ecklplein1 Het adres van de finish is Hans Ecklplein 1Categorie(ën): mannen\, vrouwen\, jeugdVooraf inschrijven is mogelijk vanaf 28 oktober 2009 tot niet van toepassing.Inschrijven op de dag van de loop is mogelijk (vanaf 10.00 uur) op dit adres: Sportpark De Heijkuul\,Langeweg 4 Gennep.Meer informatie:Contactpersoon: P.v.d.HeijdenTel.: 0629282732Email: pikevanderheijden@casema.nlEr is een kleedaccomodatie aanwezig. Douchen is mogelijk.Het parcours is verhard.Vorig jaar deden er 195 lopers mee aan dit evenement.Overige bijzonderheden:  Wordt voor de 36-ste keer gehouden \n  \n  \n 
URL:https://hardloopevenementen.com/loopagenda/meerburg-kerstloop-zoeterwoude-rijndijk-gemeente-zoeterwoude-zh/
END:VEVENT
BEGIN:VEVENT
DTSTART;VALUE=DATE:20081226
DTEND;VALUE=DATE:20081227
DTSTAMP:20260421T012345
CREATED:20180305T141924Z
LAST-MODIFIED:20190423T094238Z
UID:861-1230249600-1230249600@hardloopevenementen.com
SUMMARY:Meerburg Kerstloop Zoeterwoude-Rijndijk
DESCRIPTION:Doe mee met het hardloopevenement Meerburg Kerstloop te Zoeterwoude-Rijndijk op vr 26 dec 2008. De volgende afstanden staan op het programma: 2\,5 km – 5 km – 10 km hardlopen. Wilt u inschrijven voor dit loopevenement?  Raadpleeg hiervoor dan de website van de organisatie\nDe uitslagen van deze hardloopwedstrijd zijn te raadplegen via dezelfde website of via de bekende websites zoals uitslagen.nl\, runtimer en mylaps. Doet u mee met dit evenement\, zorg dan dat u goed voorbereid aan de start staat! Met een goed trainingsschema komt u een heel eind. Train bijvoorbeeld met start to run van Evy Gruyaert. Download de start to run mp3 bestanden en zet ze op uw telefoon. Oortjes in\, hit the play button en en rennen maar! \n\n\n\n\nMeer informatie over Meerburg Kerstloop op Hardloopkalender.nl  \n2\,5-5-10 km 13:00 uur \n  \n  \n 
URL:https://hardloopevenementen.com/loopagenda/meerburg-kerstloop-zoeterwoude-rijndijk/
END:VEVENT
END:VCALENDAR