BEGIN:VCALENDAR
VERSION:2.0
PRODID:-//Hardloopevenementen - ECPv6.15.14//NONSGML v1.0//EN
CALSCALE:GREGORIAN
METHOD:PUBLISH
X-WR-CALNAME:Hardloopevenementen
X-ORIGINAL-URL:https://hardloopevenementen.com
X-WR-CALDESC:Evenementen voor Hardloopevenementen
REFRESH-INTERVAL;VALUE=DURATION:PT1H
X-Robots-Tag:noindex
X-PUBLISHED-TTL:PT1H
BEGIN:VTIMEZONE
TZID:UTC
BEGIN:STANDARD
TZOFFSETFROM:+0000
TZOFFSETTO:+0000
TZNAME:UTC
DTSTART:20090101T000000
END:STANDARD
END:VTIMEZONE
BEGIN:VEVENT
DTSTART;VALUE=DATE:20130908
DTEND;VALUE=DATE:20130909
DTSTAMP:20260424T072347
CREATED:20140503T072451Z
LAST-MODIFIED:20190423T104015Z
UID:31164-1378598400-1378598400@hardloopevenementen.com
SUMMARY:Vescom Halve Marathon Deurne (NB)
DESCRIPTION:Doe mee met het hardloopevenement Vescom Halve Marathon te Deurne (NB) op zo 08 sep 2013. De volgende afstanden staan op het programma: 5\,1 km – 10 km – halve marathon hardlopen. Wilt u inschrijven voor dit loopevenement?  Raadpleeg hiervoor dan de website van de organisatie\nDe uitslagen van deze hardloopwedstrijd zijn te raadplegen via dezelfde website of via de bekende websites zoals uitslagen.nl\, runtimer en mylaps. Doet u mee met dit evenement\, zorg dan dat u goed voorbereid aan de start staat! Met een goed trainingsschema komt u een heel eind. Train bijvoorbeeld met start to run van Evy Gruyaert. Download de start to run mp3 bestanden en zet ze op uw telefoon. Oortjes in\, hit the play button en en rennen maar! \n\n\n\n\nMeer informatie over Vescom Halve Marathon op Hardloopkalender.nl  \nHet loopevenement Vescom Halve Marathon te Deurne vindt plaats op zondag 8 september 2013. De loop wordt georganisseerd door Lopersgroep Deurne. Inschrijven is mogelijk vanaf 01 augustus 2013. Klik hier voor het adres van de start (Google Maps).Er is verkleedaccomodatie met douchemogelijkheid aanwezig. Er is EHBO aanwezig. Voor meer informatie:Brigitte VerberneBrigitte.Atletiek@gmail.com0493845919http:  www.av-lgd.nl \n  \n  \n 
URL:https://hardloopevenementen.com/loopagenda/vescom-halve-marathon-deurne-nb-3/
END:VEVENT
BEGIN:VEVENT
DTSTART;VALUE=DATE:20120916
DTEND;VALUE=DATE:20120917
DTSTAMP:20260424T072347
CREATED:20110506T111516Z
LAST-MODIFIED:20190423T102923Z
UID:7707-1347753600-1347753600@hardloopevenementen.com
SUMMARY:Helicon Halve Marathon Deurne (NB)
DESCRIPTION:Doe mee met het hardloopevenement Helicon Halve Marathon te Deurne (NB) op zo 16 sep 2012. De volgende afstanden staan op het programma: 5\,1 km hardlopen. Wilt u inschrijven voor dit loopevenement?  Raadpleeg hiervoor dan de website van de organisatie\nDe uitslagen van deze hardloopwedstrijd zijn te raadplegen via dezelfde website of via de bekende websites zoals uitslagen.nl\, runtimer en mylaps. Doet u mee met dit evenement\, zorg dan dat u goed voorbereid aan de start staat! Met een goed trainingsschema komt u een heel eind. Train bijvoorbeeld met start to run van Evy Gruyaert. Download de start to run mp3 bestanden en zet ze op uw telefoon. Oortjes in\, hit the play button en en rennen maar! \n\n\n\n\nMeer informatie over Helicon Halve Marathon op Hardloopkalender.nl  \nHet loopevenement Helicon Halve Marathon te Deurne vindt plaats op zondag 16 september 2012. De loop wordt georganiseerd door Lopersgroep Deurne. Inschrijven is mogelijk vanaf 01 augustus 2012. Klik hier voor het adres van de start (Google Maps).Er is EHBO aanwezig. Afstand SoortloopInschrijfgeldStarttijdInfo5.1 km5\,00vanaf10.00uurVoor meer informatie:Brigitte Verbernefritsn@wanadoo.nl0650876383http:  www.av-lgd.nl \n  \n  \n 
URL:https://hardloopevenementen.com/loopagenda/helicon-halve-marathon-deurne-nb-2/
END:VEVENT
BEGIN:VEVENT
DTSTART;VALUE=DATE:20120517
DTEND;VALUE=DATE:20120518
DTSTAMP:20260424T072347
CREATED:20180708T134929Z
LAST-MODIFIED:20190423T103225Z
UID:28367-1337212800-1337212800@hardloopevenementen.com
SUMMARY:Dreefloop Deurne (NB)
DESCRIPTION:Doe mee met het hardloopevenement Dreefloop te Deurne (NB) op do 17 mei 2012. De volgende afstanden staan op het programma: 5\,1 km hardlopen. Wilt u inschrijven voor dit loopevenement?  Raadpleeg hiervoor dan de website van de organisatie\nDe uitslagen van deze hardloopwedstrijd zijn te raadplegen via dezelfde website of via de bekende websites zoals uitslagen.nl\, runtimer en mylaps. Doet u mee met dit evenement\, zorg dan dat u goed voorbereid aan de start staat! Met een goed trainingsschema komt u een heel eind. Train bijvoorbeeld met start to run van Evy Gruyaert. Download de start to run mp3 bestanden en zet ze op uw telefoon. Oortjes in\, hit the play button en en rennen maar! \n\n\n\n\nMeer informatie over Dreefloop op Hardloopkalender.nl  \nHet loopevenement Dreefloop te Deurne vindt plaats op donderdag 17 mei 2012. De loop wordt georganiseerd door Lopersgroep Deurne. Inschrijven is mogelijk vanaf 01 april 2012. Klik hier voor het adres van de start (Google Maps).Er is EHBO aanwezig. Afstand SoortloopInschrijfgeldStarttijdInfo5.1 km0\,0010.00uurVoor meer informatie:Brigitte Verbernefritsn@wanadoo.nl0650876383http:  www.av-lgd.nl \n  \n  \n 
URL:https://hardloopevenementen.com/loopagenda/dreefloop-deurne-nb-4/
END:VEVENT
BEGIN:VEVENT
DTSTART;VALUE=DATE:20110918
DTEND;VALUE=DATE:20110919
DTSTAMP:20260424T072347
CREATED:20150911T084348Z
LAST-MODIFIED:20190423T101842Z
UID:6310-1316304000-1316304000@hardloopevenementen.com
SUMMARY:Groene Campus Halve Marathon Deurne (NB)
DESCRIPTION:Doe mee met het hardloopevenement Groene Campus Halve Marathon te Deurne (NB) op zo 18 sep 2011. De volgende afstanden staan op het programma: 5\,1 km – halve marathon hardlopen. Wilt u inschrijven voor dit loopevenement?  Raadpleeg hiervoor dan de website van de organisatie\nDe uitslagen van deze hardloopwedstrijd zijn te raadplegen via dezelfde website of via de bekende websites zoals uitslagen.nl\, runtimer en mylaps. Doet u mee met dit evenement\, zorg dan dat u goed voorbereid aan de start staat! Met een goed trainingsschema komt u een heel eind. Train bijvoorbeeld met start to run van Evy Gruyaert. Download de start to run mp3 bestanden en zet ze op uw telefoon. Oortjes in\, hit the play button en en rennen maar! \n\n\n\n\nMeer informatie over Groene Campus Halve Marathon op Hardloopkalender.nl  \nHet loopevenement Groene Campus Halve Marathon te Deurne vindt plaats op zondag 18 september 2011. De loop wordt georganiseerd door Lopersgroep Deurne. Inschrijven is mogelijk vanaf 18 augustus 2011. Klik hier voor het adres van de start (Google Maps).Er is verkleedaccomodatie met douchemogelijkheid aanwezig. Er is EHBO aanwezig. Afstand(km)Inschrijfgeld(€)Starttijdn.v.t.€0\,00n.v.t.Voor meer informatie:Brigitte Verbernebrigittepsv@kpnplanet.nl0492536066http:  www.av-lgd.nl \n  \n  \n 
URL:https://hardloopevenementen.com/loopagenda/groene-campus-halve-marathon-deurne-nb-2/
END:VEVENT
BEGIN:VEVENT
DTSTART;VALUE=DATE:20110602
DTEND;VALUE=DATE:20110603
DTSTAMP:20260424T072347
CREATED:20111026T231727Z
LAST-MODIFIED:20190423T102111Z
UID:6882-1306972800-1306972800@hardloopevenementen.com
SUMMARY:Dreefloop Deurne (NB)
DESCRIPTION:Doe mee met het hardloopevenement Dreefloop te Deurne (NB) op do 02 jun 2011. De volgende afstanden staan op het programma: 5\,1 km – 15 km hardlopen. Wilt u inschrijven voor dit loopevenement?  Raadpleeg hiervoor dan de website van de organisatie\nDe uitslagen van deze hardloopwedstrijd zijn te raadplegen via dezelfde website of via de bekende websites zoals uitslagen.nl\, runtimer en mylaps. Doet u mee met dit evenement\, zorg dan dat u goed voorbereid aan de start staat! Met een goed trainingsschema komt u een heel eind. Train bijvoorbeeld met start to run van Evy Gruyaert. Download de start to run mp3 bestanden en zet ze op uw telefoon. Oortjes in\, hit the play button en en rennen maar! \n\n\n\n\nMeer informatie over Dreefloop op Hardloopkalender.nl  \nHet loopevenement Dreefloop te Deurne vindt plaats op donderdag 02 juni 2011. De loop wordt georganiseerd door Lopersgroep Deurne. Inschrijven is mogelijk vanaf 02 mei 2011. Klik hier voor het adres van de start (Google Maps).Er is verkleedaccomodatie met douchemogelijkheid aanwezig. Er is EHBO aanwezig. Afstand(km)Inschrijfgeld(€)Starttijdn.v.t.€0\,00n.v.t.Voor meer informatie:Brigitte Verbernebrigittepsv@kpnplanet.nl0492536066http:  www.av-lgd.nl \n  \n  \n 
URL:https://hardloopevenementen.com/loopagenda/dreefloop-deurne-nb-2/
END:VEVENT
BEGIN:VEVENT
DTSTART;VALUE=DATE:20100919
DTEND;VALUE=DATE:20100920
DTSTAMP:20260424T072347
CREATED:20121123T160717Z
LAST-MODIFIED:20190423T100837Z
UID:3584-1284854400-1284854400@hardloopevenementen.com
SUMMARY:Groene Campus halve marathon Deurne (NB)
DESCRIPTION:Doe mee met het hardloopevenement Groene Campus halve marathon te Deurne (NB) op zo 19 sep 2010. De volgende afstanden staan op het programma: 5\,1 km – halve marathon hardlopen. Wilt u inschrijven voor dit loopevenement?  Raadpleeg hiervoor dan de website van de organisatie\nDe uitslagen van deze hardloopwedstrijd zijn te raadplegen via dezelfde website of via de bekende websites zoals uitslagen.nl\, runtimer en mylaps. Doet u mee met dit evenement\, zorg dan dat u goed voorbereid aan de start staat! Met een goed trainingsschema komt u een heel eind. Train bijvoorbeeld met start to run van Evy Gruyaert. Download de start to run mp3 bestanden en zet ze op uw telefoon. Oortjes in\, hit the play button en en rennen maar! \n\n\n\n\nMeer informatie over Groene Campus halve marathon op Hardloopkalender.nl  \nDit loopevenement wordt georganiseerd door Lopersgroep Deurne.De eerste afstand (of onderdeel) start om 11:30.Het adres van de start is Markt 1 Het adres van de finish is Markt1Categorie(ën): mannen\, vrouwen\, jeugdVooraf inschrijven is mogelijk vanaf 10 augustus 2010 tot 12 september 2010.Inschrijven op de dag van de loop is mogelijk (vanaf 10.00 uur) op dit adres: De Wiemel Deurne.Meer informatie:Contactpersoon: Brigitte VerberneTel.: 0492536066Email: brigittepsv@kpnplanet.nlEr is een kleedaccomodatie aanwezig. Douchen is niet mogelijk.Het parcours is verhard.Overige bijzonderheden:  onderdeel Ultracup \n  \n  \n 
URL:https://hardloopevenementen.com/loopagenda/groene-campus-halve-marathon-deurne-nb/
END:VEVENT
END:VCALENDAR