BEGIN:VCALENDAR
VERSION:2.0
PRODID:-//Hardloopevenementen - ECPv6.15.14//NONSGML v1.0//EN
CALSCALE:GREGORIAN
METHOD:PUBLISH
X-WR-CALNAME:Hardloopevenementen
X-ORIGINAL-URL:https://hardloopevenementen.com
X-WR-CALDESC:Evenementen voor Hardloopevenementen
REFRESH-INTERVAL;VALUE=DURATION:PT1H
X-Robots-Tag:noindex
X-PUBLISHED-TTL:PT1H
BEGIN:VTIMEZONE
TZID:UTC
BEGIN:STANDARD
TZOFFSETFROM:+0000
TZOFFSETTO:+0000
TZNAME:UTC
DTSTART:20080101T000000
END:STANDARD
END:VTIMEZONE
BEGIN:VEVENT
DTSTART;VALUE=DATE:20191212
DTEND;VALUE=DATE:20191213
DTSTAMP:20260421T205427
CREATED:20061117T133951Z
LAST-MODIFIED:20191114T112331Z
UID:83534-1576108800-1576108800@hardloopevenementen.com
SUMMARY:Scheveningen Kids Light Walk Den Haag (ZH)
DESCRIPTION:Doe mee met het hardloopevenement Scheveningen Kids Light Walk te Den Haag (ZH) op do 12 dec 2019. De volgende afstanden staan op het programma: 5\,5 km hardlopen. Wilt u inschrijven voor dit loopevenement?  Raadpleeg hiervoor dan de website van de organisatie\nDe uitslagen van deze hardloopwedstrijd zijn te raadplegen via dezelfde website of via de bekende websites zoals uitslagen.nl\, runtimer en mylaps. Doet u mee met dit evenement\, zorg dan dat u goed voorbereid aan de start staat! Met een goed trainingsschema komt u een heel eind. Train bijvoorbeeld met start to run van Evy Gruyaert. Download de start to run mp3 bestanden en zet ze op uw telefoon. Oortjes in\, hit the play button en en rennen maar! \n\n\n\n\nMeer informatie over Scheveningen Kids Light Walk op Hardloopkalender.nl  \n  \n  \n 
URL:https://hardloopevenementen.com/loopagenda/scheveningen-kids-light-walk-den-haag-zh/
END:VEVENT
BEGIN:VEVENT
DTSTART;VALUE=DATE:20180318
DTEND;VALUE=DATE:20180319
DTSTAMP:20260421T205427
CREATED:20110214T154916Z
LAST-MODIFIED:20190423T120609Z
UID:16904-1521331200-1521331200@hardloopevenementen.com
SUMMARY:Scheveningen Zandvoort Marathon Zandvoort (NH)
DESCRIPTION:Doe mee met het hardloopevenement Scheveningen Zandvoort Marathon te Zandvoort (NH) op zo 18 mrt 2018. De volgende afstanden staan op het programma: 10 km – halve marathon – marathon hardlopen. Wilt u inschrijven voor dit loopevenement?  Raadpleeg hiervoor dan de website van de organisatie\nDe uitslagen van deze hardloopwedstrijd zijn te raadplegen via dezelfde website of via de bekende websites zoals uitslagen.nl\, runtimer en mylaps. Doet u mee met dit evenement\, zorg dan dat u goed voorbereid aan de start staat! Met een goed trainingsschema komt u een heel eind. Train bijvoorbeeld met start to run van Evy Gruyaert. Download de start to run mp3 bestanden en zet ze op uw telefoon. Oortjes in\, hit the play button en en rennen maar! \n\n\n\n\nMeer informatie over Scheveningen Zandvoort Marathon op Hardloopkalender.nl  \nDe Scheveningen Zandvoort Marathon is de enige echte strandmarathon van Nederland. De marathon start in Scheveningen en finisht in Zandvoort\, de gehele afstand wordt over het strand afgelegd.   De 1 2 marathon en 10 km starten en finishen in Zandvoort. Het parcours wordt afgewisseld door duingebied en strand.   De bedrijvenloop wordt georganiseerd op de 1 2 marathon en 10 km. \n  \n  \n 
URL:https://hardloopevenementen.com/loopagenda/scheveningen-zandvoort-marathon-zandvoort-nh-2/
END:VEVENT
BEGIN:VEVENT
DTSTART;VALUE=DATE:20170319
DTEND;VALUE=DATE:20170320
DTSTAMP:20260421T205427
CREATED:20111216T084029Z
LAST-MODIFIED:20190423T114739Z
UID:15082-1489881600-1489881600@hardloopevenementen.com
SUMMARY:Scheveningen Zandvoort Marathon Scheveningen\, gemeente Den Haag (ZH)
DESCRIPTION:Doe mee met het hardloopevenement Scheveningen Zandvoort Marathon te Scheveningen\, gemeente Den Haag (ZH) op zo 19 mrt 2017. De volgende afstanden staan op het programma: marathon hardlopen. Wilt u inschrijven voor dit loopevenement?  Raadpleeg hiervoor dan de website van de organisatie\nDe uitslagen van deze hardloopwedstrijd zijn te raadplegen via dezelfde website of via de bekende websites zoals uitslagen.nl\, runtimer en mylaps. Doet u mee met dit evenement\, zorg dan dat u goed voorbereid aan de start staat! Met een goed trainingsschema komt u een heel eind. Train bijvoorbeeld met start to run van Evy Gruyaert. Download de start to run mp3 bestanden en zet ze op uw telefoon. Oortjes in\, hit the play button en en rennen maar! \n\n\n\n\nMeer informatie over Scheveningen Zandvoort Marathon op Hardloopkalender.nl  \n  \n  \n 
URL:https://hardloopevenementen.com/loopagenda/scheveningen-zandvoort-marathon-scheveningen-gemeente-den-haag-zh-2/
END:VEVENT
BEGIN:VEVENT
DTSTART;VALUE=DATE:20160313
DTEND;VALUE=DATE:20160314
DTSTAMP:20260421T205427
CREATED:20110911T121037Z
LAST-MODIFIED:20190423T112648Z
UID:13165-1457827200-1457827200@hardloopevenementen.com
SUMMARY:Scheveningen Zandvoort Marathon Zandvoort (NH)
DESCRIPTION:Doe mee met het hardloopevenement Scheveningen Zandvoort Marathon te Zandvoort (NH) op zo 13 mrt 2016. De volgende afstanden staan op het programma: marathon hardlopen. Wilt u inschrijven voor dit loopevenement?  Raadpleeg hiervoor dan de website van de organisatie\nDe uitslagen van deze hardloopwedstrijd zijn te raadplegen via dezelfde website of via de bekende websites zoals uitslagen.nl\, runtimer en mylaps. Doet u mee met dit evenement\, zorg dan dat u goed voorbereid aan de start staat! Met een goed trainingsschema komt u een heel eind. Train bijvoorbeeld met start to run van Evy Gruyaert. Download de start to run mp3 bestanden en zet ze op uw telefoon. Oortjes in\, hit the play button en en rennen maar! \n\n\n\n\nMeer informatie over Scheveningen Zandvoort Marathon op Hardloopkalender.nl  \nHet loopevenement Scheveningen Zandvoort Marathon te Zandvoort vindt plaats op zondag 13 maart 2016. \n  \n  \n 
URL:https://hardloopevenementen.com/loopagenda/scheveningen-zandvoort-marathon-zandvoort-nh/
END:VEVENT
BEGIN:VEVENT
DTSTART;VALUE=DATE:20150322
DTEND;VALUE=DATE:20150323
DTSTAMP:20260421T205427
CREATED:20100104T033740Z
LAST-MODIFIED:20190423T111339Z
UID:10830-1426982400-1426982400@hardloopevenementen.com
SUMMARY:Scheveningen Zandvoort Marathon Scheveningen\, gemeente Den Haag (ZH)
DESCRIPTION:Doe mee met het hardloopevenement Scheveningen Zandvoort Marathon te Scheveningen\, gemeente Den Haag (ZH) op zo 22 mrt 2015. De volgende afstanden staan op het programma: marathon hardlopen. Wilt u inschrijven voor dit loopevenement?  Raadpleeg hiervoor dan de website van de organisatie\nDe uitslagen van deze hardloopwedstrijd zijn te raadplegen via dezelfde website of via de bekende websites zoals uitslagen.nl\, runtimer en mylaps. Doet u mee met dit evenement\, zorg dan dat u goed voorbereid aan de start staat! Met een goed trainingsschema komt u een heel eind. Train bijvoorbeeld met start to run van Evy Gruyaert. Download de start to run mp3 bestanden en zet ze op uw telefoon. Oortjes in\, hit the play button en en rennen maar! \n\n\n\n\nMeer informatie over Scheveningen Zandvoort Marathon op Hardloopkalender.nl  \nDe Scheveningen Zandvoort Marathon is de enige echte kustmarathon van Nederland.    De klassieke marathon afstand helemaal in een rechte lijn\, 100% over het strand\, omringd door zee en duinen.  Nog leuker\, loop met een team van vrienden de strandmarathon als estafette. Je wisselt elkaar af met lopen en rust tussendoor uit op de mountainbike (of in de auto). Recreatieve lopers kunnen op deze manier ook de hele marathon volbrengen.    Kies zelf hoe jij de marathon wilt lopen: INDIVIDUEEL\, als DUO (2 lopers) of als TEAM (3-7 lopers)    Dit wordt gegarandeerd je leukste zondag van 2015! \n  \n  \n 
URL:https://hardloopevenementen.com/loopagenda/scheveningen-zandvoort-marathon-scheveningen-gemeente-den-haag-zh/
END:VEVENT
BEGIN:VEVENT
DTSTART;VALUE=DATE:20140316
DTEND;VALUE=DATE:20140317
DTSTAMP:20260421T205427
CREATED:20160827T052633Z
LAST-MODIFIED:20190423T105714Z
UID:34523-1394928000-1394928000@hardloopevenementen.com
SUMMARY:Scheveningen Zandvoort Marathon Zandvoort (NH)
DESCRIPTION:Doe mee met het hardloopevenement Scheveningen Zandvoort Marathon te Zandvoort (NH) op zo 16 mrt 2014. De volgende afstanden staan op het programma: marathon hardlopen. Wilt u inschrijven voor dit loopevenement?  Raadpleeg hiervoor dan de website van de organisatie\nDe uitslagen van deze hardloopwedstrijd zijn te raadplegen via dezelfde website of via de bekende websites zoals uitslagen.nl\, runtimer en mylaps. Doet u mee met dit evenement\, zorg dan dat u goed voorbereid aan de start staat! Met een goed trainingsschema komt u een heel eind. Train bijvoorbeeld met start to run van Evy Gruyaert. Download de start to run mp3 bestanden en zet ze op uw telefoon. Oortjes in\, hit the play button en en rennen maar! \n\n\n\n\nMeer informatie over Scheveningen Zandvoort Marathon op Hardloopkalender.nl  \nHet loopevenement Scheveningen Zandvoort Marathon te Zandvoort vindt plaats op zondag 16 maart 2014. De loop wordt georganisseerd door Stichting SportSupport. Klik hier voor het adres van de start (Google Maps).Bijzonderheden: miximaal 500 deelnemers. \n  \n  \n 
URL:https://hardloopevenementen.com/loopagenda/scheveningen-zandvoort-marathon-zandvoort-nh-3/
END:VEVENT
BEGIN:VEVENT
DTSTART;VALUE=DATE:20140316
DTEND;VALUE=DATE:20140317
DTSTAMP:20260421T205427
CREATED:20080131T204144Z
LAST-MODIFIED:20190423T105706Z
UID:34496-1394928000-1394928000@hardloopevenementen.com
SUMMARY:Scheveningen Zandvoort Marathon Scheveningen\, gemeente Den Haag (ZH)
DESCRIPTION:Doe mee met het hardloopevenement Scheveningen Zandvoort Marathon te Scheveningen\, gemeente Den Haag (ZH) op zo 16 mrt 2014. De volgende afstanden staan op het programma: marathon hardlopen. Wilt u inschrijven voor dit loopevenement?  Raadpleeg hiervoor dan de website van de organisatie\nDe uitslagen van deze hardloopwedstrijd zijn te raadplegen via dezelfde website of via de bekende websites zoals uitslagen.nl\, runtimer en mylaps. Doet u mee met dit evenement\, zorg dan dat u goed voorbereid aan de start staat! Met een goed trainingsschema komt u een heel eind. Train bijvoorbeeld met start to run van Evy Gruyaert. Download de start to run mp3 bestanden en zet ze op uw telefoon. Oortjes in\, hit the play button en en rennen maar! \n\n\n\n\nMeer informatie over Scheveningen Zandvoort Marathon op Hardloopkalender.nl  \nDe marathon vindt plaats op zondag 16 maart 2014.   Alle deelnemers\, jong en oud\, estafette teams\, business- en kinderteams of individuele lopers\, blote voeten lopers\,  starten om 11.00 uur.   Het startschot wordt gegeven op 700 m ten noorden van de Pier van Scheveningen. De finish is op de grens van het strand van Zandvoort en Bloemendaal; locatie paviljoen Republiek Bloemendaal.    Het deelnamebedrag bij voorinschrijving (tot 28 februari bedraagt):*  – Individueel:  50\,-   – Estafetteteam 2 lopers: 100\,-   – Estafetteteam 3 – 7 lopers: 150\,-     *Deelnamebedragen bij na- inschrijving zijn respectievelijk: 60\,- \,  125\,- \,  160\,-)    Voor meer informatie kunt u terecht op onze website www.scheveningenzandvoort.nl of telefonisch via 023-5260302 \n  \n  \n 
URL:https://hardloopevenementen.com/loopagenda/scheveningen-zandvoort-marathon-scheveningen-gemeente-den-haag-zh-5/
END:VEVENT
BEGIN:VEVENT
DTSTART;VALUE=DATE:20130317
DTEND;VALUE=DATE:20130318
DTSTAMP:20260421T205427
CREATED:20130110T131732Z
LAST-MODIFIED:20190423T104418Z
UID:32083-1363478400-1363478400@hardloopevenementen.com
SUMMARY:Scheveningen Zandvoort Marathon Scheveningen\, gemeente Den Haag (ZH)
DESCRIPTION:Doe mee met het hardloopevenement Scheveningen Zandvoort Marathon te Scheveningen\, gemeente Den Haag (ZH) op zo 17 mrt 2013. De volgende afstanden staan op het programma: marathon hardlopen. Wilt u inschrijven voor dit loopevenement?  Raadpleeg hiervoor dan de website van de organisatie\nDe uitslagen van deze hardloopwedstrijd zijn te raadplegen via dezelfde website of via de bekende websites zoals uitslagen.nl\, runtimer en mylaps. Doet u mee met dit evenement\, zorg dan dat u goed voorbereid aan de start staat! Met een goed trainingsschema komt u een heel eind. Train bijvoorbeeld met start to run van Evy Gruyaert. Download de start to run mp3 bestanden en zet ze op uw telefoon. Oortjes in\, hit the play button en en rennen maar! \n\n\n\n\nMeer informatie over Scheveningen Zandvoort Marathon op Hardloopkalender.nl  \nDe zesde Scheveningen Zandvoort Marathon geheel over het strand bij laagwater in een rechte lijn\, door het mooiste natuurgebied van Nederland. Opbrengst gaat naar SOS Kinderdorpen. Schrijf je in\,  Individueel of als estafetteteam (2-7).Teamgenoten op Mountainbike.  Film op site is onweerstaanbaar! \n  \n  \n 
URL:https://hardloopevenementen.com/loopagenda/scheveningen-zandvoort-marathon-scheveningen-gemeente-den-haag-zh-4/
END:VEVENT
BEGIN:VEVENT
DTSTART;VALUE=DATE:20120311
DTEND;VALUE=DATE:20120312
DTSTAMP:20260421T205427
CREATED:20160508T222105Z
LAST-MODIFIED:20190423T103352Z
UID:28713-1331424000-1331424000@hardloopevenementen.com
SUMMARY:Scheveningen Zandvoort Marathon Scheveningen\, gemeente Den Haag (ZH)
DESCRIPTION:Doe mee met het hardloopevenement Scheveningen Zandvoort Marathon te Scheveningen\, gemeente Den Haag (ZH) op zo 11 mrt 2012. De volgende afstanden staan op het programma: marathon hardlopen. Wilt u inschrijven voor dit loopevenement?  Raadpleeg hiervoor dan de website van de organisatie\nDe uitslagen van deze hardloopwedstrijd zijn te raadplegen via dezelfde website of via de bekende websites zoals uitslagen.nl\, runtimer en mylaps. Doet u mee met dit evenement\, zorg dan dat u goed voorbereid aan de start staat! Met een goed trainingsschema komt u een heel eind. Train bijvoorbeeld met start to run van Evy Gruyaert. Download de start to run mp3 bestanden en zet ze op uw telefoon. Oortjes in\, hit the play button en en rennen maar! \n\n\n\n\nMeer informatie over Scheveningen Zandvoort Marathon op Hardloopkalender.nl  \nUnieke marathon over het strand bij laag water van Scheveningen naar Zandvoort. Inschrijving individueel of als estafetteteam (2-7 personen). 42 km door mooiste natuurgebied van Nederland. Marathon waar je van kan genieten. Voor Ultralopers mooie \n  \n  \n 
URL:https://hardloopevenementen.com/loopagenda/scheveningen-zandvoort-marathon-scheveningen-gemeente-den-haag-zh-3/
END:VEVENT
BEGIN:VEVENT
DTSTART;VALUE=DATE:20110313
DTEND;VALUE=DATE:20110314
DTSTAMP:20260421T205427
CREATED:20080521T072552Z
LAST-MODIFIED:20190423T102306Z
UID:26710-1299974400-1299974400@hardloopevenementen.com
SUMMARY:Ultra Low Tide International Marathon Scheveningen Zandvoort Scheveningen\, gemeente Den Haag (ZH)
DESCRIPTION:Doe mee met het hardloopevenement Ultra Low Tide International Marathon Scheveningen Zandvoort te Scheveningen\, gemeente Den Haag (ZH) op zo 13 mrt 2011. De volgende afstanden staan op het programma: marathon hardlopen. Wilt u inschrijven voor dit loopevenement?  Raadpleeg hiervoor dan de website van de organisatie\nDe uitslagen van deze hardloopwedstrijd zijn te raadplegen via dezelfde website of via de bekende websites zoals uitslagen.nl\, runtimer en mylaps. Doet u mee met dit evenement\, zorg dan dat u goed voorbereid aan de start staat! Met een goed trainingsschema komt u een heel eind. Train bijvoorbeeld met start to run van Evy Gruyaert. Download de start to run mp3 bestanden en zet ze op uw telefoon. Oortjes in\, hit the play button en en rennen maar! \n\n\n\n\nMeer informatie over Ultra Low Tide International Marathon Scheveningen Zandvoort op Hardloopkalender.nl  \nEr kan individueel worden ingeschreven of als estafetteteam van twee tot maximaal zeven lopers. Het inschrijfgeld gaat geheel naar een goed doel. Ook in 2010 is dat een project van SOS-Kinderdorpen    Ultra Low Tide International Marathon ScheveningenZandvoort is een van de vlakste en rechtste marathons ter wereld\, Deze marathon vindt plaats bij laag water\, waardoor er minder kans bestaat op los en onregelmatig zandoppervlak. Het parcours is het mooie maar afgelegen strand tussen Scheveningen en Zandvoort in de eerste maanden van ieder jaar\, wanneer de Nederlandse kust voornamelijk koud en winderig is\, maar daarom ook uniek in z’n soort \n  \n  \n 
URL:https://hardloopevenementen.com/loopagenda/ultra-low-tide-international-marathon-scheveningen-zandvoort-scheveningen-gemeente-den-haag-zh/
END:VEVENT
BEGIN:VEVENT
DTSTART;VALUE=DATE:20100307
DTEND;VALUE=DATE:20100308
DTSTAMP:20260421T205427
CREATED:20151123T171853Z
LAST-MODIFIED:20190423T101334Z
UID:23863-1267920000-1267920000@hardloopevenementen.com
SUMMARY:Scheveningen Zandvoort strandmarathon Scheveningen\, gemeente Den Haag (ZH)
DESCRIPTION:Doe mee met het hardloopevenement Scheveningen Zandvoort strandmarathon te Scheveningen\, gemeente Den Haag (ZH) op zo 07 mrt 2010. De volgende afstanden staan op het programma: marathon hardlopen. Wilt u inschrijven voor dit loopevenement?  Raadpleeg hiervoor dan de website van de organisatie\nDe uitslagen van deze hardloopwedstrijd zijn te raadplegen via dezelfde website of via de bekende websites zoals uitslagen.nl\, runtimer en mylaps. Doet u mee met dit evenement\, zorg dan dat u goed voorbereid aan de start staat! Met een goed trainingsschema komt u een heel eind. Train bijvoorbeeld met start to run van Evy Gruyaert. Download de start to run mp3 bestanden en zet ze op uw telefoon. Oortjes in\, hit the play button en en rennen maar! \n\n\n\n\nMeer informatie over Scheveningen Zandvoort strandmarathon op Hardloopkalender.nl  \nrun with a reason  run for kids  SOS Kinderdorpen strandmarathon  Scheveningen – Zandvoort geheel over het strand bij extreem laag water.  7 maart 2010  Estafette team of individueel    Alle inschrijvingen voor 01-01-’10   25 Euro korting op inschrijfgeld  zowel voor individuele lopers als estafette teams \n  \n  \n 
URL:https://hardloopevenementen.com/loopagenda/scheveningen-zandvoort-strandmarathon-scheveningen-gemeente-den-haag-zh-2/
END:VEVENT
BEGIN:VEVENT
DTSTART;VALUE=DATE:20090301
DTEND;VALUE=DATE:20090302
DTSTAMP:20260421T205427
CREATED:20090723T055929Z
LAST-MODIFIED:20190423T100303Z
UID:2715-1235865600-1235865600@hardloopevenementen.com
SUMMARY:Scheveningen-Zandvoort Strandmarathon Scheveningen\, gemeente Den Haag (ZH)
DESCRIPTION:Doe mee met het hardloopevenement Scheveningen-Zandvoort Strandmarathon te Scheveningen\, gemeente Den Haag (ZH) op zo 01 mrt 2009. De volgende afstanden staan op het programma: marathon hardlopen. Wilt u inschrijven voor dit loopevenement?  Raadpleeg hiervoor dan de website van de organisatie\nDe uitslagen van deze hardloopwedstrijd zijn te raadplegen via dezelfde website of via de bekende websites zoals uitslagen.nl\, runtimer en mylaps. Doet u mee met dit evenement\, zorg dan dat u goed voorbereid aan de start staat! Met een goed trainingsschema komt u een heel eind. Train bijvoorbeeld met start to run van Evy Gruyaert. Download de start to run mp3 bestanden en zet ze op uw telefoon. Oortjes in\, hit the play button en en rennen maar! \n\n\n\n\nMeer informatie over Scheveningen-Zandvoort Strandmarathon op Hardloopkalender.nl  \nestafette-estafette 10:30 uur\, 42\,2 km 10:30 uur \n  \n  \n 
URL:https://hardloopevenementen.com/loopagenda/scheveningen-zandvoort-strandmarathon-scheveningen-gemeente-den-haag-zh/
END:VEVENT
END:VCALENDAR