BEGIN:VCALENDAR
VERSION:2.0
PRODID:-//Hardloopevenementen - ECPv6.15.14//NONSGML v1.0//EN
CALSCALE:GREGORIAN
METHOD:PUBLISH
X-ORIGINAL-URL:https://hardloopevenementen.com
X-WR-CALDESC:Evenementen voor Hardloopevenementen
REFRESH-INTERVAL;VALUE=DURATION:PT1H
X-Robots-Tag:noindex
X-PUBLISHED-TTL:PT1H
BEGIN:VTIMEZONE
TZID:UTC
BEGIN:STANDARD
TZOFFSETFROM:+0000
TZOFFSETTO:+0000
TZNAME:UTC
DTSTART:20060101T000000
END:STANDARD
END:VTIMEZONE
BEGIN:VEVENT
DTSTART;VALUE=DATE:20081012
DTEND;VALUE=DATE:20081013
DTSTAMP:20260426T002156
CREATED:20070814T225325Z
LAST-MODIFIED:20190423T094450Z
UID:19036-1223769600-1223769600@hardloopevenementen.com
SUMMARY:Atledo Bruggenloop Dongen
DESCRIPTION:Doe mee met het hardloopevenement Atledo Bruggenloop te Dongen op zo 12 okt 2008. De volgende afstanden staan op het programma: 5\,2 km – 10\,4 km hardlopen. Wilt u inschrijven voor dit loopevenement?  Raadpleeg hiervoor dan de website van de organisatie\nDe uitslagen van deze hardloopwedstrijd zijn te raadplegen via dezelfde website of via de bekende websites zoals uitslagen.nl\, runtimer en mylaps. Doet u mee met dit evenement\, zorg dan dat u goed voorbereid aan de start staat! Met een goed trainingsschema komt u een heel eind. Train bijvoorbeeld met start to run van Evy Gruyaert. Download de start to run mp3 bestanden en zet ze op uw telefoon. Oortjes in\, hit the play button en en rennen maar! \n\n\n\n\nMeer informatie over Atledo Bruggenloop op Hardloopkalender.nl  \nLocatie: Start & Finish op Atledo-accomodatie   Aanvang: 10.30u   Afstanden: 1 of 2 ronden van 5200 meter    Kosten:   Atledo gratis Niet Atledo  1\,50  2\,00   Inschrijven: Voor-inschrijving via lijsten in clubgebouw en via het wedstrijdsecretariaat middels een A-formulier in tweevoud   Na-inschrijving tot 1 2 uur voor aanvang in clubgebouw \n  \n  \n 
URL:https://hardloopevenementen.com/loopagenda/atledo-bruggenloop-dongen-2/
END:VEVENT
BEGIN:VEVENT
DTSTART;VALUE=DATE:20071014
DTEND;VALUE=DATE:20071015
DTSTAMP:20260426T002156
CREATED:20130713T200535Z
LAST-MODIFIED:20190423T093848Z
UID:235-1192320000-1192320000@hardloopevenementen.com
SUMMARY:Atledo Bruggenloop Dongen
DESCRIPTION:Doe mee met het hardloopevenement Atledo Bruggenloop te Dongen op zo 14 okt 2007. De volgende afstanden staan op het programma: 5\,2 km – 10\,4 km hardlopen. Wilt u inschrijven voor dit loopevenement?  Raadpleeg hiervoor dan de website van de organisatie\nDe uitslagen van deze hardloopwedstrijd zijn te raadplegen via dezelfde website of via de bekende websites zoals uitslagen.nl\, runtimer en mylaps. Doet u mee met dit evenement\, zorg dan dat u goed voorbereid aan de start staat! Met een goed trainingsschema komt u een heel eind. Train bijvoorbeeld met start to run van Evy Gruyaert. Download de start to run mp3 bestanden en zet ze op uw telefoon. Oortjes in\, hit the play button en en rennen maar! \n\n\n\n\nMeer informatie over Atledo Bruggenloop op Hardloopkalender.nl  \n  \n  \n 
URL:https://hardloopevenementen.com/loopagenda/atledo-bruggenloop-dongen/
END:VEVENT
END:VCALENDAR