BEGIN:VCALENDAR
VERSION:2.0
PRODID:-//Hardloopevenementen - ECPv6.15.14//NONSGML v1.0//EN
CALSCALE:GREGORIAN
METHOD:PUBLISH
X-ORIGINAL-URL:https://hardloopevenementen.com
X-WR-CALDESC:Evenementen voor Hardloopevenementen
REFRESH-INTERVAL;VALUE=DURATION:PT1H
X-Robots-Tag:noindex
X-PUBLISHED-TTL:PT1H
BEGIN:VTIMEZONE
TZID:UTC
BEGIN:STANDARD
TZOFFSETFROM:+0000
TZOFFSETTO:+0000
TZNAME:UTC
DTSTART:20090101T000000
END:STANDARD
END:VTIMEZONE
BEGIN:VEVENT
DTSTART;VALUE=DATE:20111120
DTEND;VALUE=DATE:20111121
DTSTAMP:20260424T191425
CREATED:20080528T203631Z
LAST-MODIFIED:20190423T101711Z
UID:5937-1321747200-1321747200@hardloopevenementen.com
SUMMARY:Runnersworld cross- en trimcompetitie Veldhoven (NB)
DESCRIPTION:Doe mee met het hardloopevenement Runnersworld cross- en trimcompetitie te Veldhoven (NB) op zo 20 nov 2011. De volgende afstanden staan op het programma: 1\,0 km – 2 km – 2\,8 km – 3\,6 km – 5\,3 km – 7\,1 km – 8\,8 km hardlopen. Wilt u inschrijven voor dit loopevenement?  Raadpleeg hiervoor dan de website van de organisatie\nDe uitslagen van deze hardloopwedstrijd zijn te raadplegen via dezelfde website of via de bekende websites zoals uitslagen.nl\, runtimer en mylaps. Doet u mee met dit evenement\, zorg dan dat u goed voorbereid aan de start staat! Met een goed trainingsschema komt u een heel eind. Train bijvoorbeeld met start to run van Evy Gruyaert. Download de start to run mp3 bestanden en zet ze op uw telefoon. Oortjes in\, hit the play button en en rennen maar! \n\n\n\n\nMeer informatie over Runnersworld cross- en trimcompetitie op Hardloopkalender.nl  \nHet loopevenement Runnersworld cross- en trimcompetitie te Veldhoven vindt plaats op zondag 20 november 2011. De loop wordt georganiseerd door GVAC. Inschrijven is mogelijk vanaf 04 september 2011. Klik hier voor het adres van de start (Google Maps).Er is verkleedaccomodatie met douchemogelijkheid aanwezig. Er is EHBO aanwezig. Afstand(km)Inschrijfgeld(€)Starttijd-€0\,00–€0\,00–€0\,00–€0\,00-Voor meer informatie:Anja Kievitinschrijven@gvac.nl0402541620http:  www.gvac.nl \n  \n  \n 
URL:https://hardloopevenementen.com/loopagenda/runnersworld-cross-en-trimcompetitie-veldhoven-nb-2/
END:VEVENT
BEGIN:VEVENT
DTSTART;VALUE=DATE:20101121
DTEND;VALUE=DATE:20101122
DTSTAMP:20260424T191425
CREATED:20181116T115216Z
LAST-MODIFIED:20190423T100628Z
UID:3232-1290297600-1290297600@hardloopevenementen.com
SUMMARY:Runnersworld cross- en trimcompetitie Veldhoven (NB)
DESCRIPTION:Doe mee met het hardloopevenement Runnersworld cross- en trimcompetitie te Veldhoven (NB) op zo 21 nov 2010. De volgende afstanden staan op het programma: 2 km – 2\,8 km – 3\,6 km – 5\,3 km – 7\,1 km – 8\,8 km – 10\,3 km hardlopen. Wilt u inschrijven voor dit loopevenement?  Raadpleeg hiervoor dan de website van de organisatie\nDe uitslagen van deze hardloopwedstrijd zijn te raadplegen via dezelfde website of via de bekende websites zoals uitslagen.nl\, runtimer en mylaps. Doet u mee met dit evenement\, zorg dan dat u goed voorbereid aan de start staat! Met een goed trainingsschema komt u een heel eind. Train bijvoorbeeld met start to run van Evy Gruyaert. Download de start to run mp3 bestanden en zet ze op uw telefoon. Oortjes in\, hit the play button en en rennen maar! \n\n\n\n\nMeer informatie over Runnersworld cross- en trimcompetitie op Hardloopkalender.nl  \nDit loopevenement wordt georganiseerd door GVAC.De eerste afstand (of onderdeel) start om 10:00.Het adres van de start en de finish is Knegselseweg 101Categorie(ën): mannen\, vrouwen\, jeugdVooraf inschrijven is mogelijk vanaf 06 september 2010 tot 15 november 2010.Inschrijven op de dag van de loop is mogelijk (vanaf 09:00 uur) op dit adres: Knegselseweg 101\, bij blokhut ’t Gurke.Meer informatie:Contactpersoon: Anja KievitTel.: 0402541620Email: maud.anja@gmail.comEr is een kleedaccomodatie aanwezig. Douchen is mogelijk.Het parcours is onverhard.Overige bijzonderheden:  Onderdeel van MIBRA circuit \n  \n  \n 
URL:https://hardloopevenementen.com/loopagenda/runnersworld-cross-en-trimcompetitie-veldhoven-nb/
END:VEVENT
END:VCALENDAR