BEGIN:VCALENDAR
VERSION:2.0
PRODID:-//Hardloopevenementen - ECPv6.15.14//NONSGML v1.0//EN
CALSCALE:GREGORIAN
METHOD:PUBLISH
X-ORIGINAL-URL:https://hardloopevenementen.com
X-WR-CALDESC:Evenementen voor Hardloopevenementen
REFRESH-INTERVAL;VALUE=DURATION:PT1H
X-Robots-Tag:noindex
X-PUBLISHED-TTL:PT1H
BEGIN:VTIMEZONE
TZID:UTC
BEGIN:STANDARD
TZOFFSETFROM:+0000
TZOFFSETTO:+0000
TZNAME:UTC
DTSTART:20070101T000000
END:STANDARD
END:VTIMEZONE
BEGIN:VEVENT
DTSTART;VALUE=DATE:20080113
DTEND;VALUE=DATE:20080114
DTSTAMP:20260426T013157
CREATED:20090611T001058Z
LAST-MODIFIED:20190423T094945Z
UID:20323-1200182400-1200182400@hardloopevenementen.com
SUMMARY:Heldense Bossen Cross Helden
DESCRIPTION:Doe mee met het hardloopevenement Heldense Bossen Cross te Helden op zo 13 jan 2008. De volgende afstanden staan op het programma: 1\,1 km – 1\,5 km – 2\,1 km – 3\,2 km – 4\,9 km – 5\,4 km – 10\,2 km hardlopen. Wilt u inschrijven voor dit loopevenement?  Raadpleeg hiervoor dan de website van de organisatie\nDe uitslagen van deze hardloopwedstrijd zijn te raadplegen via dezelfde website of via de bekende websites zoals uitslagen.nl\, runtimer en mylaps. Doet u mee met dit evenement\, zorg dan dat u goed voorbereid aan de start staat! Met een goed trainingsschema komt u een heel eind. Train bijvoorbeeld met start to run van Evy Gruyaert. Download de start to run mp3 bestanden en zet ze op uw telefoon. Oortjes in\, hit the play button en en rennen maar! \n\n\n\n\nMeer informatie over Heldense Bossen Cross op Hardloopkalender.nl  \n5\,4 km 10:30 uur\, 10\,2 km 11:00 uur\, 1\,1 km 12:00 uur\, 1\,5 km 12:10 uur\, 1\,5 km 12:20 uur\, 1\,5 km 12:30 uur\, 1\,5 km 13:00 uur\, 2\,1 km 13:15 uur\, 2\,1 km 13:30 uur\, 3\,2 km 13:50 uur\, 3\,2 km 14:10 uur\, 4\,9 km 14:25 uur    Deelname staat open voor iedereen    Parcours  Schitterend\, pittig\, heuvelachtig bosparcours\, geheel met spikes te belopen\, gelegen op en nabij Camping- en speelpark De Heldense Bossen.    Bereikbaarheid  Vanaf de weg tussen Helden en Kessel\, volg borden Heldense Bossen.    Accomodatie  Wedstrijdsecretariaat in recreatieruimte het Trefpunt van de camping. Kleed- en douchegelegenheid aanwezig (douches ca 400m van start finish)\, ruime (verplichte) parkeerplaats en EHBO post aanwezig.    Inlichtingen: Kees Kompier\, 077-3060567  Jan Lagerwaard\, 077-4623085 \n  \n  \n 
URL:https://hardloopevenementen.com/loopagenda/heldense-bossen-cross-helden-2/
END:VEVENT
END:VCALENDAR