BEGIN:VCALENDAR
VERSION:2.0
PRODID:-//Hardloopevenementen - ECPv6.15.14//NONSGML v1.0//EN
CALSCALE:GREGORIAN
METHOD:PUBLISH
X-WR-CALNAME:Hardloopevenementen
X-ORIGINAL-URL:https://hardloopevenementen.com
X-WR-CALDESC:Evenementen voor Hardloopevenementen
REFRESH-INTERVAL;VALUE=DURATION:PT1H
X-Robots-Tag:noindex
X-PUBLISHED-TTL:PT1H
BEGIN:VTIMEZONE
TZID:UTC
BEGIN:STANDARD
TZOFFSETFROM:+0000
TZOFFSETTO:+0000
TZNAME:UTC
DTSTART:20100101T000000
END:STANDARD
END:VTIMEZONE
BEGIN:VEVENT
DTSTART;VALUE=DATE:20110930
DTEND;VALUE=DATE:20111001
DTSTAMP:20260422T003751
CREATED:20181013T032317Z
LAST-MODIFIED:20190423T101827Z
UID:6250-1317340800-1317340800@hardloopevenementen.com
SUMMARY:Canicross Zundert Zundert (NB)
DESCRIPTION:Doe mee met het hardloopevenement Canicross Zundert te Zundert (NB) op vr 30 sep 2011. De volgende afstanden staan op het programma: 1\,5 km – 2\,7 km – 5\,4 km hardlopen. Wilt u inschrijven voor dit loopevenement?  Raadpleeg hiervoor dan de website van de organisatie\nDe uitslagen van deze hardloopwedstrijd zijn te raadplegen via dezelfde website of via de bekende websites zoals uitslagen.nl\, runtimer en mylaps. Doet u mee met dit evenement\, zorg dan dat u goed voorbereid aan de start staat! Met een goed trainingsschema komt u een heel eind. Train bijvoorbeeld met start to run van Evy Gruyaert. Download de start to run mp3 bestanden en zet ze op uw telefoon. Oortjes in\, hit the play button en en rennen maar! \n\n\n\n\nMeer informatie over Canicross Zundert op Hardloopkalender.nl  \nCanicross is een geweldige teamsport; hardlopen met je hond. Je hond heeft daarbij een Canicrosstuig om\, jij een comfortabele heupgordel en je bent met elkaar verbonden mbv een verende lijn die + – 2 meter lang is.  Hardlopen samen met je hond\, plezier voor 2.  Voor meer informatie\, wedstrijden\, trainingen of uitrusting zie   www.CanicrossNederland.nl \n  \n  \n 
URL:https://hardloopevenementen.com/loopagenda/canicross-zundert-zundert-nb/
END:VEVENT
END:VCALENDAR