BEGIN:VCALENDAR
VERSION:2.0
PRODID:-//Hardloopevenementen - ECPv6.15.14//NONSGML v1.0//EN
CALSCALE:GREGORIAN
METHOD:PUBLISH
X-ORIGINAL-URL:https://hardloopevenementen.com
X-WR-CALDESC:Evenementen voor Hardloopevenementen
REFRESH-INTERVAL;VALUE=DURATION:PT1H
X-Robots-Tag:noindex
X-PUBLISHED-TTL:PT1H
BEGIN:VTIMEZONE
TZID:UTC
BEGIN:STANDARD
TZOFFSETFROM:+0000
TZOFFSETTO:+0000
TZNAME:UTC
DTSTART:20090101T000000
END:STANDARD
END:VTIMEZONE
BEGIN:VEVENT
DTSTART;VALUE=DATE:20111204
DTEND;VALUE=DATE:20111205
DTSTAMP:20260423T042629
CREATED:20111024T221729Z
LAST-MODIFIED:20190423T101648Z
UID:5859-1322956800-1322956800@hardloopevenementen.com
SUMMARY:Mardenkro Enclave Cross Baarle-Nassau (NB)
DESCRIPTION:Doe mee met het hardloopevenement Mardenkro Enclave Cross te Baarle-Nassau (NB) op zo 04 dec 2011. De volgende afstanden staan op het programma: 5\,9 km – 12 km hardlopen. Wilt u inschrijven voor dit loopevenement?  Raadpleeg hiervoor dan de website van de organisatie\nDe uitslagen van deze hardloopwedstrijd zijn te raadplegen via dezelfde website of via de bekende websites zoals uitslagen.nl\, runtimer en mylaps. Doet u mee met dit evenement\, zorg dan dat u goed voorbereid aan de start staat! Met een goed trainingsschema komt u een heel eind. Train bijvoorbeeld met start to run van Evy Gruyaert. Download de start to run mp3 bestanden en zet ze op uw telefoon. Oortjes in\, hit the play button en en rennen maar! \n\n\n\n\nMeer informatie over Mardenkro Enclave Cross op Hardloopkalender.nl  \nHet loopevenement Mardenkro Enclave Cross te Baarle-Nassau vindt plaats op zondag 04 december 2011. De loop wordt georganiseerd door AV Gloria. Inschrijven is mogelijk vanaf 01 oktober 2011. Klik hier voor het adres van de start (Google Maps).Er is verkleedaccomodatie met douchemogelijkheid aanwezig. Er is EHBO aanwezig. Bijzonderheden: AU Jeugdprogramma start 10.30. info op site.Afstand(km)Inschrijfgeld(€)Starttijd5.9€3\,5013.1512€3\,5013.15Voor meer informatie:J.Blomjean.fleur@kpnplanet.nl0135077292http:  gloria-atletiek.nl \n  \n  \n 
URL:https://hardloopevenementen.com/loopagenda/mardenkro-enclave-cross-baarle-nassau-nb/
END:VEVENT
BEGIN:VEVENT
DTSTART;VALUE=DATE:20101205
DTEND;VALUE=DATE:20101206
DTSTAMP:20260423T042629
CREATED:20180727T081803Z
LAST-MODIFIED:20190423T100608Z
UID:3157-1291507200-1291507200@hardloopevenementen.com
SUMMARY:Enclave cross Baarle-Nassau (NB)
DESCRIPTION:Doe mee met het hardloopevenement Enclave cross te Baarle-Nassau (NB) op zo 05 dec 2010. De volgende afstanden staan op het programma: 5\,9 km – 12 km hardlopen. Wilt u inschrijven voor dit loopevenement?  Raadpleeg hiervoor dan de website van de organisatie\nDe uitslagen van deze hardloopwedstrijd zijn te raadplegen via dezelfde website of via de bekende websites zoals uitslagen.nl\, runtimer en mylaps. Doet u mee met dit evenement\, zorg dan dat u goed voorbereid aan de start staat! Met een goed trainingsschema komt u een heel eind. Train bijvoorbeeld met start to run van Evy Gruyaert. Download de start to run mp3 bestanden en zet ze op uw telefoon. Oortjes in\, hit the play button en en rennen maar! \n\n\n\n\nMeer informatie over Enclave cross op Hardloopkalender.nl  \n  \n  \n 
URL:https://hardloopevenementen.com/loopagenda/enclave-cross-baarle-nassau-nb/
END:VEVENT
END:VCALENDAR