BEGIN:VCALENDAR
VERSION:2.0
PRODID:-//Hardloopevenementen - ECPv6.15.14//NONSGML v1.0//EN
CALSCALE:GREGORIAN
METHOD:PUBLISH
X-ORIGINAL-URL:https://hardloopevenementen.com
X-WR-CALDESC:Evenementen voor Hardloopevenementen
REFRESH-INTERVAL;VALUE=DURATION:PT1H
X-Robots-Tag:noindex
X-PUBLISHED-TTL:PT1H
BEGIN:VTIMEZONE
TZID:UTC
BEGIN:STANDARD
TZOFFSETFROM:+0000
TZOFFSETTO:+0000
TZNAME:UTC
DTSTART:20070101T000000
END:STANDARD
END:VTIMEZONE
BEGIN:VEVENT
DTSTART;VALUE=DATE:20151031
DTEND;VALUE=DATE:20151101
DTSTAMP:20260420T171359
CREATED:20141120T174552Z
LAST-MODIFIED:20190423T110754Z
UID:9496-1446249600-1446249600@hardloopevenementen.com
SUMMARY:51ste AVD Cross    5de Dwingelderveld loop Dwingeloo\, gemeente Westerveld (DR)
DESCRIPTION:Doe mee met het hardloopevenement 51ste AVD Cross    5de Dwingelderveld loop te Dwingeloo\, gemeente Westerveld (DR) op za 31 okt 2015. De volgende afstanden staan op het programma: 1 km – 5 km – 7\,5 km – 8 km – 15 km – halve marathon hardlopen. Wilt u inschrijven voor dit loopevenement?  Raadpleeg hiervoor dan de website van de organisatie\nDe uitslagen van deze hardloopwedstrijd zijn te raadplegen via dezelfde website of via de bekende websites zoals uitslagen.nl\, runtimer en mylaps. Doet u mee met dit evenement\, zorg dan dat u goed voorbereid aan de start staat! Met een goed trainingsschema komt u een heel eind. Train bijvoorbeeld met start to run van Evy Gruyaert. Download de start to run mp3 bestanden en zet ze op uw telefoon. Oortjes in\, hit the play button en en rennen maar! \n\n\n\n\nMeer informatie over 51ste AVD Cross    5de Dwingelderveld loop op Hardloopkalender.nl  \nHet loopevenement 51ste AVD Cross    5de Dwingelderveld-loop te Dwingeloo vindt plaats op zaterdag 31 oktober 2015. \n  \n  \n 
URL:https://hardloopevenementen.com/loopagenda/51ste-avd-cross-5de-dwingelderveld-loop-dwingeloo-gemeente-westerveld-dr/
END:VEVENT
BEGIN:VEVENT
DTSTART;VALUE=DATE:20130303
DTEND;VALUE=DATE:20130304
DTSTAMP:20260420T171359
CREATED:20161121T081730Z
LAST-MODIFIED:20190423T104438Z
UID:32160-1362268800-1362268800@hardloopevenementen.com
SUMMARY:5de Rabo Run Stein (LI)
DESCRIPTION:Doe mee met het hardloopevenement 5de Rabo Run te Stein (LI) op zo 03 mrt 2013. De volgende afstanden staan op het programma: 0\,8 km – 1\,6 km – 3\,1 km hardlopen. Wilt u inschrijven voor dit loopevenement?  Raadpleeg hiervoor dan de website van de organisatie\nDe uitslagen van deze hardloopwedstrijd zijn te raadplegen via dezelfde website of via de bekende websites zoals uitslagen.nl\, runtimer en mylaps. Doet u mee met dit evenement\, zorg dan dat u goed voorbereid aan de start staat! Met een goed trainingsschema komt u een heel eind. Train bijvoorbeeld met start to run van Evy Gruyaert. Download de start to run mp3 bestanden en zet ze op uw telefoon. Oortjes in\, hit the play button en en rennen maar! \n\n\n\n\nMeer informatie over 5de Rabo Run op Hardloopkalender.nl  \nHet loopevenement 5de Rabo Run te Stein vindt plaats op zondag 03 maart 2013. De loop wordt georganisseerd door Stichting Ultraloop Stein. Inschrijven is mogelijk vanaf 01 december 2012. Klik hier voor het adres van de start (Google Maps).Er is verkleedaccomodatie met douchemogelijkheid aanwezig. Er is EHBO aanwezig. Voor meer informatie:J. Hulstjgm.hulst@ultraloopstein.nl0464376547http:  www.ultraloopstein.nl \n  \n  \n 
URL:https://hardloopevenementen.com/loopagenda/5de-rabo-run-stein-li/
END:VEVENT
BEGIN:VEVENT
DTSTART;VALUE=DATE:20100403
DTEND;VALUE=DATE:20100404
DTSTAMP:20260420T171359
CREATED:20100611T054817Z
LAST-MODIFIED:20190423T101259Z
UID:23723-1270252800-1270252800@hardloopevenementen.com
SUMMARY:De 5de Zwaarste 10 van Zeeland Burgh-Haamstede\, gemeente Schouwen-Duiveland (ZE)
DESCRIPTION:Doe mee met het hardloopevenement De 5de Zwaarste 10 van Zeeland te Burgh-Haamstede\, gemeente Schouwen-Duiveland (ZE) op za 03 apr 2010. De volgende afstanden staan op het programma: 6\,5 km – 10 km hardlopen. Wilt u inschrijven voor dit loopevenement?  Raadpleeg hiervoor dan de website van de organisatie\nDe uitslagen van deze hardloopwedstrijd zijn te raadplegen via dezelfde website of via de bekende websites zoals uitslagen.nl\, runtimer en mylaps. Doet u mee met dit evenement\, zorg dan dat u goed voorbereid aan de start staat! Met een goed trainingsschema komt u een heel eind. Train bijvoorbeeld met start to run van Evy Gruyaert. Download de start to run mp3 bestanden en zet ze op uw telefoon. Oortjes in\, hit the play button en en rennen maar! \n\n\n\n\nMeer informatie over De 5de Zwaarste 10 van Zeeland op Hardloopkalender.nl  \nDit loopevenement wordt georganiseerd door Delta Sport.De eerste afstand (of onderdeel) start om 14:30.Het adres van de start en de finish is Adriaan van der Weijdeweg 1Categorie(ën): mannen\, vrouwenVooraf inschrijven is mogelijk vanaf 01 maart 2010 tot 08 april 2010.Inschrijven op de dag van de loop is mogelijk (vanaf 12.30 uur) op dit adres: restaurant Molenberg.Meer informatie:Contactpersoon: Co de FeijterTel.: 0111416090Email: wedsec@avdeltasport.nlEr is geen kleedaccomodatie aanwezig.Het parcours is onverhard.Vorig jaar deden er 110 lopers mee aan dit evenement.Overige bijzonderheden:  De opbrengst komt helemaal ten goede aan de ROPArun. \n  \n  \n 
URL:https://hardloopevenementen.com/loopagenda/de-5de-zwaarste-10-van-zeeland-burgh-haamstede-gemeente-schouwen-duiveland-ze/
END:VEVENT
BEGIN:VEVENT
DTSTART;VALUE=DATE:20090207
DTEND;VALUE=DATE:20090208
DTSTAMP:20260420T171359
CREATED:20131002T190104Z
LAST-MODIFIED:20190423T100331Z
UID:2820-1233964800-1233964800@hardloopevenementen.com
SUMMARY:5de ZHM Cross 2008-2009 Alphen aan den Rijn (ZH)
DESCRIPTION:Doe mee met het hardloopevenement 5de ZHM Cross 2008-2009 te Alphen aan den Rijn (ZH) op za 07 feb 2009. De volgende afstanden staan op het programma: 0\,7 km – 1\,4 km – 2\,3 km – 3\,4 km – 4\,5 km – 7\,7 km – 9\,9 km hardlopen. Wilt u inschrijven voor dit loopevenement?  Raadpleeg hiervoor dan de website van de organisatie\nDe uitslagen van deze hardloopwedstrijd zijn te raadplegen via dezelfde website of via de bekende websites zoals uitslagen.nl\, runtimer en mylaps. Doet u mee met dit evenement\, zorg dan dat u goed voorbereid aan de start staat! Met een goed trainingsschema komt u een heel eind. Train bijvoorbeeld met start to run van Evy Gruyaert. Download de start to run mp3 bestanden en zet ze op uw telefoon. Oortjes in\, hit the play button en en rennen maar! \n\n\n\n\nMeer informatie over 5de ZHM Cross 2008-2009 op Hardloopkalender.nl  \n0\,7 km 10:30 uur\, 1\,4 km 10:40 uur\, 1\,4 km 10:50 uur\, 1\,4 km 11:00 uur\, 1\,4 km 11:10 uur\, 1\,4 km 11:20 uur\, 1\,4 km 11:30 uur\, 1\,4-1\,4 km 11:40 uur\, 1\,4 km 12:20 uur\, 2\,3 km 12:30 uur\, 2\,3 km 12:45 uur\, 2\,3 km 13:00 uur\, 3\,4-4\,5 km 13:15 uur\, 4\,5-4\,5-7\,7-9\,9 km 13:40 uur \n  \n  \n 
URL:https://hardloopevenementen.com/loopagenda/5de-zhm-cross-2008-2009-alphen-aan-den-rijn-zh/
END:VEVENT
BEGIN:VEVENT
DTSTART;VALUE=DATE:20080606
DTEND;VALUE=DATE:20080607
DTSTAMP:20260420T171359
CREATED:20150102T222201Z
LAST-MODIFIED:20190423T094701Z
UID:19603-1212710400-1212710400@hardloopevenementen.com
SUMMARY:5de Tuinland Natuurloop 's-Gravenhage
DESCRIPTION:Doe mee met het hardloopevenement 5de Tuinland Natuurloop te ‘s-Gravenhage op vr 06 jun 2008. De volgende afstanden staan op het programma: 3\,3 km – 6\,6 km – 10 km hardlopen. Wilt u inschrijven voor dit loopevenement?  Raadpleeg hiervoor dan de website van de organisatie\nDe uitslagen van deze hardloopwedstrijd zijn te raadplegen via dezelfde website of via de bekende websites zoals uitslagen.nl\, runtimer en mylaps. Doet u mee met dit evenement\, zorg dan dat u goed voorbereid aan de start staat! Met een goed trainingsschema komt u een heel eind. Train bijvoorbeeld met start to run van Evy Gruyaert. Download de start to run mp3 bestanden en zet ze op uw telefoon. Oortjes in\, hit the play button en en rennen maar! \n\n\n\n\nMeer informatie over 5de Tuinland Natuurloop op Hardloopkalender.nl  \nstart 19.00uur  Landgoed de Braak Paterswolde   5.- incl. herinnering \n  \n  \n 
URL:https://hardloopevenementen.com/loopagenda/5de-tuinland-natuurloop-s-gravenhage/
END:VEVENT
END:VCALENDAR