BEGIN:VCALENDAR
VERSION:2.0
PRODID:-//Hardloopevenementen - ECPv6.15.14//NONSGML v1.0//EN
CALSCALE:GREGORIAN
METHOD:PUBLISH
X-WR-CALNAME:Hardloopevenementen
X-ORIGINAL-URL:https://hardloopevenementen.com
X-WR-CALDESC:Evenementen voor Hardloopevenementen
REFRESH-INTERVAL;VALUE=DURATION:PT1H
X-Robots-Tag:noindex
X-PUBLISHED-TTL:PT1H
BEGIN:VTIMEZONE
TZID:UTC
BEGIN:STANDARD
TZOFFSETFROM:+0000
TZOFFSETTO:+0000
TZNAME:UTC
DTSTART:20110101T000000
END:STANDARD
END:VTIMEZONE
BEGIN:VEVENT
DTSTART;VALUE=DATE:20120714
DTEND;VALUE=DATE:20120715
DTSTAMP:20260421T004642
CREATED:20120105T214228Z
LAST-MODIFIED:20190423T103055Z
UID:28007-1342224000-1342224000@hardloopevenementen.com
SUMMARY:5x5km Jubileum Estafetteloop Stadskanaal (GR)
DESCRIPTION:Doe mee met het hardloopevenement 5x5km Jubileum Estafetteloop te Stadskanaal (GR) op za 14 jul 2012. De volgende afstanden staan op het programma: 5 km hardlopen. Wilt u inschrijven voor dit loopevenement?  Raadpleeg hiervoor dan de website van de organisatie\nDe uitslagen van deze hardloopwedstrijd zijn te raadplegen via dezelfde website of via de bekende websites zoals uitslagen.nl\, runtimer en mylaps. Doet u mee met dit evenement\, zorg dan dat u goed voorbereid aan de start staat! Met een goed trainingsschema komt u een heel eind. Train bijvoorbeeld met start to run van Evy Gruyaert. Download de start to run mp3 bestanden en zet ze op uw telefoon. Oortjes in\, hit the play button en en rennen maar! \n\n\n\n\nMeer informatie over 5x5km Jubileum Estafetteloop op Hardloopkalender.nl  \nEstafetteloop ter gelegeheid van het 25 jarig jubileum van Runners Stadskanaal \n  \n  \n 
URL:https://hardloopevenementen.com/loopagenda/5x5km-jubileum-estafetteloop-stadskanaal-gr/
END:VEVENT
END:VCALENDAR