BEGIN:VCALENDAR
VERSION:2.0
PRODID:-//Hardloopevenementen - ECPv6.15.14//NONSGML v1.0//EN
CALSCALE:GREGORIAN
METHOD:PUBLISH
X-WR-CALNAME:Hardloopevenementen
X-ORIGINAL-URL:https://hardloopevenementen.com
X-WR-CALDESC:Evenementen voor Hardloopevenementen
REFRESH-INTERVAL;VALUE=DURATION:PT1H
X-Robots-Tag:noindex
X-PUBLISHED-TTL:PT1H
BEGIN:VTIMEZONE
TZID:UTC
BEGIN:STANDARD
TZOFFSETFROM:+0000
TZOFFSETTO:+0000
TZNAME:UTC
DTSTART:20070101T000000
END:STANDARD
END:VTIMEZONE
BEGIN:VEVENT
DTSTART;VALUE=DATE:20080106
DTEND;VALUE=DATE:20080107
DTSTAMP:20260425T190525
CREATED:20140504T220259Z
LAST-MODIFIED:20190423T094959Z
UID:20385-1199577600-1199577600@hardloopevenementen.com
SUMMARY:10e Pagnevaartcross Bosschenhoofd
DESCRIPTION:Doe mee met het hardloopevenement 10e Pagnevaartcross te Bosschenhoofd op zo 06 jan 2008. De volgende afstanden staan op het programma: 3 km – 4 km – 6 km – 8 km – 10 km hardlopen. Wilt u inschrijven voor dit loopevenement?  Raadpleeg hiervoor dan de website van de organisatie\nDe uitslagen van deze hardloopwedstrijd zijn te raadplegen via dezelfde website of via de bekende websites zoals uitslagen.nl\, runtimer en mylaps. Doet u mee met dit evenement\, zorg dan dat u goed voorbereid aan de start staat! Met een goed trainingsschema komt u een heel eind. Train bijvoorbeeld met start to run van Evy Gruyaert. Download de start to run mp3 bestanden en zet ze op uw telefoon. Oortjes in\, hit the play button en en rennen maar! \n\n\n\n\nMeer informatie over 10e Pagnevaartcross op Hardloopkalender.nl  \nDeze cross wordt gehouden op een uitdagend parcours over mooie glooiende bospaden rond de vijver in het Pagnevaartbos te Hoeven.         Prestatielopen :  Voor trimmers\, recreanten en niet wedstrijdatleten         10:00 uur             Naar keuze ± 2000   4000   6000   8000 meter         Inschrijfgeld:      Prestatielopers t m 13 jaar             2\,00                                Prestatielopers 14 jaar en ouder    4\,00                                Voor alle deelnemers een smakelijke herinnering    en deelname aan een kleine loterij.                      Vanaf 11:00 uur  Voor alle pupillen en C   D junioren    Deze wedstrijd telt mee voor de ARWB cross-competitie         Wedstrijd-programma alleen voor KNAU-leden:         13:00 uur             B-junioren meisjes                          ±   3000 meter (1\,5 ronde)                                A-junioren meisjes                          ±   4000 meter (2 ronden)                                Dames masters 35+ 45+               ±   6000 meter (3 ronden)         13:45 uur             B-junioren jongens                         ±   4000 meter (2 ronden)                                A-junioren jongens                         ±   6000 meter (3 ronden)                       Heren   masters 35+                      ± 10000 meter (5 ronden)             Heren masters 45+ 55+                 ±   8000 meter (4 ronden)         Prijzen:                Voor de eerste drie per categorie\, bij minimaal 5 deelnemers\, (wedstrijdlopen)    zijn prijzen beschikbaar.                                Voor alle deelnemers een smakelijke herinnering.            Inschrijfgeld:      Senioren Masters                            4\,00                                                  A+B junioren                                    3\,00                  Na-inschrijven:    Tot 15 minuten voor aanvang van de wedstrijden. Extra kosten  1\,00          Inschrijven:         Wedstrijdatleten via A-formulier tot 2 januari 2008    Adres Info:         J Koenraadt\, Leuvenhoek 3\, 4741 CN  Hoeven.  (0165) 504335.                                                       Voor de atleten uit regio-12 telt de wedstrijd mee voor de ARWB cross-competitie        Parkeergelegenheid op de parkeerplaatsen van Bosbad Hoeven (maximaal 2½ uur) aan de Oude Antwerpse Postbaan en aan één zijde van de Uilenspiegelstraat. ( politie zal controleren ) \n  \n  \n 
URL:https://hardloopevenementen.com/loopagenda/10e-pagnevaartcross-bosschenhoofd/
END:VEVENT
END:VCALENDAR