BEGIN:VCALENDAR
VERSION:2.0
PRODID:-//Hardloopevenementen - ECPv6.15.14//NONSGML v1.0//EN
CALSCALE:GREGORIAN
METHOD:PUBLISH
X-WR-CALNAME:Hardloopevenementen
X-ORIGINAL-URL:https://hardloopevenementen.com
X-WR-CALDESC:Evenementen voor Hardloopevenementen
REFRESH-INTERVAL;VALUE=DURATION:PT1H
X-Robots-Tag:noindex
X-PUBLISHED-TTL:PT1H
BEGIN:VTIMEZONE
TZID:UTC
BEGIN:STANDARD
TZOFFSETFROM:+0000
TZOFFSETTO:+0000
TZNAME:UTC
DTSTART:20100101T000000
END:STANDARD
END:VTIMEZONE
BEGIN:VEVENT
DTSTART;VALUE=DATE:20111127
DTEND;VALUE=DATE:20111128
DTSTAMP:20260421T184340
CREATED:20120815T150455Z
LAST-MODIFIED:20190423T101703Z
UID:5906-1322352000-1322352000@hardloopevenementen.com
SUMMARY:CONTOUR Run op Velden Velden\, gemeente Arcen en Velden (LI)
DESCRIPTION:Doe mee met het hardloopevenement CONTOUR Run op Velden te Velden\, gemeente Arcen en Velden (LI) op zo 27 nov 2011. De volgende afstanden staan op het programma: 0\,8 km – 1\,5 km – 6 km – 12 km hardlopen. Wilt u inschrijven voor dit loopevenement?  Raadpleeg hiervoor dan de website van de organisatie\nDe uitslagen van deze hardloopwedstrijd zijn te raadplegen via dezelfde website of via de bekende websites zoals uitslagen.nl\, runtimer en mylaps. Doet u mee met dit evenement\, zorg dan dat u goed voorbereid aan de start staat! Met een goed trainingsschema komt u een heel eind. Train bijvoorbeeld met start to run van Evy Gruyaert. Download de start to run mp3 bestanden en zet ze op uw telefoon. Oortjes in\, hit the play button en en rennen maar! \n\n\n\n\nMeer informatie over CONTOUR Run op Velden op Hardloopkalender.nl  \nHet loopevenement CONTOUR Run op Velden te Velden vindt plaats op zondag 27 november 2011. De loop wordt georganiseerd door Lopersgroep Arcen Lomm Velden  . Inschrijven is mogelijk vanaf 20 september 2011. Klik hier voor het adres van de start (Google Maps).Er is verkleedaccomodatie met douchemogelijkheid aanwezig. Er is EHBO aanwezig. Bijzonderheden: Bijzonder gezellig Voor meer informatie:Marly van der Schootmarlyvanderschoot@xs4all.nl0774739115http:  lopersgroep-alv.nl    starttijden:  12 km starttijd 11.45 uur  6  km starttijd 10.15 uur  1.500 meter starttijd 09.45 uur  750 meter starttijd 09.30 uur \n  \n  \n 
URL:https://hardloopevenementen.com/loopagenda/contour-run-op-velden-velden-gemeente-arcen-en-velden-li/
END:VEVENT
END:VCALENDAR