BEGIN:VCALENDAR
VERSION:2.0
PRODID:-//Hardloopevenementen - ECPv6.15.14//NONSGML v1.0//EN
CALSCALE:GREGORIAN
METHOD:PUBLISH
X-WR-CALNAME:Hardloopevenementen
X-ORIGINAL-URL:https://hardloopevenementen.com
X-WR-CALDESC:Evenementen voor Hardloopevenementen
REFRESH-INTERVAL;VALUE=DURATION:PT1H
X-Robots-Tag:noindex
X-PUBLISHED-TTL:PT1H
BEGIN:VTIMEZONE
TZID:UTC
BEGIN:STANDARD
TZOFFSETFROM:+0000
TZOFFSETTO:+0000
TZNAME:UTC
DTSTART:20170101T000000
END:STANDARD
END:VTIMEZONE
BEGIN:VEVENT
DTSTART;VALUE=DATE:20191221
DTEND;VALUE=DATE:20191222
DTSTAMP:20260425T234327
CREATED:20100612T080745Z
LAST-MODIFIED:20191114T112326Z
UID:142521-1576886400-1576886400@hardloopevenementen.com
SUMMARY:Gaasterlan-Run Balk\, gemeente Gaasterlan-Sleat (FR)
DESCRIPTION:Doe mee met het hardloopevenement Gaasterlan-Run te Balk\, gemeente Gaasterlan-Sleat (FR) op za 21 dec 2019. De volgende afstanden staan op het programma: 6\,4 km – 12 km – halve marathon hardlopen. Wilt u inschrijven voor dit loopevenement?  Raadpleeg hiervoor dan de website van de organisatie\nDe uitslagen van deze hardloopwedstrijd zijn te raadplegen via dezelfde website of via de bekende websites zoals uitslagen.nl\, runtimer en mylaps. Doet u mee met dit evenement\, zorg dan dat u goed voorbereid aan de start staat! Met een goed trainingsschema komt u een heel eind. Train bijvoorbeeld met start to run van Evy Gruyaert. Download de start to run mp3 bestanden en zet ze op uw telefoon. Oortjes in\, hit the play button en en rennen maar! \n\n\n\n\nMeer informatie over Gaasterlan-Run op Hardloopkalender.nl  \nDe Gaasterlân Rabo Run is een initiatief van  Balk Support  van de Voetbal Vereniging Balk. Met de afstanden 4 mijl\, 12 kilometer en de halve marathon heeft de organisatie voor iedere loper een prachtige route uit gestippeld. De mooie vlakke paden in Gaasterland maken de loop toegankelijk voor een brede groep deelnemers. Er is een verzorgingspost ingericht voor de deelnemers aan de 12 km loop en de halve marathon en ook is er fruit beschikbaar direct na de finish. De routes zijn ongewijzigd gebleven.  Ook dit jaar maken we gebruik van startnummers met een chip die de doorkomst bij start en finish registreert. Tijden en klasseringen worden zo spoedig mogelijk na afloop van de loop op de site gezet. De drie snelste deelnemers ontvangen tevens een blijvende herinnering en een envelop met inhoud.  De Gaasterlân Rabo Run heeft zich nu al een blijvende plaats in de rij van aansprekende Friese evenementen verworven.  Enkele deelnemers zeiden:  een voltreffer  wat een prettige ambiance  een gezellige kantine  een schitterend parcours  uitstekend georganiseerd  pure propaganda voor de atletieksport.   Tot zaterdag 21 december 2019\, aanvang 11:30 uur.  Met sportieve groeten\, Commissie Gaasterlân Rabo Run \n  \n  \n 
URL:https://hardloopevenementen.com/loopagenda/gaasterlan-run-balk-gemeente-gaasterlan-sleat-fr-7/
END:VEVENT
BEGIN:VEVENT
DTSTART;VALUE=DATE:20181222
DTEND;VALUE=DATE:20181223
DTSTAMP:20260425T234327
CREATED:20120811T130144Z
LAST-MODIFIED:20190423T120104Z
UID:15543-1545436800-1545436800@hardloopevenementen.com
SUMMARY:Gaasterlan-Run Balk\, gemeente Gaasterlan-Sleat (FR)
DESCRIPTION:Doe mee met het hardloopevenement Gaasterlan-Run te Balk\, gemeente Gaasterlan-Sleat (FR) op za 22 dec 2018. De volgende afstanden staan op het programma: 6\,4 km – 12 km – halve marathon hardlopen. Wilt u inschrijven voor dit loopevenement?  Raadpleeg hiervoor dan de website van de organisatie\nDe uitslagen van deze hardloopwedstrijd zijn te raadplegen via dezelfde website of via de bekende websites zoals uitslagen.nl\, runtimer en mylaps. Doet u mee met dit evenement\, zorg dan dat u goed voorbereid aan de start staat! Met een goed trainingsschema komt u een heel eind. Train bijvoorbeeld met start to run van Evy Gruyaert. Download de start to run mp3 bestanden en zet ze op uw telefoon. Oortjes in\, hit the play button en en rennen maar! \n\n\n\n\nMeer informatie over Gaasterlan-Run op Hardloopkalender.nl  \nGaasterlân Rabo Run 2018  De Gaasterlân Rabo Run is een initiatief van  Balk Support  van de Voetbal Vereniging Balk. Met de afstanden 4 mijl\, 12 kilometer en de halve marathon heeft de organisatie voor iedere loper een prachtige route uit gestippeld. De mooie vlakke paden in Gaasterland maken de loop toegankelijk voor een brede groep deelnemers. Er is een verzorgingspost ingericht voor de deelnemers aan de 12 km loop en de halve marathon en ook is er fruit beschikbaar direct na de finish. De routes zijn ongewijzigd gebleven.  Ook dit jaar maken we gebruik van startnummers met een chip die de doorkomst bij start en finish registreert. Tijden en klasseringen worden zo spoedig mogelijk na afloop van de loop op de site gezet. De drie snelste deelnemers ontvangen tevens een blijvende herinnering en een envelop met inhoud.  De Gaasterlân Rabo Run heeft zich nu al een blijvende plaats in de rij van aansprekende Friese evenementen verworven.  Enkele deelnemers zeiden:  een voltreffer  wat een prettige ambiance  een gezellige kantine  een schitterend parcours  uitstekend georganiseerd  pure propaganda voor de atletieksport.   Tot zaterdag 22 december 2018\, aanvang 11:30 uur.  Met sportieve groeten\, Commissie Gaasterlân Rabo Run \n  \n  \n 
URL:https://hardloopevenementen.com/loopagenda/gaasterlan-run-balk-gemeente-gaasterlan-sleat-fr-6/
END:VEVENT
END:VCALENDAR