BEGIN:VCALENDAR
VERSION:2.0
PRODID:-//Hardloopevenementen - ECPv6.15.14//NONSGML v1.0//EN
CALSCALE:GREGORIAN
METHOD:PUBLISH
X-ORIGINAL-URL:https://hardloopevenementen.com
X-WR-CALDESC:Evenementen voor Hardloopevenementen
REFRESH-INTERVAL;VALUE=DURATION:PT1H
X-Robots-Tag:noindex
X-PUBLISHED-TTL:PT1H
BEGIN:VTIMEZONE
TZID:UTC
BEGIN:STANDARD
TZOFFSETFROM:+0000
TZOFFSETTO:+0000
TZNAME:UTC
DTSTART:20130101T000000
END:STANDARD
END:VTIMEZONE
BEGIN:VEVENT
DTSTART;VALUE=DATE:20160427
DTEND;VALUE=DATE:20160428
DTSTAMP:20260426T030826
CREATED:20110221T025124Z
LAST-MODIFIED:20190423T112539Z
UID:12862-1461715200-1461715200@hardloopevenementen.com
SUMMARY:Beiler Koningsloop Beilen\, gemeente Midden-Drenthe (DR)
DESCRIPTION:Doe mee met het hardloopevenement Beiler Koningsloop te Beilen\, gemeente Midden-Drenthe (DR) op wo 27 apr 2016. De volgende afstanden staan op het programma: 0\,8 km – 1\,4 km – 2\,7 km – 5 km – 6\,4 km – 10 km hardlopen. Wilt u inschrijven voor dit loopevenement?  Raadpleeg hiervoor dan de website van de organisatie\nDe uitslagen van deze hardloopwedstrijd zijn te raadplegen via dezelfde website of via de bekende websites zoals uitslagen.nl\, runtimer en mylaps. Doet u mee met dit evenement\, zorg dan dat u goed voorbereid aan de start staat! Met een goed trainingsschema komt u een heel eind. Train bijvoorbeeld met start to run van Evy Gruyaert. Download de start to run mp3 bestanden en zet ze op uw telefoon. Oortjes in\, hit the play button en en rennen maar! \n\n\n\n\nMeer informatie over Beiler Koningsloop op Hardloopkalender.nl  \nHet loopevenement Beiler Koningsloop te Beilen vindt plaats op woensdag 27 april 2016. \n  \n  \n 
URL:https://hardloopevenementen.com/loopagenda/beiler-koningsloop-beilen-gemeente-midden-drenthe-dr-2/
END:VEVENT
BEGIN:VEVENT
DTSTART;VALUE=DATE:20140612
DTEND;VALUE=DATE:20140613
DTSTAMP:20260426T030826
CREATED:20120502T133413Z
LAST-MODIFIED:20190423T105424Z
UID:33883-1402531200-1402531200@hardloopevenementen.com
SUMMARY:Middenveldrun Beilen\, gemeente Midden-Drenthe (DR)
DESCRIPTION:Doe mee met het hardloopevenement Middenveldrun te Beilen\, gemeente Midden-Drenthe (DR) op do 12 jun 2014. De volgende afstanden staan op het programma: 6\,4 km hardlopen. Wilt u inschrijven voor dit loopevenement?  Raadpleeg hiervoor dan de website van de organisatie\nDe uitslagen van deze hardloopwedstrijd zijn te raadplegen via dezelfde website of via de bekende websites zoals uitslagen.nl\, runtimer en mylaps. Doet u mee met dit evenement\, zorg dan dat u goed voorbereid aan de start staat! Met een goed trainingsschema komt u een heel eind. Train bijvoorbeeld met start to run van Evy Gruyaert. Download de start to run mp3 bestanden en zet ze op uw telefoon. Oortjes in\, hit the play button en en rennen maar! \n\n\n\n\nMeer informatie over Middenveldrun op Hardloopkalender.nl  \nAfwisselend parcours van twee rondes van 3\,2 km over voornamelijk fietspaden met start\, doorkomst en finish op de markt in Beilen. Het pittigste onderdeel van de route zal voor de meeste lopers de brug over de Beilerstroom zijn. \n  \n  \n 
URL:https://hardloopevenementen.com/loopagenda/middenveldrun-beilen-gemeente-midden-drenthe-dr/
END:VEVENT
END:VCALENDAR