BEGIN:VCALENDAR
VERSION:2.0
PRODID:-//Hardloopevenementen - ECPv6.15.14//NONSGML v1.0//EN
CALSCALE:GREGORIAN
METHOD:PUBLISH
X-WR-CALNAME:Hardloopevenementen
X-ORIGINAL-URL:https://hardloopevenementen.com
X-WR-CALDESC:Evenementen voor Hardloopevenementen
REFRESH-INTERVAL;VALUE=DURATION:PT1H
X-Robots-Tag:noindex
X-PUBLISHED-TTL:PT1H
BEGIN:VTIMEZONE
TZID:UTC
BEGIN:STANDARD
TZOFFSETFROM:+0000
TZOFFSETTO:+0000
TZNAME:UTC
DTSTART:20060101T000000
END:STANDARD
END:VTIMEZONE
BEGIN:VEVENT
DTSTART;VALUE=DATE:20080622
DTEND;VALUE=DATE:20080623
DTSTAMP:20260420T150508
CREATED:20121124T044151Z
LAST-MODIFIED:20190423T094638Z
UID:19502-1214092800-1214092800@hardloopevenementen.com
SUMMARY:Ladiesrun Rotterdam
DESCRIPTION:Doe mee met het hardloopevenement Ladiesrun te Rotterdam op zo 22 jun 2008. De volgende afstanden staan op het programma: 3 km – 6\,5 km – 10 km hardlopen. Wilt u inschrijven voor dit loopevenement?  Raadpleeg hiervoor dan de website van de organisatie\nDe uitslagen van deze hardloopwedstrijd zijn te raadplegen via dezelfde website of via de bekende websites zoals uitslagen.nl\, runtimer en mylaps. Doet u mee met dit evenement\, zorg dan dat u goed voorbereid aan de start staat! Met een goed trainingsschema komt u een heel eind. Train bijvoorbeeld met start to run van Evy Gruyaert. Download de start to run mp3 bestanden en zet ze op uw telefoon. Oortjes in\, hit the play button en en rennen maar! \n\n\n\n\nMeer informatie over Ladiesrun op Hardloopkalender.nl  \nstart  3 km 10:30 uur  6\,5 km 10:45 uur  10 km 11:30 uur \n  \n  \n 
URL:https://hardloopevenementen.com/loopagenda/ladiesrun-rotterdam-2/
END:VEVENT
BEGIN:VEVENT
DTSTART;VALUE=DATE:20070624
DTEND;VALUE=DATE:20070625
DTSTAMP:20260420T150508
CREATED:20180619T002601Z
LAST-MODIFIED:20190423T093936Z
UID:443-1182643200-1182643200@hardloopevenementen.com
SUMMARY:Ladiesrun Rotterdam
DESCRIPTION:Doe mee met het hardloopevenement Ladiesrun te Rotterdam op zo 24 jun 2007. De volgende afstanden staan op het programma: 3 km – 6\,5 km – 10 km hardlopen. Wilt u inschrijven voor dit loopevenement?  Raadpleeg hiervoor dan de website van de organisatie\nDe uitslagen van deze hardloopwedstrijd zijn te raadplegen via dezelfde website of via de bekende websites zoals uitslagen.nl\, runtimer en mylaps. Doet u mee met dit evenement\, zorg dan dat u goed voorbereid aan de start staat! Met een goed trainingsschema komt u een heel eind. Train bijvoorbeeld met start to run van Evy Gruyaert. Download de start to run mp3 bestanden en zet ze op uw telefoon. Oortjes in\, hit the play button en en rennen maar! \n\n\n\n\nMeer informatie over Ladiesrun op Hardloopkalender.nl  \n  \n  \n 
URL:https://hardloopevenementen.com/loopagenda/ladiesrun-rotterdam/
END:VEVENT
BEGIN:VEVENT
DTSTART;VALUE=DATE:20070528
DTEND;VALUE=DATE:20070529
DTSTAMP:20260420T150508
CREATED:20180928T052301Z
LAST-MODIFIED:20190423T093953Z
UID:513-1180310400-1180310400@hardloopevenementen.com
SUMMARY:Homerun Rotterdam
DESCRIPTION:Doe mee met het hardloopevenement Homerun te Rotterdam op ma 28 mei 2007. De volgende afstanden staan op het programma: 6\,5 km hardlopen. Wilt u inschrijven voor dit loopevenement?  Raadpleeg hiervoor dan de website van de organisatie\nDe uitslagen van deze hardloopwedstrijd zijn te raadplegen via dezelfde website of via de bekende websites zoals uitslagen.nl\, runtimer en mylaps. Doet u mee met dit evenement\, zorg dan dat u goed voorbereid aan de start staat! Met een goed trainingsschema komt u een heel eind. Train bijvoorbeeld met start to run van Evy Gruyaert. Download de start to run mp3 bestanden en zet ze op uw telefoon. Oortjes in\, hit the play button en en rennen maar! \n\n\n\n\nMeer informatie over Homerun op Hardloopkalender.nl  \n  \n  \n 
URL:https://hardloopevenementen.com/loopagenda/homerun-rotterdam/
END:VEVENT
BEGIN:VEVENT
DTSTART;VALUE=DATE:20070528
DTEND;VALUE=DATE:20070529
DTSTAMP:20260420T150508
CREATED:20080921T090817Z
LAST-MODIFIED:20190423T093953Z
UID:514-1180310400-1180310400@hardloopevenementen.com
SUMMARY:Homerun voor het Familiehuis Rotterdam
DESCRIPTION:Doe mee met het hardloopevenement Homerun voor het Familiehuis te Rotterdam op ma 28 mei 2007. De volgende afstanden staan op het programma: 5 km – 6\,5 km hardlopen. Wilt u inschrijven voor dit loopevenement?  Raadpleeg hiervoor dan de website van de organisatie\nDe uitslagen van deze hardloopwedstrijd zijn te raadplegen via dezelfde website of via de bekende websites zoals uitslagen.nl\, runtimer en mylaps. Doet u mee met dit evenement\, zorg dan dat u goed voorbereid aan de start staat! Met een goed trainingsschema komt u een heel eind. Train bijvoorbeeld met start to run van Evy Gruyaert. Download de start to run mp3 bestanden en zet ze op uw telefoon. Oortjes in\, hit the play button en en rennen maar! \n\n\n\n\nMeer informatie over Homerun voor het Familiehuis op Hardloopkalender.nl  \n  \n  \n 
URL:https://hardloopevenementen.com/loopagenda/homerun-voor-het-familiehuis-rotterdam/
END:VEVENT
END:VCALENDAR