BEGIN:VCALENDAR
VERSION:2.0
PRODID:-//Hardloopevenementen - ECPv6.15.14//NONSGML v1.0//EN
CALSCALE:GREGORIAN
METHOD:PUBLISH
X-WR-CALNAME:Hardloopevenementen
X-ORIGINAL-URL:https://hardloopevenementen.com
X-WR-CALDESC:Evenementen voor Hardloopevenementen
REFRESH-INTERVAL;VALUE=DURATION:PT1H
X-Robots-Tag:noindex
X-PUBLISHED-TTL:PT1H
BEGIN:VTIMEZONE
TZID:UTC
BEGIN:STANDARD
TZOFFSETFROM:+0000
TZOFFSETTO:+0000
TZNAME:UTC
DTSTART:20120101T000000
END:STANDARD
END:VTIMEZONE
BEGIN:VEVENT
DTSTART;VALUE=DATE:20150527
DTEND;VALUE=DATE:20150528
DTSTAMP:20260421T053731
CREATED:20121226T071219Z
LAST-MODIFIED:20190423T111159Z
UID:10406-1432684800-1432684800@hardloopevenementen.com
SUMMARY:KidsRun en Dorpsloop Leusden Leusden (UT)
DESCRIPTION:Doe mee met het hardloopevenement KidsRun en Dorpsloop Leusden te Leusden (UT) op wo 27 mei 2015. De volgende afstanden staan op het programma: 6\,6 km hardlopen. Wilt u inschrijven voor dit loopevenement?  Raadpleeg hiervoor dan de website van de organisatie\nDe uitslagen van deze hardloopwedstrijd zijn te raadplegen via dezelfde website of via de bekende websites zoals uitslagen.nl\, runtimer en mylaps. Doet u mee met dit evenement\, zorg dan dat u goed voorbereid aan de start staat! Met een goed trainingsschema komt u een heel eind. Train bijvoorbeeld met start to run van Evy Gruyaert. Download de start to run mp3 bestanden en zet ze op uw telefoon. Oortjes in\, hit the play button en en rennen maar! \n\n\n\n\nMeer informatie over KidsRun en Dorpsloop Leusden op Hardloopkalender.nl  \nHet loopevenement KidsRun & Dorpsloop Leusden te Leusden vindt plaats op woensdag 27 mei 2015. \n  \n  \n 
URL:https://hardloopevenementen.com/loopagenda/kidsrun-en-dorpsloop-leusden-leusden-ut/
END:VEVENT
BEGIN:VEVENT
DTSTART;VALUE=DATE:20130529
DTEND;VALUE=DATE:20130530
DTSTAMP:20260421T053731
CREATED:20081221T102807Z
LAST-MODIFIED:20190423T104233Z
UID:31681-1369785600-1369785600@hardloopevenementen.com
SUMMARY:Dorpsloop Leusden Leusden (UT)
DESCRIPTION:Doe mee met het hardloopevenement Dorpsloop Leusden te Leusden (UT) op wo 29 mei 2013. De volgende afstanden staan op het programma: 1\,3 km – 6\,6 km hardlopen. Wilt u inschrijven voor dit loopevenement?  Raadpleeg hiervoor dan de website van de organisatie\nDe uitslagen van deze hardloopwedstrijd zijn te raadplegen via dezelfde website of via de bekende websites zoals uitslagen.nl\, runtimer en mylaps. Doet u mee met dit evenement\, zorg dan dat u goed voorbereid aan de start staat! Met een goed trainingsschema komt u een heel eind. Train bijvoorbeeld met start to run van Evy Gruyaert. Download de start to run mp3 bestanden en zet ze op uw telefoon. Oortjes in\, hit the play button en en rennen maar! \n\n\n\n\nMeer informatie over Dorpsloop Leusden op Hardloopkalender.nl  \n6\,6km wedstrijd of trimloop over 1\,3 of 6\,6km. \n  \n  \n 
URL:https://hardloopevenementen.com/loopagenda/dorpsloop-leusden-leusden-ut-2/
END:VEVENT
END:VCALENDAR