BEGIN:VCALENDAR
VERSION:2.0
PRODID:-//Hardloopevenementen - ECPv6.15.14//NONSGML v1.0//EN
CALSCALE:GREGORIAN
METHOD:PUBLISH
X-ORIGINAL-URL:https://hardloopevenementen.com
X-WR-CALDESC:Evenementen voor Hardloopevenementen
REFRESH-INTERVAL;VALUE=DURATION:PT1H
X-Robots-Tag:noindex
X-PUBLISHED-TTL:PT1H
BEGIN:VTIMEZONE
TZID:UTC
BEGIN:STANDARD
TZOFFSETFROM:+0000
TZOFFSETTO:+0000
TZNAME:UTC
DTSTART:20090101T000000
END:STANDARD
END:VTIMEZONE
BEGIN:VEVENT
DTSTART;VALUE=DATE:20100907
DTEND;VALUE=DATE:20100908
DTSTAMP:20260421T021427
CREATED:20080320T021333Z
LAST-MODIFIED:20190423T100904Z
UID:3662-1283817600-1283817600@hardloopevenementen.com
SUMMARY:Koningshofloop Pijnacker\, gemeente Pijnacker-Nootdorp (ZH)
DESCRIPTION:Doe mee met het hardloopevenement Koningshofloop te Pijnacker\, gemeente Pijnacker-Nootdorp (ZH) op di 07 sep 2010. De volgende afstanden staan op het programma: 1 km – 3\,3 km – 6\,6 km – 9\,9 km hardlopen. Wilt u inschrijven voor dit loopevenement?  Raadpleeg hiervoor dan de website van de organisatie\nDe uitslagen van deze hardloopwedstrijd zijn te raadplegen via dezelfde website of via de bekende websites zoals uitslagen.nl\, runtimer en mylaps. Doet u mee met dit evenement\, zorg dan dat u goed voorbereid aan de start staat! Met een goed trainingsschema komt u een heel eind. Train bijvoorbeeld met start to run van Evy Gruyaert. Download de start to run mp3 bestanden en zet ze op uw telefoon. Oortjes in\, hit the play button en en rennen maar! \n\n\n\n\nMeer informatie over Koningshofloop op Hardloopkalender.nl  \nInschrijven vanaf 18.00 uur in sporthal het Baken aan de Rivierenlaan te Pijnacker (wijk Koningshof)  Hier is tevens kleed- en douchegelegenheid.    Start: op de Europalaan  1 km ( voor kinderen t m 11 jaar) 18.45  3\,3   6\,6 en 9\,9 om                     19.00    Inschrijfgeld: 1 km gratis Rest  2\,50 (leden bewonersvereniging gratis)  Prijsuitreiking: 20.15  Informatie 06-13482344 of 06-12055113  Leuke loop\, erg gezellig\, U bent van harte welkom!! \n  \n  \n 
URL:https://hardloopevenementen.com/loopagenda/koningshofloop-pijnacker-gemeente-pijnacker-nootdorp-zh/
END:VEVENT
END:VCALENDAR