BEGIN:VCALENDAR
VERSION:2.0
PRODID:-//Hardloopevenementen - ECPv6.15.14//NONSGML v1.0//EN
CALSCALE:GREGORIAN
METHOD:PUBLISH
X-WR-CALNAME:Hardloopevenementen
X-ORIGINAL-URL:https://hardloopevenementen.com
X-WR-CALDESC:Evenementen voor Hardloopevenementen
REFRESH-INTERVAL;VALUE=DURATION:PT1H
X-Robots-Tag:noindex
X-PUBLISHED-TTL:PT1H
BEGIN:VTIMEZONE
TZID:UTC
BEGIN:STANDARD
TZOFFSETFROM:+0000
TZOFFSETTO:+0000
TZNAME:UTC
DTSTART:20080101T000000
END:STANDARD
END:VTIMEZONE
BEGIN:VEVENT
DTSTART;VALUE=DATE:20110820
DTEND;VALUE=DATE:20110821
DTSTAMP:20260425T145405
CREATED:20110727T110939Z
LAST-MODIFIED:20190423T101932Z
UID:6509-1313798400-1313798400@hardloopevenementen.com
SUMMARY:Ronde van Naastenbest Best (NB)
DESCRIPTION:Doe mee met het hardloopevenement Ronde van Naastenbest te Best (NB) op za 20 aug 2011. De volgende afstanden staan op het programma: 1\,5 km – 3\,6 km – 6\,8 km – 10 km hardlopen. Wilt u inschrijven voor dit loopevenement?  Raadpleeg hiervoor dan de website van de organisatie\nDe uitslagen van deze hardloopwedstrijd zijn te raadplegen via dezelfde website of via de bekende websites zoals uitslagen.nl\, runtimer en mylaps. Doet u mee met dit evenement\, zorg dan dat u goed voorbereid aan de start staat! Met een goed trainingsschema komt u een heel eind. Train bijvoorbeeld met start to run van Evy Gruyaert. Download de start to run mp3 bestanden en zet ze op uw telefoon. Oortjes in\, hit the play button en en rennen maar! \n\n\n\n\nMeer informatie over Ronde van Naastenbest op Hardloopkalender.nl  \nHet loopevenement Ronde van Naastenbest te Best vindt plaats op zaterdag 20 augustus 2011. De loop wordt georganiseerd door AV Generaal Michaelis. Inschrijven is mogelijk vanaf 06 juni 2011. Klik hier voor het adres van de start (Google Maps).Er is verkleedaccomodatie met douchemogelijkheid aanwezig. Er is EHBO aanwezig. Afstand(km)Inschrijfgeld(€)Starttijd10-6\,8-3\,6€3\,0019:301\,5€1\,5019:00Voor meer informatie:Ingrid Brekelmanswedstrijden@avgm.nl0402571166http:  www.avgm.nl \n  \n  \n 
URL:https://hardloopevenementen.com/loopagenda/ronde-van-naastenbest-best-nb-3/
END:VEVENT
BEGIN:VEVENT
DTSTART;VALUE=DATE:20100828
DTEND;VALUE=DATE:20100829
DTSTAMP:20260425T145405
CREATED:20070605T014050Z
LAST-MODIFIED:20190423T100927Z
UID:3739-1282953600-1282953600@hardloopevenementen.com
SUMMARY:Ronde van Naastenbest Best (NB)
DESCRIPTION:Doe mee met het hardloopevenement Ronde van Naastenbest te Best (NB) op za 28 aug 2010. De volgende afstanden staan op het programma: 1\,5 km – 3\,6 km – 6\,8 km – 10 km hardlopen. Wilt u inschrijven voor dit loopevenement?  Raadpleeg hiervoor dan de website van de organisatie\nDe uitslagen van deze hardloopwedstrijd zijn te raadplegen via dezelfde website of via de bekende websites zoals uitslagen.nl\, runtimer en mylaps. Doet u mee met dit evenement\, zorg dan dat u goed voorbereid aan de start staat! Met een goed trainingsschema komt u een heel eind. Train bijvoorbeeld met start to run van Evy Gruyaert. Download de start to run mp3 bestanden en zet ze op uw telefoon. Oortjes in\, hit the play button en en rennen maar! \n\n\n\n\nMeer informatie over Ronde van Naastenbest op Hardloopkalender.nl  \nDit loopevenement wordt georganiseerd door AV Generaal Michaelis.De eerste afstand (of onderdeel) start om 19:00.Het adres van de start en de finish is Constantijnlaan 2Categorie(ën): mannen\, vrouwen\, jeugdVooraf inschrijven is mogelijk vanaf 29 april 2010 tot 20 augustus 2010.Inschrijven op de dag van de loop is mogelijk (vanaf 18:00) op dit adres: Constantijnlaan 2.Meer informatie:Contactpersoon: Ingrid BrekelmansTel.: 0402571166Email: wedstrijden@avgm.nlEr is een kleedaccomodatie aanwezig. Douchen is mogelijk.Het parcours is verhard.Vorig jaar deden er 150 lopers mee aan dit evenement.Overige bijzonderheden:  21.1 in lintvorm van Heesch naar Dinther.  Estafette ronde in Dinther. \n  \n  \n 
URL:https://hardloopevenementen.com/loopagenda/ronde-van-naastenbest-best-nb-2/
END:VEVENT
BEGIN:VEVENT
DTSTART;VALUE=DATE:20090829
DTEND;VALUE=DATE:20090830
DTSTAMP:20260425T145405
CREATED:20171221T222525Z
LAST-MODIFIED:20190423T095917Z
UID:1893-1251504000-1251504000@hardloopevenementen.com
SUMMARY:Ronde van Naastenbest Best (NB)
DESCRIPTION:Doe mee met het hardloopevenement Ronde van Naastenbest te Best (NB) op za 29 aug 2009. De volgende afstanden staan op het programma: 1\,5 km – 3\,6 km – 6\,8 km – 10 km hardlopen. Wilt u inschrijven voor dit loopevenement?  Raadpleeg hiervoor dan de website van de organisatie\nDe uitslagen van deze hardloopwedstrijd zijn te raadplegen via dezelfde website of via de bekende websites zoals uitslagen.nl\, runtimer en mylaps. Doet u mee met dit evenement\, zorg dan dat u goed voorbereid aan de start staat! Met een goed trainingsschema komt u een heel eind. Train bijvoorbeeld met start to run van Evy Gruyaert. Download de start to run mp3 bestanden en zet ze op uw telefoon. Oortjes in\, hit the play button en en rennen maar! \n\n\n\n\nMeer informatie over Ronde van Naastenbest op Hardloopkalender.nl  \n1\,5 km 19:00 uur\, 3\,6-6\,8-10-10 km 19:30 uur \n  \n  \n 
URL:https://hardloopevenementen.com/loopagenda/ronde-van-naastenbest-best-nb/
END:VEVENT
END:VCALENDAR