BEGIN:VCALENDAR
VERSION:2.0
PRODID:-//Hardloopevenementen - ECPv6.15.14//NONSGML v1.0//EN
CALSCALE:GREGORIAN
METHOD:PUBLISH
X-WR-CALNAME:Hardloopevenementen
X-ORIGINAL-URL:https://hardloopevenementen.com
X-WR-CALDESC:Evenementen voor Hardloopevenementen
REFRESH-INTERVAL;VALUE=DURATION:PT1H
X-Robots-Tag:noindex
X-PUBLISHED-TTL:PT1H
BEGIN:VTIMEZONE
TZID:UTC
BEGIN:STANDARD
TZOFFSETFROM:+0000
TZOFFSETTO:+0000
TZNAME:UTC
DTSTART:20120101T000000
END:STANDARD
END:VTIMEZONE
BEGIN:VEVENT
DTSTART;VALUE=DATE:20170430
DTEND;VALUE=DATE:20170501
DTSTAMP:20260424T013252
CREATED:20170924T141613Z
LAST-MODIFIED:20190423T114648Z
UID:14849-1493510400-1493510400@hardloopevenementen.com
SUMMARY:HeerlenStormt Heerlen (LI)
DESCRIPTION:Doe mee met het hardloopevenement HeerlenStormt te Heerlen (LI) op zo 30 apr 2017. De volgende afstanden staan op het programma: 7 km – 14 km – 28 km hardlopen. Wilt u inschrijven voor dit loopevenement?  Raadpleeg hiervoor dan de website van de organisatie\nDe uitslagen van deze hardloopwedstrijd zijn te raadplegen via dezelfde website of via de bekende websites zoals uitslagen.nl\, runtimer en mylaps. Doet u mee met dit evenement\, zorg dan dat u goed voorbereid aan de start staat! Met een goed trainingsschema komt u een heel eind. Train bijvoorbeeld met start to run van Evy Gruyaert. Download de start to run mp3 bestanden en zet ze op uw telefoon. Oortjes in\, hit the play button en en rennen maar! \n\n\n\n\nMeer informatie over HeerlenStormt op Hardloopkalender.nl  \nGrrrr… 30 april gaat het Stormen in Heerlen…  Een afwisselend\, uitdagend en origineel parcours met veel Hindernissen. Zowel in de stad als langs door Aambos en verschillende stadsdelen van Heerlen.  Dwars door gebouwen\, klimmen op containers\, kruipen door een grote modderbak\, klauteren over een stellage\, roetsjen van een waterglijbaan\, springen tussen grote en kleine autobanden\, tijgeren\, zwemmen en nog veel meer.    HeerlenStormt laat je spieren branden en je hart sneller kloppen. Voor alle informatie over HeerlenStormt kun je terecht op de website: www.heerlenstormt.nl. \n  \n  \n 
URL:https://hardloopevenementen.com/loopagenda/heerlenstormt-heerlen-li/
END:VEVENT
BEGIN:VEVENT
DTSTART;VALUE=DATE:20141226
DTEND;VALUE=DATE:20141227
DTSTAMP:20260424T013252
CREATED:20130306T060316Z
LAST-MODIFIED:20190423T104827Z
UID:8478-1419552000-1419552000@hardloopevenementen.com
SUMMARY:Kerstcross AVON Heerlen Heerlen (LI)
DESCRIPTION:Doe mee met het hardloopevenement Kerstcross AVON Heerlen te Heerlen (LI) op vr 26 dec 2014. De volgende afstanden staan op het programma: 3 km – 7 km – 10 km hardlopen. Wilt u inschrijven voor dit loopevenement?  Raadpleeg hiervoor dan de website van de organisatie\nDe uitslagen van deze hardloopwedstrijd zijn te raadplegen via dezelfde website of via de bekende websites zoals uitslagen.nl\, runtimer en mylaps. Doet u mee met dit evenement\, zorg dan dat u goed voorbereid aan de start staat! Met een goed trainingsschema komt u een heel eind. Train bijvoorbeeld met start to run van Evy Gruyaert. Download de start to run mp3 bestanden en zet ze op uw telefoon. Oortjes in\, hit the play button en en rennen maar! \n\n\n\n\nMeer informatie over Kerstcross AVON Heerlen op Hardloopkalender.nl  \nHet loopevenement Kerstcross AVON Heerlen te Heerlen vindt plaats op vrijdag 26 december 2014. De loop wordt georganisseerd door AVON. Klik hier voor het adres van de start (Google Maps).Bijzonderheden: Deze cross wordt voor de 53e maal georganiseerd en is geheel met spikes te lopen. \n  \n  \n 
URL:https://hardloopevenementen.com/loopagenda/kerstcross-avon-heerlen-heerlen-li/
END:VEVENT
BEGIN:VEVENT
DTSTART;VALUE=DATE:20131226
DTEND;VALUE=DATE:20131227
DTSTAMP:20260424T013252
CREATED:20130616T151501Z
LAST-MODIFIED:20190423T103717Z
UID:7876-1388016000-1388016000@hardloopevenementen.com
SUMMARY:Kerstcross Heerlen (LI)
DESCRIPTION:Doe mee met het hardloopevenement Kerstcross te Heerlen (LI) op do 26 dec 2013. De volgende afstanden staan op het programma: 0\,8 km – 1 km – 2 km – 3 km – 3\,4 km – 5 km – 6\,8 km – 7 km – 10 km – 10\,2 km hardlopen. Wilt u inschrijven voor dit loopevenement?  Raadpleeg hiervoor dan de website van de organisatie\nDe uitslagen van deze hardloopwedstrijd zijn te raadplegen via dezelfde website of via de bekende websites zoals uitslagen.nl\, runtimer en mylaps. Doet u mee met dit evenement\, zorg dan dat u goed voorbereid aan de start staat! Met een goed trainingsschema komt u een heel eind. Train bijvoorbeeld met start to run van Evy Gruyaert. Download de start to run mp3 bestanden en zet ze op uw telefoon. Oortjes in\, hit the play button en en rennen maar! \n\n\n\n\nMeer informatie over Kerstcross op Hardloopkalender.nl  \nHet loopevenement Kerstcross te Heerlen vindt plaats op donderdag 26 december 2013. De loop wordt georganisseerd door AVON. Inschrijven is mogelijk vanaf 01 november 2013. Klik hier voor het adres van de start (Google Maps).Er is geen verkleedaccomodatie aanwezig. Er is EHBO aanwezig. Bijzonderheden: Deze cross wordt voor de 52e maal georganiseerd en is geheel met spikes te lopen.Voor meer informatie:J. Hoeversinfo@avonheerlen.nl0455725688http:  www.avonheerlen.nl \n  \n  \n 
URL:https://hardloopevenementen.com/loopagenda/kerstcross-heerlen-li-5/
END:VEVENT
END:VCALENDAR