BEGIN:VCALENDAR
VERSION:2.0
PRODID:-//Hardloopevenementen - ECPv6.15.14//NONSGML v1.0//EN
CALSCALE:GREGORIAN
METHOD:PUBLISH
X-WR-CALNAME:Hardloopevenementen
X-ORIGINAL-URL:https://hardloopevenementen.com
X-WR-CALDESC:Evenementen voor Hardloopevenementen
REFRESH-INTERVAL;VALUE=DURATION:PT1H
X-Robots-Tag:noindex
X-PUBLISHED-TTL:PT1H
BEGIN:VTIMEZONE
TZID:UTC
BEGIN:STANDARD
TZOFFSETFROM:+0000
TZOFFSETTO:+0000
TZNAME:UTC
DTSTART:20110101T000000
END:STANDARD
END:VTIMEZONE
BEGIN:VEVENT
DTSTART;VALUE=DATE:20120520
DTEND;VALUE=DATE:20120521
DTSTAMP:20260426T011634
CREATED:20150720T000939Z
LAST-MODIFIED:20190423T103220Z
UID:28349-1337472000-1337472000@hardloopevenementen.com
SUMMARY:Fortresswallenloop Naarden (NH)
DESCRIPTION:Doe mee met het hardloopevenement Fortresswallenloop te Naarden (NH) op zo 20 mei 2012. De volgende afstanden staan op het programma: 4 km – 7 km – 11 km – 14 km hardlopen. Wilt u inschrijven voor dit loopevenement?  Raadpleeg hiervoor dan de website van de organisatie\nDe uitslagen van deze hardloopwedstrijd zijn te raadplegen via dezelfde website of via de bekende websites zoals uitslagen.nl\, runtimer en mylaps. Doet u mee met dit evenement\, zorg dan dat u goed voorbereid aan de start staat! Met een goed trainingsschema komt u een heel eind. Train bijvoorbeeld met start to run van Evy Gruyaert. Download de start to run mp3 bestanden en zet ze op uw telefoon. Oortjes in\, hit the play button en en rennen maar! \n\n\n\n\nMeer informatie over Fortresswallenloop op Hardloopkalender.nl  \nHet loopevenement Fortresswallenloop te Naarden vindt plaats op zondag 20 mei 2012. De loop wordt georganiseerd door AV Tempo. Inschrijven is mogelijk vanaf 01 maart 2012. Klik hier voor het adres van de start (Google Maps).Er is EHBO aanwezig. Bijzonderheden: Kinderen tot 14 jaar betalen 5 euro. Finish onder de historische Utrechtse Poort.Afstand SoortloopInschrijfgeldStarttijdInfo4 km6\,5011:00uur7 km6\,5011:00uur11 km6\,5011:00uur14 km6\,5011:00uurVoor meer informatie:Hans Kuijerwallenloop@avtempo.nl0356924871http:  www.fortresswallenloop.nl \n  \n  \n 
URL:https://hardloopevenementen.com/loopagenda/fortresswallenloop-naarden-nh-2/
END:VEVENT
END:VCALENDAR