BEGIN:VCALENDAR
VERSION:2.0
PRODID:-//Hardloopevenementen - ECPv6.15.14//NONSGML v1.0//EN
CALSCALE:GREGORIAN
METHOD:PUBLISH
X-WR-CALNAME:Hardloopevenementen
X-ORIGINAL-URL:https://hardloopevenementen.com
X-WR-CALDESC:Evenementen voor Hardloopevenementen
REFRESH-INTERVAL;VALUE=DURATION:PT1H
X-Robots-Tag:noindex
X-PUBLISHED-TTL:PT1H
BEGIN:VTIMEZONE
TZID:UTC
BEGIN:STANDARD
TZOFFSETFROM:+0000
TZOFFSETTO:+0000
TZNAME:UTC
DTSTART:20160101T000000
END:STANDARD
END:VTIMEZONE
BEGIN:VEVENT
DTSTART;VALUE=DATE:20170924
DTEND;VALUE=DATE:20170925
DTSTAMP:20260425T212342
CREATED:20101007T044916Z
LAST-MODIFIED:20190423T114345Z
UID:14028-1506211200-1506211200@hardloopevenementen.com
SUMMARY:RoermondStormt Roermond (LI)
DESCRIPTION:Doe mee met het hardloopevenement RoermondStormt te Roermond (LI) op zo 24 sep 2017. De volgende afstanden staan op het programma: 7 km – 11 km – 22 km hardlopen. Wilt u inschrijven voor dit loopevenement?  Raadpleeg hiervoor dan de website van de organisatie\nDe uitslagen van deze hardloopwedstrijd zijn te raadplegen via dezelfde website of via de bekende websites zoals uitslagen.nl\, runtimer en mylaps. Doet u mee met dit evenement\, zorg dan dat u goed voorbereid aan de start staat! Met een goed trainingsschema komt u een heel eind. Train bijvoorbeeld met start to run van Evy Gruyaert. Download de start to run mp3 bestanden en zet ze op uw telefoon. Oortjes in\, hit the play button en en rennen maar! \n\n\n\n\nMeer informatie over RoermondStormt op Hardloopkalender.nl  \nGrrrr… het gaat Stormen in Roermond…  Een afwisselend\, uitdagend en origineel parcours met veel Hindernissen. Zowel in de stad als langs de door Hatenboer.  Dwars door gebouwen\, klimmen op containers\, kruipen door een grote modderbak\, klauteren over een stellage\, roetsjen van een waterglijbanen\,  springen tussen grote en kleine autobanden\, tijgeren onder netten en nog veel meer. \n  \n  \n 
URL:https://hardloopevenementen.com/loopagenda/roermondstormt-roermond-li/
END:VEVENT
END:VCALENDAR