BEGIN:VCALENDAR
VERSION:2.0
PRODID:-//Hardloopevenementen - ECPv6.15.14//NONSGML v1.0//EN
CALSCALE:GREGORIAN
METHOD:PUBLISH
X-ORIGINAL-URL:https://hardloopevenementen.com
X-WR-CALDESC:Evenementen voor Hardloopevenementen
REFRESH-INTERVAL;VALUE=DURATION:PT1H
X-Robots-Tag:noindex
X-PUBLISHED-TTL:PT1H
BEGIN:VTIMEZONE
TZID:UTC
BEGIN:STANDARD
TZOFFSETFROM:+0000
TZOFFSETTO:+0000
TZNAME:UTC
DTSTART:20070101T000000
END:STANDARD
END:VTIMEZONE
BEGIN:VEVENT
DTSTART;VALUE=DATE:20131006
DTEND;VALUE=DATE:20131007
DTSTAMP:20260423T103115
CREATED:20151004T033137Z
LAST-MODIFIED:20190423T103927Z
UID:8347-1381017600-1381017600@hardloopevenementen.com
SUMMARY:73e Jagersplasloop Zaandam\, gemeente Zaanstad (NH)
DESCRIPTION:Doe mee met het hardloopevenement 73e Jagersplasloop te Zaandam\, gemeente Zaanstad (NH) op zo 06 okt 2013. De volgende afstanden staan op het programma: 1\,8 km – 4\,5 km – 10 km hardlopen. Wilt u inschrijven voor dit loopevenement?  Raadpleeg hiervoor dan de website van de organisatie\nDe uitslagen van deze hardloopwedstrijd zijn te raadplegen via dezelfde website of via de bekende websites zoals uitslagen.nl\, runtimer en mylaps. Doet u mee met dit evenement\, zorg dan dat u goed voorbereid aan de start staat! Met een goed trainingsschema komt u een heel eind. Train bijvoorbeeld met start to run van Evy Gruyaert. Download de start to run mp3 bestanden en zet ze op uw telefoon. Oortjes in\, hit the play button en en rennen maar! \n\n\n\n\nMeer informatie over 73e Jagersplasloop op Hardloopkalender.nl  \nHet loopevenement 73e Jagersplasloop te Zaandam vindt plaats op zondag 06 oktober 2013. De loop wordt georganisseerd door AV Zaanland. Inschrijven is mogelijk vanaf 06 oktober 2013. Klik hier voor het adres van de start (Google Maps).Er is verkleedaccomodatie met douchemogelijkheid aanwezig. Er is EHBO aanwezig. Bijzonderheden: Een kleinschalig loopevenement door de mooie Jagersplas..Voor meer informatie:Henk Vostrimlopen@avzaanland.nl0756156743http:  www.avzaanland.nl \n  \n  \n 
URL:https://hardloopevenementen.com/loopagenda/73e-jagersplasloop-zaandam-gemeente-zaanstad-nh/
END:VEVENT
BEGIN:VEVENT
DTSTART;VALUE=DATE:20080406
DTEND;VALUE=DATE:20080407
DTSTAMP:20260423T103115
CREATED:20141116T192135Z
LAST-MODIFIED:20190423T094813Z
UID:19919-1207440000-1207440000@hardloopevenementen.com
SUMMARY:73e Sloterplasloop Amsterdam
DESCRIPTION:Doe mee met het hardloopevenement 73e Sloterplasloop te Amsterdam op zo 06 apr 2008. De volgende afstanden staan op het programma: 2\,5 km – 5 km – 10 km hardlopen. Wilt u inschrijven voor dit loopevenement?  Raadpleeg hiervoor dan de website van de organisatie\nDe uitslagen van deze hardloopwedstrijd zijn te raadplegen via dezelfde website of via de bekende websites zoals uitslagen.nl\, runtimer en mylaps. Doet u mee met dit evenement\, zorg dan dat u goed voorbereid aan de start staat! Met een goed trainingsschema komt u een heel eind. Train bijvoorbeeld met start to run van Evy Gruyaert. Download de start to run mp3 bestanden en zet ze op uw telefoon. Oortjes in\, hit the play button en en rennen maar! \n\n\n\n\nMeer informatie over 73e Sloterplasloop op Hardloopkalender.nl  \nDe Sloterplasloop bestaat uit recreatieve 2\,5km\, 5km en 10km en een KNAU wedstrijdloop van 10 KM.  Inschrijfgeld en starttijd:  2\,5 km: 2\,00 + 1\,00 huurchip  start om: 10.30 uur  5 km:  3\,50 + 1\,50 huurchip  start om: 11.00 uur  10 km: 5\,00 + 1\,50 huurchip  start om: 12:00 uur  KNAU-leden krijgen bij voorinschrijving 1\,00 korting bij deelname aan de KNAU-wedstrijdloop 10km.  De traditionele Sloterplasloopvaan ligt klaar voor elke deelnemer \n  \n  \n 
URL:https://hardloopevenementen.com/loopagenda/73e-sloterplasloop-amsterdam/
END:VEVENT
END:VCALENDAR