BEGIN:VCALENDAR
VERSION:2.0
PRODID:-//Hardloopevenementen - ECPv6.15.14//NONSGML v1.0//EN
CALSCALE:GREGORIAN
METHOD:PUBLISH
X-WR-CALNAME:Hardloopevenementen
X-ORIGINAL-URL:https://hardloopevenementen.com
X-WR-CALDESC:Evenementen voor Hardloopevenementen
REFRESH-INTERVAL;VALUE=DURATION:PT1H
X-Robots-Tag:noindex
X-PUBLISHED-TTL:PT1H
BEGIN:VTIMEZONE
TZID:UTC
BEGIN:STANDARD
TZOFFSETFROM:+0000
TZOFFSETTO:+0000
TZNAME:UTC
DTSTART:20140101T000000
END:STANDARD
END:VTIMEZONE
BEGIN:VEVENT
DTSTART;VALUE=DATE:20180610
DTEND;VALUE=DATE:20180611
DTSTAMP:20260423T230153
CREATED:20170109T050320Z
LAST-MODIFIED:20190423T120425Z
UID:16428-1528588800-1528588800@hardloopevenementen.com
SUMMARY:Ladies Run Eindhoven (NB)
DESCRIPTION:Doe mee met het hardloopevenement Ladies Run te Eindhoven (NB) op zo 10 jun 2018. De volgende afstanden staan op het programma: 5 km – 7\,5 km – 10 km hardlopen. Wilt u inschrijven voor dit loopevenement?  Raadpleeg hiervoor dan de website van de organisatie\nDe uitslagen van deze hardloopwedstrijd zijn te raadplegen via dezelfde website of via de bekende websites zoals uitslagen.nl\, runtimer en mylaps. Doet u mee met dit evenement\, zorg dan dat u goed voorbereid aan de start staat! Met een goed trainingsschema komt u een heel eind. Train bijvoorbeeld met start to run van Evy Gruyaert. Download de start to run mp3 bestanden en zet ze op uw telefoon. Oortjes in\, hit the play button en en rennen maar! \n\n\n\n\nMeer informatie over Ladies Run op Hardloopkalender.nl  \n  \n  \n 
URL:https://hardloopevenementen.com/loopagenda/ladies-run-eindhoven-nb/
END:VEVENT
BEGIN:VEVENT
DTSTART;VALUE=DATE:20170611
DTEND;VALUE=DATE:20170612
DTSTAMP:20260423T230153
CREATED:20180801T102945Z
LAST-MODIFIED:20190423T114547Z
UID:14572-1497139200-1497139200@hardloopevenementen.com
SUMMARY:Ladiesrun Eindhoven Eindhoven (NB)
DESCRIPTION:Doe mee met het hardloopevenement Ladiesrun Eindhoven te Eindhoven (NB) op zo 11 jun 2017. De volgende afstanden staan op het programma: 5 km – 7\,5 km – 10 km hardlopen. Wilt u inschrijven voor dit loopevenement?  Raadpleeg hiervoor dan de website van de organisatie\nDe uitslagen van deze hardloopwedstrijd zijn te raadplegen via dezelfde website of via de bekende websites zoals uitslagen.nl\, runtimer en mylaps. Doet u mee met dit evenement\, zorg dan dat u goed voorbereid aan de start staat! Met een goed trainingsschema komt u een heel eind. Train bijvoorbeeld met start to run van Evy Gruyaert. Download de start to run mp3 bestanden en zet ze op uw telefoon. Oortjes in\, hit the play button en en rennen maar! \n\n\n\n\nMeer informatie over Ladiesrun Eindhoven op Hardloopkalender.nl  \nOp zondag 11 juni 2017 vindt de vijfde editie van Ladiesrun Eindhoven plaats. Dit jaarlijks terugkerend loopevent voor vrouwen kent drie afstanden; 5 km\, 7\,5 km en 10 km.     Het parcours leidt je onder andere door het nieuwe creatieve en culturele hart van Eindhoven\, Strijp-S\, en het Philips de Jongh wandelpark. Op verschillende plekken langs het parcours zorgen bandjes of een DJ voor swingende beats. \n  \n  \n 
URL:https://hardloopevenementen.com/loopagenda/ladiesrun-eindhoven-eindhoven-nb-3/
END:VEVENT
BEGIN:VEVENT
DTSTART;VALUE=DATE:20160605
DTEND;VALUE=DATE:20160606
DTSTAMP:20260423T230153
CREATED:20100629T050005Z
LAST-MODIFIED:20190423T112442Z
UID:12607-1465084800-1465084800@hardloopevenementen.com
SUMMARY:Ladiesrun Eindhoven Eindhoven (NB)
DESCRIPTION:Doe mee met het hardloopevenement Ladiesrun Eindhoven te Eindhoven (NB) op zo 05 jun 2016. De volgende afstanden staan op het programma: 5 km – 7\,5 km – 10 km hardlopen. Wilt u inschrijven voor dit loopevenement?  Raadpleeg hiervoor dan de website van de organisatie\nDe uitslagen van deze hardloopwedstrijd zijn te raadplegen via dezelfde website of via de bekende websites zoals uitslagen.nl\, runtimer en mylaps. Doet u mee met dit evenement\, zorg dan dat u goed voorbereid aan de start staat! Met een goed trainingsschema komt u een heel eind. Train bijvoorbeeld met start to run van Evy Gruyaert. Download de start to run mp3 bestanden en zet ze op uw telefoon. Oortjes in\, hit the play button en en rennen maar! \n\n\n\n\nMeer informatie over Ladiesrun Eindhoven op Hardloopkalender.nl  \nHet loopevenement Ladiesrun Eindhoven te Eindhoven vindt plaats op zondag 05 juni 2016. \n  \n  \n 
URL:https://hardloopevenementen.com/loopagenda/ladiesrun-eindhoven-eindhoven-nb-2/
END:VEVENT
BEGIN:VEVENT
DTSTART;VALUE=DATE:20160313
DTEND;VALUE=DATE:20160314
DTSTAMP:20260423T230153
CREATED:20130320T114624Z
LAST-MODIFIED:20190423T112646Z
UID:13154-1457827200-1457827200@hardloopevenementen.com
SUMMARY:IAK Klokgebouwloop Eindhoven (NB)
DESCRIPTION:Doe mee met het hardloopevenement IAK Klokgebouwloop te Eindhoven (NB) op zo 13 mrt 2016. De volgende afstanden staan op het programma: 2\,5 km – 5 km – 7\,5 km hardlopen. Wilt u inschrijven voor dit loopevenement?  Raadpleeg hiervoor dan de website van de organisatie\nDe uitslagen van deze hardloopwedstrijd zijn te raadplegen via dezelfde website of via de bekende websites zoals uitslagen.nl\, runtimer en mylaps. Doet u mee met dit evenement\, zorg dan dat u goed voorbereid aan de start staat! Met een goed trainingsschema komt u een heel eind. Train bijvoorbeeld met start to run van Evy Gruyaert. Download de start to run mp3 bestanden en zet ze op uw telefoon. Oortjes in\, hit the play button en en rennen maar! \n\n\n\n\nMeer informatie over IAK Klokgebouwloop op Hardloopkalender.nl  \nHet loopevenement IAK Klokgebouwloop te Eindhoven vindt plaats op zondag 13 maart 2016. \n  \n  \n 
URL:https://hardloopevenementen.com/loopagenda/iak-klokgebouwloop-eindhoven-nb-2/
END:VEVENT
BEGIN:VEVENT
DTSTART;VALUE=DATE:20150628
DTEND;VALUE=DATE:20150629
DTSTAMP:20260423T230153
CREATED:20081231T183138Z
LAST-MODIFIED:20190423T111058Z
UID:10169-1435449600-1435449600@hardloopevenementen.com
SUMMARY:Ladiesrun Eindhoven Eindhoven (NB)
DESCRIPTION:Doe mee met het hardloopevenement Ladiesrun Eindhoven te Eindhoven (NB) op zo 28 jun 2015. De volgende afstanden staan op het programma: 5 km – 7\,5 km – 10 km hardlopen. Wilt u inschrijven voor dit loopevenement?  Raadpleeg hiervoor dan de website van de organisatie\nDe uitslagen van deze hardloopwedstrijd zijn te raadplegen via dezelfde website of via de bekende websites zoals uitslagen.nl\, runtimer en mylaps. Doet u mee met dit evenement\, zorg dan dat u goed voorbereid aan de start staat! Met een goed trainingsschema komt u een heel eind. Train bijvoorbeeld met start to run van Evy Gruyaert. Download de start to run mp3 bestanden en zet ze op uw telefoon. Oortjes in\, hit the play button en en rennen maar! \n\n\n\n\nMeer informatie over Ladiesrun Eindhoven op Hardloopkalender.nl  \nEen hardloopevenement speciaal voor vrouwen!     Voor meer informatie kunt u terecht op www.ladiesruneindhoven.nl\, like ons op facebook of volg ons op twitter en instagram.    #Ladiesrun040 \n  \n  \n 
URL:https://hardloopevenementen.com/loopagenda/ladiesrun-eindhoven-eindhoven-nb/
END:VEVENT
BEGIN:VEVENT
DTSTART;VALUE=DATE:20150118
DTEND;VALUE=DATE:20150119
DTSTAMP:20260423T230153
CREATED:20120221T223444Z
LAST-MODIFIED:20190423T111455Z
UID:11181-1421539200-1421539200@hardloopevenementen.com
SUMMARY:IAK Klokgebouwloop Eindhoven (NB)
DESCRIPTION:Doe mee met het hardloopevenement IAK Klokgebouwloop te Eindhoven (NB) op zo 18 jan 2015. De volgende afstanden staan op het programma: 2\,5 km – 5 km – 7\,5 km hardlopen. Wilt u inschrijven voor dit loopevenement?  Raadpleeg hiervoor dan de website van de organisatie\nDe uitslagen van deze hardloopwedstrijd zijn te raadplegen via dezelfde website of via de bekende websites zoals uitslagen.nl\, runtimer en mylaps. Doet u mee met dit evenement\, zorg dan dat u goed voorbereid aan de start staat! Met een goed trainingsschema komt u een heel eind. Train bijvoorbeeld met start to run van Evy Gruyaert. Download de start to run mp3 bestanden en zet ze op uw telefoon. Oortjes in\, hit the play button en en rennen maar! \n\n\n\n\nMeer informatie over IAK Klokgebouwloop op Hardloopkalender.nl  \nHet loopevenement IAK Klokgebouwloop te Eindhoven vindt plaats op zondag 18 januari 2015. \n  \n  \n 
URL:https://hardloopevenementen.com/loopagenda/iak-klokgebouwloop-eindhoven-nb/
END:VEVENT
END:VCALENDAR