BEGIN:VCALENDAR
VERSION:2.0
PRODID:-//Hardloopevenementen - ECPv6.15.14//NONSGML v1.0//EN
CALSCALE:GREGORIAN
METHOD:PUBLISH
X-ORIGINAL-URL:https://hardloopevenementen.com
X-WR-CALDESC:Evenementen voor Hardloopevenementen
REFRESH-INTERVAL;VALUE=DURATION:PT1H
X-Robots-Tag:noindex
X-PUBLISHED-TTL:PT1H
BEGIN:VTIMEZONE
TZID:UTC
BEGIN:STANDARD
TZOFFSETFROM:+0000
TZOFFSETTO:+0000
TZNAME:UTC
DTSTART:20130101T000000
END:STANDARD
END:VTIMEZONE
BEGIN:VEVENT
DTSTART;VALUE=DATE:20160529
DTEND;VALUE=DATE:20160530
DTSTAMP:20260425T110733
CREATED:20161028T060701Z
LAST-MODIFIED:20190423T112455Z
UID:12665-1464480000-1464480000@hardloopevenementen.com
SUMMARY:76e Run2Day Pim Mulierloop Santpoort-Noord\, gemeente Velsen (NH)
DESCRIPTION:Doe mee met het hardloopevenement 76e Run2Day Pim Mulierloop te Santpoort-Noord\, gemeente Velsen (NH) op zo 29 mei 2016. De volgende afstanden staan op het programma: 1\,2 km – 5 km – 10 km – 10 Engelse mijl hardlopen. Wilt u inschrijven voor dit loopevenement?  Raadpleeg hiervoor dan de website van de organisatie\nDe uitslagen van deze hardloopwedstrijd zijn te raadplegen via dezelfde website of via de bekende websites zoals uitslagen.nl\, runtimer en mylaps. Doet u mee met dit evenement\, zorg dan dat u goed voorbereid aan de start staat! Met een goed trainingsschema komt u een heel eind. Train bijvoorbeeld met start to run van Evy Gruyaert. Download de start to run mp3 bestanden en zet ze op uw telefoon. Oortjes in\, hit the play button en en rennen maar! \n\n\n\n\nMeer informatie over 76e Run2Day Pim Mulierloop op Hardloopkalender.nl  \nHet loopevenement 76e Run2Day Pim Mulierloop te Santpoort-Noord vindt plaats op zondag 29 mei 2016. \n  \n  \n 
URL:https://hardloopevenementen.com/loopagenda/76e-run2day-pim-mulierloop-santpoort-noord-gemeente-velsen-nh/
END:VEVENT
BEGIN:VEVENT
DTSTART;VALUE=DATE:20141005
DTEND;VALUE=DATE:20141006
DTSTAMP:20260425T110733
CREATED:20080725T004220Z
LAST-MODIFIED:20190423T105050Z
UID:8997-1412467200-1412467200@hardloopevenementen.com
SUMMARY:76e Jagersplasloop Zaandam\, gemeente Zaanstad (NH)
DESCRIPTION:Doe mee met het hardloopevenement 76e Jagersplasloop te Zaandam\, gemeente Zaanstad (NH) op zo 05 okt 2014. De volgende afstanden staan op het programma: 1\,8 km – 4\,5 km – 10 km hardlopen. Wilt u inschrijven voor dit loopevenement?  Raadpleeg hiervoor dan de website van de organisatie\nDe uitslagen van deze hardloopwedstrijd zijn te raadplegen via dezelfde website of via de bekende websites zoals uitslagen.nl\, runtimer en mylaps. Doet u mee met dit evenement\, zorg dan dat u goed voorbereid aan de start staat! Met een goed trainingsschema komt u een heel eind. Train bijvoorbeeld met start to run van Evy Gruyaert. Download de start to run mp3 bestanden en zet ze op uw telefoon. Oortjes in\, hit the play button en en rennen maar! \n\n\n\n\nMeer informatie over 76e Jagersplasloop op Hardloopkalender.nl  \nHet loopevenement 76e Jagersplasloop te Zaandam vindt plaats op zondag 05 oktober 2014. De loop wordt georganisseerd door AV Zaanland. Klik hier voor het adres van de start (Google Maps).Bijzonderheden: Een kleinschalig loopevenement door de mooie Jagersplas.. \n  \n  \n 
URL:https://hardloopevenementen.com/loopagenda/76e-jagersplasloop-zaandam-gemeente-zaanstad-nh/
END:VEVENT
END:VCALENDAR