BEGIN:VCALENDAR
VERSION:2.0
PRODID:-//Hardloopevenementen - ECPv6.15.14//NONSGML v1.0//EN
CALSCALE:GREGORIAN
METHOD:PUBLISH
X-WR-CALNAME:Hardloopevenementen
X-ORIGINAL-URL:https://hardloopevenementen.com
X-WR-CALDESC:Evenementen voor Hardloopevenementen
REFRESH-INTERVAL;VALUE=DURATION:PT1H
X-Robots-Tag:noindex
X-PUBLISHED-TTL:PT1H
BEGIN:VTIMEZONE
TZID:UTC
BEGIN:STANDARD
TZOFFSETFROM:+0000
TZOFFSETTO:+0000
TZNAME:UTC
DTSTART:20120101T000000
END:STANDARD
END:VTIMEZONE
BEGIN:VEVENT
DTSTART;VALUE=DATE:20181226
DTEND;VALUE=DATE:20181227
DTSTAMP:20260424T150443
CREATED:20130610T024134Z
LAST-MODIFIED:20190423T120101Z
UID:15527-1545782400-1545782400@hardloopevenementen.com
SUMMARY:TOF Kerstcross Breda (NB)
DESCRIPTION:Doe mee met het hardloopevenement TOF Kerstcross te Breda (NB) op wo 26 dec 2018. De volgende afstanden staan op het programma: 1 km – 8 km hardlopen. Wilt u inschrijven voor dit loopevenement?  Raadpleeg hiervoor dan de website van de organisatie\nDe uitslagen van deze hardloopwedstrijd zijn te raadplegen via dezelfde website of via de bekende websites zoals uitslagen.nl\, runtimer en mylaps. Doet u mee met dit evenement\, zorg dan dat u goed voorbereid aan de start staat! Met een goed trainingsschema komt u een heel eind. Train bijvoorbeeld met start to run van Evy Gruyaert. Download de start to run mp3 bestanden en zet ze op uw telefoon. Oortjes in\, hit the play button en en rennen maar! \n\n\n\n\nMeer informatie over TOF Kerstcross op Hardloopkalender.nl  \nEen gezellige cross voor het hele gezin. Start en finish in manege Hoeve Galderzicht.  Afstanden 4 of 8 km. Kidscross 1\,5 km (1 of 2 rondjes) \n  \n  \n 
URL:https://hardloopevenementen.com/loopagenda/tof-kerstcross-breda-nb-2/
END:VEVENT
BEGIN:VEVENT
DTSTART;VALUE=DATE:20141226
DTEND;VALUE=DATE:20141227
DTSTAMP:20260424T150443
CREATED:20151208T222745Z
LAST-MODIFIED:20190423T104828Z
UID:8483-1419552000-1419552000@hardloopevenementen.com
SUMMARY:Kerstcross Breda (NB)
DESCRIPTION:Doe mee met het hardloopevenement Kerstcross te Breda (NB) op vr 26 dec 2014. De volgende afstanden staan op het programma: 0\,5 km – 0\,7 km – 1 km – 4 km – 5\,7 km – 8 km hardlopen. Wilt u inschrijven voor dit loopevenement?  Raadpleeg hiervoor dan de website van de organisatie\nDe uitslagen van deze hardloopwedstrijd zijn te raadplegen via dezelfde website of via de bekende websites zoals uitslagen.nl\, runtimer en mylaps. Doet u mee met dit evenement\, zorg dan dat u goed voorbereid aan de start staat! Met een goed trainingsschema komt u een heel eind. Train bijvoorbeeld met start to run van Evy Gruyaert. Download de start to run mp3 bestanden en zet ze op uw telefoon. Oortjes in\, hit the play button en en rennen maar! \n\n\n\n\nMeer informatie over Kerstcross op Hardloopkalender.nl  \nCross door fraaie bosrijke omgeving ten zuiden van Breda. 4 en 8 km cross voor dames en heren\, canicross over 5\,7 km en Kidscross over 0\,5 – 0\,76 of 1\,02 km. \n  \n  \n 
URL:https://hardloopevenementen.com/loopagenda/kerstcross-breda-nb/
END:VEVENT
BEGIN:VEVENT
DTSTART;VALUE=DATE:20131226
DTEND;VALUE=DATE:20131227
DTSTAMP:20260424T150443
CREATED:20130917T080940Z
LAST-MODIFIED:20190423T103721Z
UID:7889-1388016000-1388016000@hardloopevenementen.com
SUMMARY:TOF Kerstcross Breda (NB)
DESCRIPTION:Doe mee met het hardloopevenement TOF Kerstcross te Breda (NB) op do 26 dec 2013. De volgende afstanden staan op het programma: 4 km – 8 km hardlopen. Wilt u inschrijven voor dit loopevenement?  Raadpleeg hiervoor dan de website van de organisatie\nDe uitslagen van deze hardloopwedstrijd zijn te raadplegen via dezelfde website of via de bekende websites zoals uitslagen.nl\, runtimer en mylaps. Doet u mee met dit evenement\, zorg dan dat u goed voorbereid aan de start staat! Met een goed trainingsschema komt u een heel eind. Train bijvoorbeeld met start to run van Evy Gruyaert. Download de start to run mp3 bestanden en zet ze op uw telefoon. Oortjes in\, hit the play button en en rennen maar! \n\n\n\n\nMeer informatie over TOF Kerstcross op Hardloopkalender.nl  \nCross door de bossen ten zuiden van de Galderse Meren. Start en finish bij Hoeve Galderzicht\, Rijsbergsebaan 9\, Breda \n  \n  \n 
URL:https://hardloopevenementen.com/loopagenda/tof-kerstcross-breda-nb/
END:VEVENT
END:VCALENDAR