BEGIN:VCALENDAR
VERSION:2.0
PRODID:-//Hardloopevenementen - ECPv6.15.14//NONSGML v1.0//EN
CALSCALE:GREGORIAN
METHOD:PUBLISH
X-WR-CALNAME:Hardloopevenementen
X-ORIGINAL-URL:https://hardloopevenementen.com
X-WR-CALDESC:Evenementen voor Hardloopevenementen
REFRESH-INTERVAL;VALUE=DURATION:PT1H
X-Robots-Tag:noindex
X-PUBLISHED-TTL:PT1H
BEGIN:VTIMEZONE
TZID:UTC
BEGIN:STANDARD
TZOFFSETFROM:+0000
TZOFFSETTO:+0000
TZNAME:UTC
DTSTART:20170101T000000
END:STANDARD
END:VTIMEZONE
BEGIN:VEVENT
DTSTART;VALUE=DATE:20200613
DTEND;VALUE=DATE:20200614
DTSTAMP:20260421T211715
CREATED:20100126T145617Z
LAST-MODIFIED:20200206T111336Z
UID:142483-1592006400-1592006400@hardloopevenementen.com
SUMMARY:5 Mijl Smilde Smilde\, gemeente Midden-Drenthe (DR)
DESCRIPTION:Doe mee met het hardloopevenement 5 Mijl Smilde te Smilde\, gemeente Midden-Drenthe (DR) op za 13 jun 2020. De volgende afstanden staan op het programma: 4 km – 8 km hardlopen. Wilt u inschrijven voor dit loopevenement?  Raadpleeg hiervoor dan de website van de organisatie\nDe uitslagen van deze hardloopwedstrijd zijn te raadplegen via dezelfde website of via de bekende websites zoals uitslagen.nl\, runtimer en mylaps. Doet u mee met dit evenement\, zorg dan dat u goed voorbereid aan de start staat! Met een goed trainingsschema komt u een heel eind. Train bijvoorbeeld met start to run van Evy Gruyaert. Download de start to run mp3 bestanden en zet ze op uw telefoon. Oortjes in\, hit the play button en en rennen maar! \n\n\n\n\nMeer informatie over 5 Mijl Smilde op Hardloopkalender.nl  \nDe volgende editie van de 5 Mijl van Smilde wordt gehouden op zaterdag 13 juni 2020.   De route gaat geheel door het bos.   Start 12.30 uur bij v.v. Smilde ’94. Boerenlaan 7a\, 9422 JK Smilde. Tel 0592-414554. Keuze uit 1 of 2 rondes van 4 km. Dus 2\,5 Mijl of 5 Mijl. Voorinschrijving t.z.t. via inschrijven.nl  4\,00 p.p. Nainschrijving ter plaatse  6\,00 p.p..  Info via facebook of via de website van Smilde’94. \n  \n  \n 
URL:https://hardloopevenementen.com/loopagenda/5-mijl-smilde-smilde-gemeente-midden-drenthe-dr-3/
END:VEVENT
BEGIN:VEVENT
DTSTART;VALUE=DATE:20190608
DTEND;VALUE=DATE:20190609
DTSTAMP:20260421T211715
CREATED:20111108T103259Z
LAST-MODIFIED:20191114T112608Z
UID:43600-1559952000-1559952000@hardloopevenementen.com
SUMMARY:5 Mijl Smilde Smilde\, gemeente Midden-Drenthe (DR)
DESCRIPTION:Doe mee met het hardloopevenement 5 Mijl Smilde te Smilde\, gemeente Midden-Drenthe (DR) op za 08 jun 2019. De volgende afstanden staan op het programma: 4 km – 8 km hardlopen. Wilt u inschrijven voor dit loopevenement?  Raadpleeg hiervoor dan de website van de organisatie\nDe uitslagen van deze hardloopwedstrijd zijn te raadplegen via dezelfde website of via de bekende websites zoals uitslagen.nl\, runtimer en mylaps. Doet u mee met dit evenement\, zorg dan dat u goed voorbereid aan de start staat! Met een goed trainingsschema komt u een heel eind. Train bijvoorbeeld met start to run van Evy Gruyaert. Download de start to run mp3 bestanden en zet ze op uw telefoon. Oortjes in\, hit the play button en en rennen maar! \n\n\n\n\nMeer informatie over 5 Mijl Smilde op Hardloopkalender.nl  \n5 Mijl van Smilde. 2 rondes van 4 km. Je kunt dus ook voor 1 ronde kiezen en meedoen voor 4 km.    Deze loop gaat door het bos. 1 of 2 rondes van 4 km. Start  13.30 uur. Inschrijving vanaf 12.00 uur of via de facebookpagina. Start vanaf de voetbalkantine van vv Smilde ’94. Boerenlaan 7a\, 9422 JK Smilde. Voor meer info: volg onze facebookpagina 5 Mijl Smilde \n  \n  \n 
URL:https://hardloopevenementen.com/loopagenda/5-mijl-smilde-smilde-gemeente-midden-drenthe-dr-2/
END:VEVENT
BEGIN:VEVENT
DTSTART;VALUE=DATE:20180602
DTEND;VALUE=DATE:20180603
DTSTAMP:20260421T211715
CREATED:20101231T075313Z
LAST-MODIFIED:20190423T120438Z
UID:16489-1527897600-1527897600@hardloopevenementen.com
SUMMARY:5 Mijl Smilde Smilde\, gemeente Midden-Drenthe (DR)
DESCRIPTION:Doe mee met het hardloopevenement 5 Mijl Smilde te Smilde\, gemeente Midden-Drenthe (DR) op za 02 jun 2018. De volgende afstanden staan op het programma: 8 km hardlopen. Wilt u inschrijven voor dit loopevenement?  Raadpleeg hiervoor dan de website van de organisatie\nDe uitslagen van deze hardloopwedstrijd zijn te raadplegen via dezelfde website of via de bekende websites zoals uitslagen.nl\, runtimer en mylaps. Doet u mee met dit evenement\, zorg dan dat u goed voorbereid aan de start staat! Met een goed trainingsschema komt u een heel eind. Train bijvoorbeeld met start to run van Evy Gruyaert. Download de start to run mp3 bestanden en zet ze op uw telefoon. Oortjes in\, hit the play button en en rennen maar! \n\n\n\n\nMeer informatie over 5 Mijl Smilde op Hardloopkalender.nl  \n5 Engelse Mijl\, deels verhard deels onverhard . Aanvang 13.30 uur. Inschrijving vanaf 12.00 uur.  Start vanaf de voetbalkantine van vv Smilde ’94. Boerenlaan 7a\, 9422 JK Smilde. Voor meer info: volg onze facebookpagina  5 Mijl Smilde \n  \n  \n 
URL:https://hardloopevenementen.com/loopagenda/5-mijl-smilde-smilde-gemeente-midden-drenthe-dr/
END:VEVENT
END:VCALENDAR