BEGIN:VCALENDAR
VERSION:2.0
PRODID:-//Hardloopevenementen - ECPv6.15.14//NONSGML v1.0//EN
CALSCALE:GREGORIAN
METHOD:PUBLISH
X-WR-CALNAME:Hardloopevenementen
X-ORIGINAL-URL:https://hardloopevenementen.com
X-WR-CALDESC:Evenementen voor Hardloopevenementen
REFRESH-INTERVAL;VALUE=DURATION:PT1H
X-Robots-Tag:noindex
X-PUBLISHED-TTL:PT1H
BEGIN:VTIMEZONE
TZID:UTC
BEGIN:STANDARD
TZOFFSETFROM:+0000
TZOFFSETTO:+0000
TZNAME:UTC
DTSTART:20060101T000000
END:STANDARD
END:VTIMEZONE
BEGIN:VEVENT
DTSTART;VALUE=DATE:20080525
DTEND;VALUE=DATE:20080526
DTSTAMP:20260423T231125
CREATED:20180726T115357Z
LAST-MODIFIED:20190423T094711Z
UID:19648-1211673600-1211673600@hardloopevenementen.com
SUMMARY:Eiberrun Eibergen
DESCRIPTION:Doe mee met het hardloopevenement Eiberrun te Eibergen op zo 25 mei 2008. De volgende afstanden staan op het programma: 0\,8 km – 1\,6 km – 8\,1 km – 10 Engelse mijl hardlopen. Wilt u inschrijven voor dit loopevenement?  Raadpleeg hiervoor dan de website van de organisatie\nDe uitslagen van deze hardloopwedstrijd zijn te raadplegen via dezelfde website of via de bekende websites zoals uitslagen.nl\, runtimer en mylaps. Doet u mee met dit evenement\, zorg dan dat u goed voorbereid aan de start staat! Met een goed trainingsschema komt u een heel eind. Train bijvoorbeeld met start to run van Evy Gruyaert. Download de start to run mp3 bestanden en zet ze op uw telefoon. Oortjes in\, hit the play button en en rennen maar! \n\n\n\n\nMeer informatie over Eiberrun op Hardloopkalender.nl  \n0\,8 km 10:30 uur\, 1\,6 km 10:55 uur\, 8\,1-16\,1-16\,1 km 11:30 uur  START FINISHSporthal: Pickerhal\, Kerkstraat te Eibergen.PARCOURSHet parcours gaat over verharde wegen en fietspaden. De start vindt plaats bij de sporthal. Na de start gaat het parcours door het buitengebied van Eibergen en Neede. De 10 EM bestaat uit 2 ronden.Voor de 0\,5 en 1 EM (beide voor de kinderen) is een parcours nabij de sporthal uitgezet. Start en finish op dezelfde plaats als bij de 5 EM en de 10 EM. \n  \n  \n 
URL:https://hardloopevenementen.com/loopagenda/eiberrun-eibergen-2/
END:VEVENT
BEGIN:VEVENT
DTSTART;VALUE=DATE:20070414
DTEND;VALUE=DATE:20070415
DTSTAMP:20260423T231125
CREATED:20131109T134046Z
LAST-MODIFIED:20190423T094016Z
UID:607-1176508800-1176508800@hardloopevenementen.com
SUMMARY:Eiberrun Eibergen
DESCRIPTION:Doe mee met het hardloopevenement Eiberrun te Eibergen op za 14 apr 2007. De volgende afstanden staan op het programma: 0\,8 km – 1\,6 km – 8\,1 km – 10 Engelse mijl hardlopen. Wilt u inschrijven voor dit loopevenement?  Raadpleeg hiervoor dan de website van de organisatie\nDe uitslagen van deze hardloopwedstrijd zijn te raadplegen via dezelfde website of via de bekende websites zoals uitslagen.nl\, runtimer en mylaps. Doet u mee met dit evenement\, zorg dan dat u goed voorbereid aan de start staat! Met een goed trainingsschema komt u een heel eind. Train bijvoorbeeld met start to run van Evy Gruyaert. Download de start to run mp3 bestanden en zet ze op uw telefoon. Oortjes in\, hit the play button en en rennen maar! \n\n\n\n\nMeer informatie over Eiberrun op Hardloopkalender.nl  \n  \n  \n 
URL:https://hardloopevenementen.com/loopagenda/eiberrun-eibergen/
END:VEVENT
END:VCALENDAR