BEGIN:VCALENDAR
VERSION:2.0
PRODID:-//Hardloopevenementen - ECPv6.15.14//NONSGML v1.0//EN
CALSCALE:GREGORIAN
METHOD:PUBLISH
X-ORIGINAL-URL:https://hardloopevenementen.com
X-WR-CALDESC:Evenementen voor Hardloopevenementen
REFRESH-INTERVAL;VALUE=DURATION:PT1H
X-Robots-Tag:noindex
X-PUBLISHED-TTL:PT1H
BEGIN:VTIMEZONE
TZID:UTC
BEGIN:STANDARD
TZOFFSETFROM:+0000
TZOFFSETTO:+0000
TZNAME:UTC
DTSTART:20120101T000000
END:STANDARD
END:VTIMEZONE
BEGIN:VEVENT
DTSTART;VALUE=DATE:20130317
DTEND;VALUE=DATE:20130318
DTSTAMP:20260422T052344
CREATED:20150218T113710Z
LAST-MODIFIED:20190423T104418Z
UID:32081-1363478400-1363478400@hardloopevenementen.com
SUMMARY:Gatorade Cross Nieuwegein (UT)
DESCRIPTION:Doe mee met het hardloopevenement Gatorade Cross te Nieuwegein (UT) op zo 17 mrt 2013. De volgende afstanden staan op het programma: 1\,2 km – 2\,2 km – 3\,2 km – 8\,2 km hardlopen. Wilt u inschrijven voor dit loopevenement?  Raadpleeg hiervoor dan de website van de organisatie\nDe uitslagen van deze hardloopwedstrijd zijn te raadplegen via dezelfde website of via de bekende websites zoals uitslagen.nl\, runtimer en mylaps. Doet u mee met dit evenement\, zorg dan dat u goed voorbereid aan de start staat! Met een goed trainingsschema komt u een heel eind. Train bijvoorbeeld met start to run van Evy Gruyaert. Download de start to run mp3 bestanden en zet ze op uw telefoon. Oortjes in\, hit the play button en en rennen maar! \n\n\n\n\nMeer informatie over Gatorade Cross op Hardloopkalender.nl  \nPupillen A B C 1200m start 11:00 uur   Junioren D C 2200m start 11:15 uur   Junioren A B en senioren Korte cross 3200m start 11:40 uur   Senioren en recreanten 8200m start 12:00 uur     ● Na inschrijving mogelijk 30 minuten voor de start van elke onderdeel kosten  3\,00    ● Online inschrijven tot 16 maart inschrijfkosten  2.00 per onderdeel(via http:  www.atverni.nl wedstrijden) \n  \n  \n 
URL:https://hardloopevenementen.com/loopagenda/gatorade-cross-nieuwegein-ut/
END:VEVENT
END:VCALENDAR