BEGIN:VCALENDAR
VERSION:2.0
PRODID:-//Hardloopevenementen - ECPv6.15.14//NONSGML v1.0//EN
CALSCALE:GREGORIAN
METHOD:PUBLISH
X-WR-CALNAME:Hardloopevenementen
X-ORIGINAL-URL:https://hardloopevenementen.com
X-WR-CALDESC:Evenementen voor Hardloopevenementen
REFRESH-INTERVAL;VALUE=DURATION:PT1H
X-Robots-Tag:noindex
X-PUBLISHED-TTL:PT1H
BEGIN:VTIMEZONE
TZID:UTC
BEGIN:STANDARD
TZOFFSETFROM:+0000
TZOFFSETTO:+0000
TZNAME:UTC
DTSTART:20160101T000000
END:STANDARD
END:VTIMEZONE
BEGIN:VEVENT
DTSTART;VALUE=DATE:20170528
DTEND;VALUE=DATE:20170529
DTSTAMP:20260425T141039
CREATED:20140125T182333Z
LAST-MODIFIED:20190423T114607Z
UID:14665-1495929600-1495929600@hardloopevenementen.com
SUMMARY:28e Haagse Beemden Loop Breda (NB)
DESCRIPTION:Doe mee met het hardloopevenement 28e Haagse Beemden Loop te Breda (NB) op zo 28 mei 2017. De volgende afstanden staan op het programma: 1\,5 km – 3 km – 4\,5 km – 5 km – 8\,5 km – 10 km – 15 km hardlopen. Wilt u inschrijven voor dit loopevenement?  Raadpleeg hiervoor dan de website van de organisatie\nDe uitslagen van deze hardloopwedstrijd zijn te raadplegen via dezelfde website of via de bekende websites zoals uitslagen.nl\, runtimer en mylaps. Doet u mee met dit evenement\, zorg dan dat u goed voorbereid aan de start staat! Met een goed trainingsschema komt u een heel eind. Train bijvoorbeeld met start to run van Evy Gruyaert. Download de start to run mp3 bestanden en zet ze op uw telefoon. Oortjes in\, hit the play button en en rennen maar! \n\n\n\n\nMeer informatie over 28e Haagse Beemden Loop op Hardloopkalender.nl  \nDe Haagse Beemden Loop biedt voor iedere deelnemer een geschikte afstand. Er kan aan de volgende afstanden en categorieën worden deelgenomen:  ◾15 km en 10 km loop voor wedstrijdlopers en recreanten  ◾5 km loop voor recreanten  ◾5 km wheelers  ◾Kidsrun (1\,5km\, 3km\, 4\,5km)  ◾Obstacle Trail Run (8\,5km) \n  \n  \n 
URL:https://hardloopevenementen.com/loopagenda/28e-haagse-beemden-loop-breda-nb/
END:VEVENT
END:VCALENDAR