BEGIN:VCALENDAR
VERSION:2.0
PRODID:-//Hardloopevenementen - ECPv6.15.14//NONSGML v1.0//EN
CALSCALE:GREGORIAN
METHOD:PUBLISH
X-WR-CALNAME:Hardloopevenementen
X-ORIGINAL-URL:https://hardloopevenementen.com
X-WR-CALDESC:Evenementen voor Hardloopevenementen
REFRESH-INTERVAL;VALUE=DURATION:PT1H
X-Robots-Tag:noindex
X-PUBLISHED-TTL:PT1H
BEGIN:VTIMEZONE
TZID:UTC
BEGIN:STANDARD
TZOFFSETFROM:+0000
TZOFFSETTO:+0000
TZNAME:UTC
DTSTART:20060101T000000
END:STANDARD
END:VTIMEZONE
BEGIN:VEVENT
DTSTART;VALUE=DATE:20070120
DTEND;VALUE=DATE:20070121
DTSTAMP:20260421T233145
CREATED:20170430T184752Z
LAST-MODIFIED:20190423T094059Z
UID:788-1169251200-1169251200@hardloopevenementen.com
SUMMARY:Broekstreker Veldloop Ekehaar
DESCRIPTION:Doe mee met het hardloopevenement Broekstreker Veldloop te Ekehaar op za 20 jan 2007. De volgende afstanden staan op het programma: 0\,4 km – 0\,8 km – 1\,3 km – 1\,8 km – 2\,6 km – 3\,9 km – 5\,2 km – 8\,7 km hardlopen. Wilt u inschrijven voor dit loopevenement?  Raadpleeg hiervoor dan de website van de organisatie\nDe uitslagen van deze hardloopwedstrijd zijn te raadplegen via dezelfde website of via de bekende websites zoals uitslagen.nl\, runtimer en mylaps. Doet u mee met dit evenement\, zorg dan dat u goed voorbereid aan de start staat! Met een goed trainingsschema komt u een heel eind. Train bijvoorbeeld met start to run van Evy Gruyaert. Download de start to run mp3 bestanden en zet ze op uw telefoon. Oortjes in\, hit the play button en en rennen maar! \n\n\n\n\nMeer informatie over Broekstreker Veldloop op Hardloopkalender.nl  \nZondag 20 januari 2008 wordt alweer de 5de Broekstreker Veldloop in Ekehaar gehouden.    We hebben een zeer gevarieerde parcours met o.a. stukken schouwpad\, modderweg\, wandelpad en enkele kunstmatig aangebrachte hindernissen waaronder een hoge berg zand die beklommen moet worden.    De Broekstreker Veldloop van Ekehaar is ingedeeld in verschillende leeftijdscategorieën met voor iedere leeftijdscategorie een andere afstand.    Categorie-indeling      Afstand Starttijd + –    Jongens meisjes 4 – 6 jr.    400 m 11:00 uur   Jongens meisjes 7 + 8 jr.    800 m 11:10 uur   Jongens meisjes 9 + 10 jr. 1.275 m 11:20 uur   Jongens meisjes 11-13 jr.  1.800 m 11:35 uur   Junioren meisjes 14-17 jr. 2.570 m 12:15 uur   Junioren jongens 14-17 jr. 3.855 m 12:15 uur   Dames 18+ en 40+           5.220 m 12:45 uur   Heren 18 +\, 40+ en 50+     8.700 m 12:45 uur     Voor iedere deelnemer in de jongste categorieën ligt er bij de finish een medaille te wachten.    Voor de senioren en veteranen is er voor iedere deelnemer een herinnering en zijn er voor de toppers geldprijzen te winnen.     Aanmelden en inschrijven:    Op 20 januari  vanaf 10.00 uur in dorpshuis De Eekhof\, Oal Diek 3 te Ekehaar    Inschrijfgeld: jeugd & junioren  3\,00   senioren- masters  6\,-      Voor informatie: WWW.SVDB.NL \n  \n  \n 
URL:https://hardloopevenementen.com/loopagenda/broekstreker-veldloop-ekehaar/
END:VEVENT
END:VCALENDAR