BEGIN:VCALENDAR
VERSION:2.0
PRODID:-//Hardloopevenementen - ECPv6.15.14//NONSGML v1.0//EN
CALSCALE:GREGORIAN
METHOD:PUBLISH
X-WR-CALNAME:Hardloopevenementen
X-ORIGINAL-URL:https://hardloopevenementen.com
X-WR-CALDESC:Evenementen voor Hardloopevenementen
REFRESH-INTERVAL;VALUE=DURATION:PT1H
X-Robots-Tag:noindex
X-PUBLISHED-TTL:PT1H
BEGIN:VTIMEZONE
TZID:UTC
BEGIN:STANDARD
TZOFFSETFROM:+0000
TZOFFSETTO:+0000
TZNAME:UTC
DTSTART:20070101T000000
END:STANDARD
END:VTIMEZONE
BEGIN:VEVENT
DTSTART;VALUE=DATE:20081101
DTEND;VALUE=DATE:20081102
DTSTAMP:20260423T043920
CREATED:20100530T194642Z
LAST-MODIFIED:20190423T094428Z
UID:1145-1225497600-1225497600@hardloopevenementen.com
SUMMARY:LTB Flora Cross Boskoop
DESCRIPTION:Doe mee met het hardloopevenement LTB Flora Cross te Boskoop op za 01 nov 2008. De volgende afstanden staan op het programma: 1\,5 km – 2 km – 4\,5 km – 6 km – 9 km hardlopen. Wilt u inschrijven voor dit loopevenement?  Raadpleeg hiervoor dan de website van de organisatie\nDe uitslagen van deze hardloopwedstrijd zijn te raadplegen via dezelfde website of via de bekende websites zoals uitslagen.nl\, runtimer en mylaps. Doet u mee met dit evenement\, zorg dan dat u goed voorbereid aan de start staat! Met een goed trainingsschema komt u een heel eind. Train bijvoorbeeld met start to run van Evy Gruyaert. Download de start to run mp3 bestanden en zet ze op uw telefoon. Oortjes in\, hit the play button en en rennen maar! \n\n\n\n\nMeer informatie over LTB Flora Cross op Hardloopkalender.nl  \nLTB Adviseurs en Accountants-Floracross is de openingsklassieker van het cross-seizoen. De cross wordt gelopen over verschillende afstanden door weiland en akker rondom de accommodatie van AV’47.   Waar  Start en finish van de lopen vinden plaats op het terrein van AV’47\, Sportpark Hoogeveenseweg te Boskoop (kleedgelegenheid en douches aanwezig). Op het ITC-terrein nabij het sportpark is voldoende parkeergelegenheid. Volg hiervoor de borden International Trade Centre.    start  2 km 12:00 uur\, 4\,5 km 13:30 uur\, 6-9-9 km 14:00 uur\, 1\,5-9 km 15:00 uur \n  \n  \n 
URL:https://hardloopevenementen.com/loopagenda/ltb-flora-cross-boskoop/
END:VEVENT
END:VCALENDAR