BEGIN:VCALENDAR
VERSION:2.0
PRODID:-//Hardloopevenementen - ECPv6.15.14//NONSGML v1.0//EN
CALSCALE:GREGORIAN
METHOD:PUBLISH
X-WR-CALNAME:Hardloopevenementen
X-ORIGINAL-URL:https://hardloopevenementen.com
X-WR-CALDESC:Evenementen voor Hardloopevenementen
REFRESH-INTERVAL;VALUE=DURATION:PT1H
X-Robots-Tag:noindex
X-PUBLISHED-TTL:PT1H
BEGIN:VTIMEZONE
TZID:UTC
BEGIN:STANDARD
TZOFFSETFROM:+0000
TZOFFSETTO:+0000
TZNAME:UTC
DTSTART:20060101T000000
END:STANDARD
END:VTIMEZONE
BEGIN:VEVENT
DTSTART;VALUE=DATE:20080402
DTEND;VALUE=DATE:20080403
DTSTAMP:20260422T003828
CREATED:20080302T105237Z
LAST-MODIFIED:20190423T094815Z
UID:19933-1207094400-1207094400@hardloopevenementen.com
SUMMARY:Rondje Lutjebroek Lutjebroek
DESCRIPTION:Doe mee met het hardloopevenement Rondje Lutjebroek te Lutjebroek op wo 02 apr 2008. De volgende afstanden staan op het programma: 3 km – 6 km – 9 km hardlopen. Wilt u inschrijven voor dit loopevenement?  Raadpleeg hiervoor dan de website van de organisatie\nDe uitslagen van deze hardloopwedstrijd zijn te raadplegen via dezelfde website of via de bekende websites zoals uitslagen.nl\, runtimer en mylaps. Doet u mee met dit evenement\, zorg dan dat u goed voorbereid aan de start staat! Met een goed trainingsschema komt u een heel eind. Train bijvoorbeeld met start to run van Evy Gruyaert. Download de start to run mp3 bestanden en zet ze op uw telefoon. Oortjes in\, hit the play button en en rennen maar! \n\n\n\n\nMeer informatie over Rondje Lutjebroek op Hardloopkalender.nl  \n3-6-9 km 19:15 uur \n  \n  \n 
URL:https://hardloopevenementen.com/loopagenda/rondje-lutjebroek-lutjebroek-2/
END:VEVENT
BEGIN:VEVENT
DTSTART;VALUE=DATE:20070328
DTEND;VALUE=DATE:20070329
DTSTAMP:20260422T003828
CREATED:20170827T024555Z
LAST-MODIFIED:20190423T094025Z
UID:645-1175040000-1175040000@hardloopevenementen.com
SUMMARY:Rondje Lutjebroek Lutjebroek
DESCRIPTION:Doe mee met het hardloopevenement Rondje Lutjebroek te Lutjebroek op wo 28 mrt 2007. De volgende afstanden staan op het programma: 3 km – 6 km – 9 km hardlopen. Wilt u inschrijven voor dit loopevenement?  Raadpleeg hiervoor dan de website van de organisatie\nDe uitslagen van deze hardloopwedstrijd zijn te raadplegen via dezelfde website of via de bekende websites zoals uitslagen.nl\, runtimer en mylaps. Doet u mee met dit evenement\, zorg dan dat u goed voorbereid aan de start staat! Met een goed trainingsschema komt u een heel eind. Train bijvoorbeeld met start to run van Evy Gruyaert. Download de start to run mp3 bestanden en zet ze op uw telefoon. Oortjes in\, hit the play button en en rennen maar! \n\n\n\n\nMeer informatie over Rondje Lutjebroek op Hardloopkalender.nl  \n  \n  \n 
URL:https://hardloopevenementen.com/loopagenda/rondje-lutjebroek-lutjebroek/
END:VEVENT
END:VCALENDAR