BEGIN:VCALENDAR
VERSION:2.0
PRODID:-//Hardloopevenementen - ECPv6.15.14//NONSGML v1.0//EN
CALSCALE:GREGORIAN
METHOD:PUBLISH
X-ORIGINAL-URL:https://hardloopevenementen.com
X-WR-CALDESC:Evenementen voor Hardloopevenementen
REFRESH-INTERVAL;VALUE=DURATION:PT1H
X-Robots-Tag:noindex
X-PUBLISHED-TTL:PT1H
BEGIN:VTIMEZONE
TZID:UTC
BEGIN:STANDARD
TZOFFSETFROM:+0000
TZOFFSETTO:+0000
TZNAME:UTC
DTSTART:20090101T000000
END:STANDARD
END:VTIMEZONE
BEGIN:VEVENT
DTSTART;VALUE=DATE:20100130
DTEND;VALUE=DATE:20100131
DTSTAMP:20260420T233654
CREATED:20170216T103349Z
LAST-MODIFIED:20190423T101433Z
UID:24082-1264809600-1264809600@hardloopevenementen.com
SUMMARY:AVZ Wintercross Zeewolde (FL)
DESCRIPTION:Doe mee met het hardloopevenement AVZ Wintercross te Zeewolde (FL) op za 30 jan 2010. De volgende afstanden staan op het programma: 1 km – 3 km – 6 km – 9 km hardlopen. Wilt u inschrijven voor dit loopevenement?  Raadpleeg hiervoor dan de website van de organisatie\nDe uitslagen van deze hardloopwedstrijd zijn te raadplegen via dezelfde website of via de bekende websites zoals uitslagen.nl\, runtimer en mylaps. Doet u mee met dit evenement\, zorg dan dat u goed voorbereid aan de start staat! Met een goed trainingsschema komt u een heel eind. Train bijvoorbeeld met start to run van Evy Gruyaert. Download de start to run mp3 bestanden en zet ze op uw telefoon. Oortjes in\, hit the play button en en rennen maar! \n\n\n\n\nMeer informatie over AVZ Wintercross op Hardloopkalender.nl  \nDoor de senioren wordt er gestreden om de AVZ wisselbeker.  Jeugd loopt 1 km. De junioren en senioren lopen 1\,2 of 3 ronden van 3 km. \n  \n  \n 
URL:https://hardloopevenementen.com/loopagenda/avz-wintercross-zeewolde-fl/
END:VEVENT
END:VCALENDAR