BEGIN:VCALENDAR
VERSION:2.0
PRODID:-//Hardloopevenementen - ECPv6.15.14//NONSGML v1.0//EN
CALSCALE:GREGORIAN
METHOD:PUBLISH
X-ORIGINAL-URL:https://hardloopevenementen.com
X-WR-CALDESC:Evenementen voor Hardloopevenementen
REFRESH-INTERVAL;VALUE=DURATION:PT1H
X-Robots-Tag:noindex
X-PUBLISHED-TTL:PT1H
BEGIN:VTIMEZONE
TZID:UTC
BEGIN:STANDARD
TZOFFSETFROM:+0000
TZOFFSETTO:+0000
TZNAME:UTC
DTSTART:20070101T000000
END:STANDARD
END:VTIMEZONE
BEGIN:VEVENT
DTSTART;VALUE=DATE:20080620
DTEND;VALUE=DATE:20080621
DTSTAMP:20260420T155107
CREATED:20160628T114859Z
LAST-MODIFIED:20190423T094643Z
UID:19529-1213920000-1213920000@hardloopevenementen.com
SUMMARY:Grachtenloop Haarlem
DESCRIPTION:Doe mee met het hardloopevenement Grachtenloop te Haarlem op vr 20 jun 2008. De volgende afstanden staan op het programma: 2 km – 4\,6 km – 9\,2 km hardlopen. Wilt u inschrijven voor dit loopevenement?  Raadpleeg hiervoor dan de website van de organisatie\nDe uitslagen van deze hardloopwedstrijd zijn te raadplegen via dezelfde website of via de bekende websites zoals uitslagen.nl\, runtimer en mylaps. Doet u mee met dit evenement\, zorg dan dat u goed voorbereid aan de start staat! Met een goed trainingsschema komt u een heel eind. Train bijvoorbeeld met start to run van Evy Gruyaert. Download de start to run mp3 bestanden en zet ze op uw telefoon. Oortjes in\, hit the play button en en rennen maar! \n\n\n\n\nMeer informatie over Grachtenloop op Hardloopkalender.nl  \nVRIJDAGAVOND 20 juni zal om 19.00 uur (2 km familyrun grachtenloop) het startschot gegeven worden van de 14e Haarlems Dagblad Grachtenloop.    Om 19.30 uur zullen de 4\,6 lopers vertrekken\, gevolgd om 19.45 uur door de 9\,2 km lopers.    Een prachtig “waterrijk” parcours langs de Haarlemse grachten en singels met een enthousiast publiek staan borg voor een gezellige en sportieve loopavond voor jong en oud.    De finish van de diverse afstanden zal wederom aan de overzijde van de Nieuwe Gracht plaatsvinden (tegenover de startplaats). \n  \n  \n 
URL:https://hardloopevenementen.com/loopagenda/grachtenloop-haarlem/
END:VEVENT
END:VCALENDAR